BEGIN:VCALENDAR
VERSION:2.0
PRODID:-//ESA-IPB - ECPv6.15.20//NONSGML v1.0//EN
CALSCALE:GREGORIAN
METHOD:PUBLISH
X-ORIGINAL-URL:https://esa.ipb.pt
X-WR-CALDESC:Eventos para ESA-IPB
REFRESH-INTERVAL;VALUE=DURATION:PT1H
X-Robots-Tag:noindex
X-PUBLISHED-TTL:PT1H
BEGIN:VTIMEZONE
TZID:Europe/Lisbon
BEGIN:DAYLIGHT
TZOFFSETFROM:+0000
TZOFFSETTO:+0100
TZNAME:WEST
DTSTART:20230326T010000
END:DAYLIGHT
BEGIN:STANDARD
TZOFFSETFROM:+0100
TZOFFSETTO:+0000
TZNAME:WET
DTSTART:20231029T010000
END:STANDARD
BEGIN:DAYLIGHT
TZOFFSETFROM:+0000
TZOFFSETTO:+0100
TZNAME:WEST
DTSTART:20240331T010000
END:DAYLIGHT
BEGIN:STANDARD
TZOFFSETFROM:+0100
TZOFFSETTO:+0000
TZNAME:WET
DTSTART:20241027T010000
END:STANDARD
BEGIN:DAYLIGHT
TZOFFSETFROM:+0000
TZOFFSETTO:+0100
TZNAME:WEST
DTSTART:20250330T010000
END:DAYLIGHT
BEGIN:STANDARD
TZOFFSETFROM:+0100
TZOFFSETTO:+0000
TZNAME:WET
DTSTART:20251026T010000
END:STANDARD
END:VTIMEZONE
BEGIN:VEVENT
DTSTART;VALUE=DATE:20240903
DTEND;VALUE=DATE:20240907
DTSTAMP:20260424T140150
CREATED:20230615T134306Z
LAST-MODIFIED:20240521T110021Z
UID:9272-1725321600-1725667199@esa.ipb.pt
SUMMARY:AgroStat 2024
DESCRIPTION:The AgroStat biannual series of conference are driven by the Agro-Industry Group of the French Statistical Society (SFdS)\, which is a non-profit organisation bringing together researchers\, engineers\, teachers and statistics users (https://www.sfds.asso.fr). The 16th Edition of the AgroStat Conference (AgroStat 2024) will take place from the 3th to 5th september 2024 in the city of Bragança\, Portugal\, hosted and organised by the Polytechnic Institute of Bragança (IPB). \n  \n \nhttp://agrostat2024.esa.ipb.pt/
URL:https://esa.ipb.pt/eventos/agrostat2024/
LOCATION:Escola Superior Agrária de Bragança\, Campus de Santa Apolónia 5300-253\, Bragança\, 5300-253\, Portugal
CATEGORIES:Congresso
ATTACH;FMTTYPE=image/jpeg:https://esa.ipb.pt/wp-content/uploads/2024-AgroStat-Web.jpg
END:VEVENT
BEGIN:VEVENT
DTSTART;TZID=Europe/Lisbon:20240919T170000
DTEND;TZID=Europe/Lisbon:20240919T180000
DTSTAMP:20260424T140150
CREATED:20240917T094338Z
LAST-MODIFIED:20240917T164124Z
UID:10368-1726765200-1726768800@esa.ipb.pt
SUMMARY:Seminários 2024: The story of honey. A vision from Malta
DESCRIPTION:Seminários 2024: The story of honey. A vision from Malta\nDr. Adrian Bugeja Douglas\nInstitute of Earth Systems\, Rural Sciences and Food Systems \n19 setembro 2024\n17h Auditório pequeno ESA-IPB \nInscrições em: https://forms.gle/YohgM8ExwShkFExGA
URL:https://esa.ipb.pt/eventos/seminarios-2024-the-story-of-honey-a-vision-from-malta/
LOCATION:Escola Superior Agrária de Bragança\, Campus de Santa Apolónia 5300-253\, Bragança\, 5300-253\, Portugal
CATEGORIES:Palestra
ATTACH;FMTTYPE=image/png:https://esa.ipb.pt/wp-content/uploads/SeminariosESA.png
END:VEVENT
BEGIN:VEVENT
DTSTART;VALUE=DATE:20240920
DTEND;VALUE=DATE:20240922
DTSTAMP:20260424T140150
CREATED:20240913T074439Z
LAST-MODIFIED:20240913T074439Z
UID:10325-1726790400-1726963199@esa.ipb.pt
SUMMARY:SusTec SUMMER SCHOOL - Oportunidades e desafios do setor vitivinícola: inovação e tecnologia da vinha ao vinho
DESCRIPTION:
URL:https://esa.ipb.pt/eventos/sustec-summer-school-oportunidades-e-desafios-do-setor-vitivinicola-inovacao-e-tecnologia-da-vinha-ao-vinho/
CATEGORIES:Curso
ATTACH;FMTTYPE=image/jpeg:https://esa.ipb.pt/wp-content/uploads/1.jpg
END:VEVENT
BEGIN:VEVENT
DTSTART;TZID=Europe/Lisbon:20240927T093000
DTEND;TZID=Europe/Lisbon:20240927T130000
DTSTAMP:20260424T140150
CREATED:20240924T175806Z
LAST-MODIFIED:20240925T074258Z
UID:10393-1727429400-1727442000@esa.ipb.pt
SUMMARY:Caminho dos Hospitais chega à ULS do Nordeste
DESCRIPTION:A Associação Portuguesa de Administradores Hospitalares (APAH) promove no próximo dia 27 de setembro a 28ª edição do Caminho dos Hospitais na Unidade Local de Saúde do Nordeste e que terá lugar na Escola Superior Agrária de Bragança do Instituto Politécnico de Bragança (Campus de Santa Apolónia). \nEsta edição será dedicada ao tema “Cuidar em proximidade: desafios e inovação no Nordeste” e incidirá sobre áreas\, projetos implementados ou em curso e desafios na ULS do Nordeste no contexto da inovação nos cuidados de saúde. \nCaso queira estar presente deverá efetuar a sua inscrição prévia aqui.
URL:https://esa.ipb.pt/eventos/caminho-dos-hospitais-chega-a-uls-do-nordeste/
LOCATION:Escola Superior Agrária de Bragança\, Campus de Santa Apolónia 5300-253\, Bragança\, 5300-253\, Portugal
CATEGORIES:Conferência
END:VEVENT
END:VCALENDAR