BEGIN:VCALENDAR
VERSION:2.0
PRODID:-//ESA-IPB - ECPv6.15.20//NONSGML v1.0//EN
CALSCALE:GREGORIAN
METHOD:PUBLISH
X-WR-CALNAME:ESA-IPB
X-ORIGINAL-URL:https://esa.ipb.pt
X-WR-CALDESC:Eventos para ESA-IPB
REFRESH-INTERVAL;VALUE=DURATION:PT1H
X-Robots-Tag:noindex
X-PUBLISHED-TTL:PT1H
BEGIN:VTIMEZONE
TZID:Europe/Lisbon
BEGIN:DAYLIGHT
TZOFFSETFROM:+0000
TZOFFSETTO:+0100
TZNAME:WEST
DTSTART:20230326T010000
END:DAYLIGHT
BEGIN:STANDARD
TZOFFSETFROM:+0100
TZOFFSETTO:+0000
TZNAME:WET
DTSTART:20231029T010000
END:STANDARD
BEGIN:DAYLIGHT
TZOFFSETFROM:+0000
TZOFFSETTO:+0100
TZNAME:WEST
DTSTART:20240331T010000
END:DAYLIGHT
BEGIN:STANDARD
TZOFFSETFROM:+0100
TZOFFSETTO:+0000
TZNAME:WET
DTSTART:20241027T010000
END:STANDARD
BEGIN:DAYLIGHT
TZOFFSETFROM:+0000
TZOFFSETTO:+0100
TZNAME:WEST
DTSTART:20250330T010000
END:DAYLIGHT
BEGIN:STANDARD
TZOFFSETFROM:+0100
TZOFFSETTO:+0000
TZNAME:WET
DTSTART:20251026T010000
END:STANDARD
END:VTIMEZONE
BEGIN:VEVENT
DTSTART;VALUE=DATE:20240709
DTEND;VALUE=DATE:20240712
DTSTAMP:20260425T025559
CREATED:20240702T092504Z
LAST-MODIFIED:20240702T092545Z
UID:10233-1720483200-1720742399@esa.ipb.pt
SUMMARY:SusTEC SUMMER SCHOOL "Rios e ribeiras do Nordeste Transmontano: Ameaças e estratégias de conservação"
DESCRIPTION:SusTEC SUMMER SCHOOL “Rios e ribeiras do Nordeste Transmontano: Ameaças e estratégias de conservação” de 9 a 11 de julho 2024 \nInscrições: https://docs.google.com/forms/d/13IYzdPSgxjkyYJMuKrTTOUPuj16G8kglfwafsVhJLSI \n\n			\n				\n			\n			\n				\n			\n			\n				\n			\n			\n				\n			\n		\n\nIn the context of the Summer School of the Associate Laboratory for Sustainability and Technology in Mountain Regions (SusTEC)\, the “SusTEC SUMMER SCHOOL “Rios e ribeiras do Nordeste Transmontano: Ameaças e estratégias de conservação” from tuesday\, 9 of july to thurday\, 11 of july 2024.\nTo register you can use the following link:\nhttps://docs.google.com/forms/d/13IYzdPSgxjkyYJMuKrTTOUPuj16G8kglfwafsVhJLSI/viewform?edit_requested=true \nThe course aims to train participants in the main threats and conservation strategies for the aquatic ecosystems of the north-east of Trás-os-Montes. The programme is part of the European Union (EU) Biodiversity Strategy for 2030 and reinforces the importance attached to the protection and restoration of rivers and streams and the sustainable economic and social development of the territory. It includes a theoretical approach to the region’s classified areas\, with a presentation of technical and scientific projects developed in the region\, complemented by a practical component\, which includes visits to protected areas – Montesinho Natural Park\, environmentally modified areas – Baixo Sabor Hydroelectric Power Station and areas targeted for rehabilitation – the urban stretch of the River Fervença.
URL:https://esa.ipb.pt/eventos/sustec-summer-school-rios-e-ribeiras-do-nordeste-transmontano-ameacas-e-estrategias-de-conservacao/
LOCATION:Escola Superior Agrária de Bragança\, Campus de Santa Apolónia 5300-253\, Bragança\, 5300-253\, Portugal
ATTACH;FMTTYPE=image/png:https://esa.ipb.pt/wp-content/uploads/1.png
END:VEVENT
BEGIN:VEVENT
DTSTART;TZID=Europe/Lisbon:20240715T140000
DTEND;TZID=Europe/Lisbon:20240715T173000
DTSTAMP:20260425T025559
CREATED:20240709T150956Z
LAST-MODIFIED:20240709T150956Z
UID:10251-1721052000-1721064600@esa.ipb.pt
SUMMARY:MONTESINHO: Uma Jornada Tecnológica pela Natureza e Cultura
DESCRIPTION:MONTESINHO: Uma Jornada Tecnológica pela Natureza e Cultura\nPrincipais Resultados do Projeto “Experienciar Montesinho: Partilhar o Parque Natural de Montesinho”\nLocal: Escola Superior Agrária\, Instituto Politécnico de Bragança\nAuditório Dionísio Gonçalves\nData: 15 de julho \n\n			\n				\n			\n			\n				\n			\n		\n\nIn the context of the project “Experience Montesinho: Sharing the Montesinho Natural Park”\, the seminar entitled “MONTESINHO: A Journey through Nature and Culture” will be held on 15 July 2024 at the Polytechnic Institute of Bragança-ESA\, Bragança.\nThe main results of the project will be presented at this event.\nRegistration for the event is mandatory and free of charge.\nTo register you can use the following link:\nhttps://qrco.de/bfCmOz
URL:https://esa.ipb.pt/eventos/montesinho-uma-jornada-tecnologica-pela-natureza-e-cultura/
LOCATION:Escola Superior Agrária de Bragança\, Campus de Santa Apolónia 5300-253\, Bragança\, 5300-253\, Portugal
CATEGORIES:Conferência
ATTACH;FMTTYPE=image/png:https://esa.ipb.pt/wp-content/uploads/montesinho1572024.png
END:VEVENT
END:VCALENDAR