BEGIN:VCALENDAR
VERSION:2.0
PRODID:-//ESA-IPB - ECPv6.15.20//NONSGML v1.0//EN
CALSCALE:GREGORIAN
METHOD:PUBLISH
X-ORIGINAL-URL:https://esa.ipb.pt
X-WR-CALDESC:Eventos para ESA-IPB
REFRESH-INTERVAL;VALUE=DURATION:PT1H
X-Robots-Tag:noindex
X-PUBLISHED-TTL:PT1H
BEGIN:VTIMEZONE
TZID:Europe/Lisbon
BEGIN:DAYLIGHT
TZOFFSETFROM:+0000
TZOFFSETTO:+0100
TZNAME:WEST
DTSTART:20080330T010000
END:DAYLIGHT
BEGIN:STANDARD
TZOFFSETFROM:+0100
TZOFFSETTO:+0000
TZNAME:WET
DTSTART:20081026T010000
END:STANDARD
BEGIN:DAYLIGHT
TZOFFSETFROM:+0000
TZOFFSETTO:+0100
TZNAME:WEST
DTSTART:20090329T010000
END:DAYLIGHT
BEGIN:STANDARD
TZOFFSETFROM:+0100
TZOFFSETTO:+0000
TZNAME:WET
DTSTART:20091025T010000
END:STANDARD
BEGIN:DAYLIGHT
TZOFFSETFROM:+0000
TZOFFSETTO:+0100
TZNAME:WEST
DTSTART:20100328T010000
END:DAYLIGHT
BEGIN:STANDARD
TZOFFSETFROM:+0100
TZOFFSETTO:+0000
TZNAME:WET
DTSTART:20101031T010000
END:STANDARD
END:VTIMEZONE
BEGIN:VEVENT
DTSTART;VALUE=DATE:20090128
DTEND;VALUE=DATE:20090129
DTSTAMP:20260425T160844
CREATED:20220106T105836Z
LAST-MODIFIED:20220106T105836Z
UID:7218-1233100800-1233187199@esa.ipb.pt
SUMMARY:Dia do IPB
DESCRIPTION:28 de Janeiro é o Dia do Instituto Politécnico de Bragança\, assinalando a tomada de posse da primeira Comissão Instaladora que se realizou em 1983.\nO IPB vem deste modo convidar para a Sessão solene do Dia do IPB\, que terá lugar no dia 28 de Janeiro próximo\, no Auditório Professor Dionísio Gonçalves\, com um programa que se iniciará pelas 15h com o cortejo de Doutores\, seguido das intervenções do Presidente da Associação Académica\, do Sr. Governador Civil\, do Sr. Presidente da Câmara Municipal de Bragança e do Sr. Presidente do IPB.\nSeguir-se-á a Oração de Sapiência proferida pelo Professor Doutor João Côrte-Real\, Professor Catedrático da Universidade de Évora e as entregas de prémios e diplomas aos melhores alunos de 2008 e de medalhas aos funcionários com 10 e 20 anos ao serviço do IPB. O cortejo de Doutores encerrará a Sessão solene\, à qual se seguirá um Porto de honra.
URL:https://esa.ipb.pt/eventos/2009-dia-do-ipb/
END:VEVENT
END:VCALENDAR