BEGIN:VCALENDAR
VERSION:2.0
PRODID:-//ESA-IPB - ECPv6.15.20//NONSGML v1.0//EN
CALSCALE:GREGORIAN
METHOD:PUBLISH
X-ORIGINAL-URL:https://esa.ipb.pt
X-WR-CALDESC:Eventos para ESA-IPB
REFRESH-INTERVAL;VALUE=DURATION:PT1H
X-Robots-Tag:noindex
X-PUBLISHED-TTL:PT1H
BEGIN:VTIMEZONE
TZID:Europe/Lisbon
BEGIN:DAYLIGHT
TZOFFSETFROM:+0000
TZOFFSETTO:+0100
TZNAME:WEST
DTSTART:20070325T010000
END:DAYLIGHT
BEGIN:STANDARD
TZOFFSETFROM:+0100
TZOFFSETTO:+0000
TZNAME:WET
DTSTART:20071028T010000
END:STANDARD
BEGIN:DAYLIGHT
TZOFFSETFROM:+0000
TZOFFSETTO:+0100
TZNAME:WEST
DTSTART:20080330T010000
END:DAYLIGHT
BEGIN:STANDARD
TZOFFSETFROM:+0100
TZOFFSETTO:+0000
TZNAME:WET
DTSTART:20081026T010000
END:STANDARD
BEGIN:DAYLIGHT
TZOFFSETFROM:+0000
TZOFFSETTO:+0100
TZNAME:WEST
DTSTART:20090329T010000
END:DAYLIGHT
BEGIN:STANDARD
TZOFFSETFROM:+0100
TZOFFSETTO:+0000
TZNAME:WET
DTSTART:20091025T010000
END:STANDARD
END:VTIMEZONE
BEGIN:VEVENT
DTSTART;VALUE=DATE:20081211
DTEND;VALUE=DATE:20081218
DTSTAMP:20260425T234842
CREATED:20220106T105836Z
LAST-MODIFIED:20220106T105836Z
UID:7197-1228953600-1229558399@esa.ipb.pt
SUMMARY:Formação Certificada ESRI - Tecnologia Base :: ArcGIS Desktop
DESCRIPTION:
URL:https://esa.ipb.pt/eventos/2008-formacao-certificada-esri-tecnologia-base-arcgis-desktop/
END:VEVENT
BEGIN:VEVENT
DTSTART;VALUE=DATE:20081212
DTEND;VALUE=DATE:20081213
DTSTAMP:20260425T234842
CREATED:20220106T105836Z
LAST-MODIFIED:20220106T105836Z
UID:7210-1229040000-1229126399@esa.ipb.pt
SUMMARY:Seminário “Energias Renováveis e Alterações Climáticas: A Produção de Biomassa”
DESCRIPTION:No dia 12 de Dezembro\, com início às 9H00\, no auditório Dionísio Gonçalves da Escola Superior Agrária\, terá lugar o Seminário “Energias Renováveis e Alterações Climáticas: A Produção de Biomassa”.
URL:https://esa.ipb.pt/eventos/seminario-energias-renovaveis-e-alteracoes-climaticas-a-producao-de-biomassa/
END:VEVENT
BEGIN:VEVENT
DTSTART;VALUE=DATE:20081219
DTEND;VALUE=DATE:20081220
DTSTAMP:20260425T234842
CREATED:20220106T105836Z
LAST-MODIFIED:20220106T105836Z
UID:7214-1229644800-1229731199@esa.ipb.pt
SUMMARY:Seminário: Problemas patológicos en especies forestales de la Peninsula Ibérica
DESCRIPTION:Dia 19 de Dezembro\, pelas 14h30m\, no Auditório Pequeno da ESAB\, Seminário:\n“Problemas patológicos en especies forestales de la Peninsula Ibérica“: Prof. Julio Javier Díez – Escuela Técnica Superior de Ingenierías Agrarias de Palência/Universidad de Valladolid
URL:https://esa.ipb.pt/eventos/seminario-problemas-patologicos-en-especies-forestales-de-la-peninsula-iberica/
CATEGORIES:Seminário
END:VEVENT
END:VCALENDAR