BEGIN:VCALENDAR
VERSION:2.0
PRODID:-//ESA-IPB - ECPv6.15.20//NONSGML v1.0//EN
CALSCALE:GREGORIAN
METHOD:PUBLISH
X-WR-CALNAME:ESA-IPB
X-ORIGINAL-URL:https://esa.ipb.pt
X-WR-CALDESC:Eventos para ESA-IPB
REFRESH-INTERVAL;VALUE=DURATION:PT1H
X-Robots-Tag:noindex
X-PUBLISHED-TTL:PT1H
BEGIN:VTIMEZONE
TZID:Europe/Lisbon
BEGIN:DAYLIGHT
TZOFFSETFROM:+0000
TZOFFSETTO:+0100
TZNAME:WEST
DTSTART:20220327T010000
END:DAYLIGHT
BEGIN:STANDARD
TZOFFSETFROM:+0100
TZOFFSETTO:+0000
TZNAME:WET
DTSTART:20221030T010000
END:STANDARD
BEGIN:DAYLIGHT
TZOFFSETFROM:+0000
TZOFFSETTO:+0100
TZNAME:WEST
DTSTART:20230326T010000
END:DAYLIGHT
BEGIN:STANDARD
TZOFFSETFROM:+0100
TZOFFSETTO:+0000
TZNAME:WET
DTSTART:20231029T010000
END:STANDARD
BEGIN:DAYLIGHT
TZOFFSETFROM:+0000
TZOFFSETTO:+0100
TZNAME:WEST
DTSTART:20240331T010000
END:DAYLIGHT
BEGIN:STANDARD
TZOFFSETFROM:+0100
TZOFFSETTO:+0000
TZNAME:WET
DTSTART:20241027T010000
END:STANDARD
BEGIN:DAYLIGHT
TZOFFSETFROM:+0000
TZOFFSETTO:+0100
TZNAME:WEST
DTSTART:20250330T010000
END:DAYLIGHT
BEGIN:STANDARD
TZOFFSETFROM:+0100
TZOFFSETTO:+0000
TZNAME:WET
DTSTART:20251026T010000
END:STANDARD
END:VTIMEZONE
BEGIN:VEVENT
DTSTART;VALUE=DATE:20240520
DTEND;VALUE=DATE:20240526
DTSTAMP:20260424T070823
CREATED:20240513T171814Z
LAST-MODIFIED:20240520T085330Z
UID:10110-1716163200-1716681599@esa.ipb.pt
SUMMARY:Semana d’África 2024
DESCRIPTION:Semana de África 2024: https://aeab.ipb.pt/semanaafrica/ \nDos diversos eventos a decorrer nesta semana\, destacamos: \n\n19 de maio\, 21h30 – Final do campeonato mundial IPB de futsal e entrega de prémios às melhores equipas masculinas e femininas (pavilhão Arnaldo Pereira);\n20 de maio 09h30 – Abertura da semana de África\, com a presença de Sua Excelência o Presidente da República de Cabo Verde;\n20 de maio às 14h30 – Abertura da grÁfrica- 1º Encontro de Escritores da Lusofonia\, com a presença de Sua Exª o Presidente da República de Cabo Verde. O Encontro decorre durante os dias 20 e 21;\n22 e 23 de maio – Festival Intercultural Regional de Bragança \, no auditório ao ar livre do IPB; e Corrida da Liberdade IPB4All (dia 22\, integrada ainda nas comemorações dos 50 anos do 25 de abril);\n23 de maio – CinegrÁfrica;\n23 e 24 de maio – Jornadas AfroCiências.\n\nO programa da Semana de África do IPB pode ser consultado em https://aeab.ipb.pt/semanaafrica/
URL:https://esa.ipb.pt/eventos/semana-dafrica-2024/
ATTACH;FMTTYPE=image/png:https://esa.ipb.pt/wp-content/uploads/semana_Africa_2024_ipb-1.png
END:VEVENT
BEGIN:VEVENT
DTSTART;TZID=Europe/Lisbon:20240516T170000
DTEND;TZID=Europe/Lisbon:20240516T200000
DTSTAMP:20260424T070823
CREATED:20240514T135332Z
LAST-MODIFIED:20240514T135332Z
UID:10118-1715878800-1715889600@esa.ipb.pt
SUMMARY:Ação de informação: produção agropecuária - influência no setor agroalimentar
DESCRIPTION:
URL:https://esa.ipb.pt/eventos/acao-de-informacao-producao-agropecuaria-influencia-no-setor-agroalimentar/
LOCATION:Escola Superior Agrária de Bragança\, Campus de Santa Apolónia 5300-253\, Bragança\, 5300-253\, Portugal
CATEGORIES:Curso
END:VEVENT
BEGIN:VEVENT
DTSTART;TZID=Europe/Lisbon:20240423T090000
DTEND;TZID=Europe/Lisbon:20240423T123000
DTSTAMP:20260424T070823
CREATED:20240415T080703Z
LAST-MODIFIED:20240418T082628Z
UID:10000-1713862800-1713875400@esa.ipb.pt
SUMMARY:Jornadas Técnicas de REGENERAÇÃO DE SOLOS
DESCRIPTION:Jornadas Técnicas de Regeneração de Solos\nEste evento surge no âmbito do Projeto SOILING\, sendo organizado pelo Instituto Politécnico de Bragança (IPB) em parceria com o MORE CoLAB e a Faculdade de Ciências da Universidade de Lisboa\, e terá lugar no Auditório Dionísio Gonçalves ESA/IPB. \nAs Jornadas Técnicas de Regeneração de Solos decorrem em formato presencial e online e serão dedicadas ao contributo do Projeto SOILING nos Lagos do Sabor. \n23 abril 2024 ESA-IPB \nA participação tem inscrição gratuita\, mas obrigatória\, através do link: https://form.123formbuilder.com/6649774/soiling
URL:https://esa.ipb.pt/eventos/jornadas-tecnicas-de-regeneracao-de-solos/
LOCATION:Escola Superior Agrária de Bragança\, Campus de Santa Apolónia 5300-253\, Bragança\, 5300-253\, Portugal
CATEGORIES:Jornadas
ATTACH;FMTTYPE=image/png:https://esa.ipb.pt/wp-content/uploads/AGENDA_Jornadas-SOILING_.png
END:VEVENT
BEGIN:VEVENT
DTSTART;VALUE=DATE:20240422
DTEND;VALUE=DATE:20240425
DTSTAMP:20260424T070823
CREATED:20240424T082040Z
LAST-MODIFIED:20240424T102141Z
UID:10061-1713744000-1714003199@esa.ipb.pt
SUMMARY:Passeios Botânico-Veterinários: Plantas tóxicas para ruminantes
DESCRIPTION:Passeios Botânico-Veterinários: Plantas tóxicas para ruminantes\nCarlos Aguiar \n22\, 23 e 24 de abril 15-17h\nCampus de Santa Apolónia\nESA-IPB
URL:https://esa.ipb.pt/eventos/passeios-botanico-veterinarios-plantas-toxicas-para-ruminantes/
LOCATION:Escola Superior Agrária de Bragança\, Campus de Santa Apolónia 5300-253\, Bragança\, 5300-253\, Portugal
END:VEVENT
BEGIN:VEVENT
DTSTART;TZID=Europe/Lisbon:20240416T170000
DTEND;TZID=Europe/Lisbon:20240416T190000
DTSTAMP:20260424T070823
CREATED:20240410T090922Z
LAST-MODIFIED:20240410T091258Z
UID:9979-1713286800-1713294000@esa.ipb.pt
SUMMARY:Seminários Enfermagem Veterinária: Atuação veterinária em situação de catástrofes ou emergência médica
DESCRIPTION:Seminários Enfermagem Veterinária\nAtuação veterinária em situação de catástrofes ou emergência médica\nAna Cláudia Coelho – UTAD \n16 de abril de 2025 – 17-19h – Auditório Pequeno ESA-IPB
URL:https://esa.ipb.pt/eventos/seminarios-enfermagem-veterinaria-atuacao-veterinaria-em-situacao-de-catastrofes-ou-emergencia-medica/
LOCATION:Escola Superior Agrária de Bragança\, Campus de Santa Apolónia 5300-253\, Bragança\, 5300-253\, Portugal
CATEGORIES:Seminário
ATTACH;FMTTYPE=image/png:https://esa.ipb.pt/wp-content/uploads/ev-3.png
END:VEVENT
BEGIN:VEVENT
DTSTART;TZID=Europe/Lisbon:20240416T103000
DTEND;TZID=Europe/Lisbon:20240416T123000
DTSTAMP:20260424T070824
CREATED:20240410T091545Z
LAST-MODIFIED:20240410T091545Z
UID:9988-1713263400-1713270600@esa.ipb.pt
SUMMARY:Apresentação da Ordem dos Engenheiros junto das Escolas Agrárias - O futuro da Engenharia na área das Ciências Agrárias
DESCRIPTION:Auditório Dionísio Gonçalves\, 16 de abril (terça feira)\, pelas 10h30 \nO Conselho Nacional do Colégio de Engenharia Agronómica da Ordem dos Engenheiros\, propõe fazer um debate sobre o futuro da Engenharia na área das Ciências Agrárias com a comunidade da Escola Superior Agrária de Bragança: alunos\, professores e investigadores. \nSerão apresentadas e debatidas as seguintes temáticas: \n\nQue novas competências exige a profissão de engenheiro em Ciências Agrárias;\nQue necessidades de adaptação das formações;\nComo valorizar a profissão e atrair mais candidatos;\nComo promover uma mais estreita interligação da profissão à investigação científica;\nQue papel deve desempenhar a Ordem dos Engenheiros na valorização da profissão ?\n\nMuito se agradece a participação de todos.
URL:https://esa.ipb.pt/eventos/apresentacao-da-ordem-dos-engenheiros-junto-das-escolas-agrarias-o-futuro-da-engenharia-na-area-das-ciencias-agrarias/
LOCATION:Escola Superior Agrária de Bragança\, Campus de Santa Apolónia 5300-253\, Bragança\, 5300-253\, Portugal
CATEGORIES:Palestra
END:VEVENT
BEGIN:VEVENT
DTSTART;TZID=Europe/Lisbon:20240410T143000
DTEND;TZID=Europe/Lisbon:20240410T170000
DTSTAMP:20260424T070824
CREATED:20240403T170220Z
LAST-MODIFIED:20240403T170220Z
UID:9970-1712759400-1712768400@esa.ipb.pt
SUMMARY:Seminários 2024: Tendências Tecnológicas na Produção Leiteira: Rumo à Indústria 4.0
DESCRIPTION:
URL:https://esa.ipb.pt/eventos/seminarios-2024-tendencias-tecnologicas-na-producao-leiteira-rumo-a-industria-4-0/
LOCATION:Escola Superior Agrária de Bragança\, Campus de Santa Apolónia 5300-253\, Bragança\, 5300-253\, Portugal
CATEGORIES:Seminário
ATTACH;FMTTYPE=image/png:https://esa.ipb.pt/wp-content/uploads/2024-Seminarios-ESA_Banner-e1711564369445.png
END:VEVENT
BEGIN:VEVENT
DTSTART;TZID=Europe/Lisbon:20240403T143000
DTEND;TZID=Europe/Lisbon:20240403T170000
DTSTAMP:20260424T070824
CREATED:20240322T182909Z
LAST-MODIFIED:20240327T183000Z
UID:9949-1712154600-1712163600@esa.ipb.pt
SUMMARY:Seminários 2024: Novas Tecnologias Aplicadas à Ciência Animal
DESCRIPTION:
URL:https://esa.ipb.pt/eventos/seminarios-2024-novas-tecnologias-aplicadas-a-ciencia-animal/
LOCATION:Escola Superior Agrária de Bragança\, Campus de Santa Apolónia 5300-253\, Bragança\, 5300-253\, Portugal
CATEGORIES:Seminário
ATTACH;FMTTYPE=image/png:https://esa.ipb.pt/wp-content/uploads/2024-Seminarios-ESA_Banner-e1711564369445.png
END:VEVENT
BEGIN:VEVENT
DTSTART;VALUE=DATE:20240321
DTEND;VALUE=DATE:20240325
DTSTAMP:20260424T070824
CREATED:20240319T094757Z
LAST-MODIFIED:20240319T100608Z
UID:9940-1710979200-1711324799@esa.ipb.pt
SUMMARY:XXXIII Taça das Agrárias
DESCRIPTION:A Escola Superior Agrária de Bragança será a anfitriã da XXXIII edição da Taça das Agrárias. O encontro anual dos alunos das escolas agrárias do país tem início quinta feira\, 21 de março\, e prolonga-se até ao dia 24 de março\, domingo. \nO evento promove uma componente desportiva\, desde competições de futebol a jogos tradicionais\, dinamizando o convívio entre alunos e o “espírito agrário”. A acompanhar\, uma agenda variada de música e animação. \nDestaque para sábado\, 23 de março\, dia em que se realiza um dos momentos mais aguardados e emblemáticos do cartaz\, a Garraiada\, a partir das 17 horas no auditório ao ar livre do IPB\, onde são prometidos momentos de animação. \nO último dia da Taça das Agrárias\, a 24 de março\, será dedicado à entrega dos prémios nas diversas modalidades e um almoço de despedida. \nA XXXIII edição da Taça das Agrárias é organizada pela Associação de Estudantes da ESAB e conta com o apoio da ESA e do IPB.
URL:https://esa.ipb.pt/eventos/xxxiii-taca-das-agrarias/
LOCATION:Escola Superior Agrária de Bragança\, Campus de Santa Apolónia 5300-253\, Bragança\, 5300-253\, Portugal
END:VEVENT
BEGIN:VEVENT
DTSTART;TZID=Europe/Lisbon:20240308T090000
DTEND;TZID=Europe/Lisbon:20240308T170000
DTSTAMP:20260424T070824
CREATED:20240301T101629Z
LAST-MODIFIED:20240301T101705Z
UID:9917-1709888400-1709917200@esa.ipb.pt
SUMMARY:Workshop: “Reabilitação funcional o que fazer\, quando fazer e porquê!”
DESCRIPTION:No próximo dia 8 de março\, o NEV irá organizar um Workshop com o tema “Reabilitação funcional o que fazer\, quando fazer e porquê!” com as Enfermeiras Veterinárias Catarina Oliveira e Inês Rijo e com a Médica Veterinária Carla Carvalho \nInscrições: https://shorturl.at/dgpq4
URL:https://esa.ipb.pt/eventos/workshop-reabilitacao-funcional-o-que-fazer-quando-fazer-e-porque/
LOCATION:Escola Superior Agrária de Bragança\, Campus de Santa Apolónia 5300-253\, Bragança\, 5300-253\, Portugal
CATEGORIES:Workshop
END:VEVENT
BEGIN:VEVENT
DTSTART;TZID=Europe/Lisbon:20240307T143000
DTEND;TZID=Europe/Lisbon:20240307T170000
DTSTAMP:20260424T070824
CREATED:20240226T181205Z
LAST-MODIFIED:20240226T181205Z
UID:9902-1709821800-1709830800@esa.ipb.pt
SUMMARY:Palestra: Adaptação do treino ao contexto clínico
DESCRIPTION:Palestra: Adaptação do treino ao contexto clínico\n7 Março 14h30 ESA-IPB\nOrganização: Núcleo Estudantes Veterinária \nFormulário de Inscrição: https://shorturl.at/lHJRV
URL:https://esa.ipb.pt/eventos/palestra-adaptacao-do-treino-ao-contexto-clinico/
LOCATION:Escola Superior Agrária de Bragança\, Campus de Santa Apolónia 5300-253\, Bragança\, 5300-253\, Portugal
CATEGORIES:Palestra
END:VEVENT
BEGIN:VEVENT
DTSTART;TZID=Europe/Lisbon:20240307T110000
DTEND;TZID=Europe/Lisbon:20240307T120000
DTSTAMP:20260424T070824
CREATED:20240307T111241Z
LAST-MODIFIED:20240307T111241Z
UID:9930-1709809200-1709812800@esa.ipb.pt
SUMMARY:Workshop de NIR
DESCRIPTION:Na próxima quinta-feira (7 de março)\, João Oliveira da empresa ILC vai apresentar o NIR DA7250 na ESA-IPB\, na sala G3-S3/01\, pelas 11 horas. \nFará a demonstração prática das capacidades avançadas do NIR DA7250\, incluindo a exploração das bases de dados abrangentes: azeite\, farinhas\, rações\, carnes\, produtos lácteos\, e muito mais. \nO workshop está aberto a todos os investigadores com interesse em NIR e suas aplicações. \nÉ uma oportunidade de aprofundar conhecimentos sobre análise de materiais com NIR. \nPodem trazer as vossas amostras para verificarem as capacidades analíticas do NIR.
URL:https://esa.ipb.pt/eventos/workshop-de-nir/
LOCATION:Escola Superior Agrária de Bragança\, Campus de Santa Apolónia 5300-253\, Bragança\, 5300-253\, Portugal
CATEGORIES:Workshop
END:VEVENT
BEGIN:VEVENT
DTSTART;TZID=Europe/Lisbon:20240302T100000
DTEND;TZID=Europe/Lisbon:20240302T123000
DTSTAMP:20260424T070824
CREATED:20240220T091253Z
LAST-MODIFIED:20240220T091253Z
UID:9884-1709373600-1709382600@esa.ipb.pt
SUMMARY:Seminário Exóticos: Cuidados de Enfermagem em Novos Animais de Companhia
DESCRIPTION:Nos próximos dias 1 e 2 de março\, o NEV irá organizar um Seminário de Exóticos com os Enfermeiros Veterinários Rui Ferreira e Sérgio Almeida\, com os seguintes temas: \n– 1 de Março: Maneio de Animais Exóticos\, das 10h00 às 12h30 e das 14h00 às 17h00\n– 2 de Março: Cuidados de Enfermagem em Novos Animais de Companhia\, das 10h00 às 12h30 \nO Seminário terá o custo de 8€\, em separado cada Palestra terá o custo de 5€. Com emissão de certificados. \nFormulário de inscrição: https://docs.google.com/forms/d/e/1FAIpQLScnhINfmk2R-KQgQbLo8RFboicHWRTf-jCfiBsZwJK6JfXu6g/viewform?pli=1
URL:https://esa.ipb.pt/eventos/seminario-exoticos-cuidados-de-enfermagem-em-novos-animais-de-companhia/
LOCATION:Escola Superior Agrária de Bragança\, Campus de Santa Apolónia 5300-253\, Bragança\, 5300-253\, Portugal
CATEGORIES:Seminário
END:VEVENT
BEGIN:VEVENT
DTSTART;TZID=Europe/Lisbon:20240301T100000
DTEND;TZID=Europe/Lisbon:20240301T170000
DTSTAMP:20260424T070824
CREATED:20240220T091056Z
LAST-MODIFIED:20240220T091056Z
UID:9880-1709287200-1709312400@esa.ipb.pt
SUMMARY:Seminário Exóticos: Maneio de Animais Exóticos
DESCRIPTION:Nos próximos dias 1 e 2 de março\, o NEV irá organizar um Seminário de Exóticos com os Enfermeiros Veterinários Rui Ferreira e Sérgio Almeida\, com os seguintes temas: \n– 1 de Março: Maneio de Animais Exóticos\, das 10h00 às 12h30 e das 14h00 às 17h00\n– 2 de Março: Cuidados de Enfermagem em Novos Animais de Companhia\, das 10h00 às 12h30 \nO Seminário terá o custo de 8€\, em separado cada Palestra terá o custo de 5€. Com emissão de certificados. \nFormulário de inscrição: https://docs.google.com/forms/d/e/1FAIpQLScnhINfmk2R-KQgQbLo8RFboicHWRTf-jCfiBsZwJK6JfXu6g/viewform?pli=1
URL:https://esa.ipb.pt/eventos/seminario-exoticos-maneio-de-animais-exoticos/
LOCATION:Escola Superior Agrária de Bragança\, Campus de Santa Apolónia 5300-253\, Bragança\, 5300-253\, Portugal
CATEGORIES:Seminário
END:VEVENT
BEGIN:VEVENT
DTSTART;TZID=Europe/Lisbon:20240222T143000
DTEND;TZID=Europe/Lisbon:20240222T170000
DTSTAMP:20260424T070824
CREATED:20240221T122022Z
LAST-MODIFIED:20240327T183107Z
UID:9888-1708612200-1708621200@esa.ipb.pt
SUMMARY:Seminários 2024: From field to table: the problem of mycotoxins in cereals
DESCRIPTION:Seminários 2024: From field to table: the problem of mycotoxins in cereals\nSafa Oufensou\nUniversity of Sassari\, Sardinia\, Italy\n22 de fevereiro 2024\n14h30 · G5-S3/02\nSeminário remoto via Zoom
URL:https://esa.ipb.pt/eventos/seminarios-2024-from-field-to-table-the-problem-of-mycotoxins-in-cereals/
LOCATION:Escola Superior Agrária de Bragança\, Campus de Santa Apolónia 5300-253\, Bragança\, 5300-253\, Portugal
CATEGORIES:Seminário
ATTACH;FMTTYPE=image/png:https://esa.ipb.pt/wp-content/uploads/2024-Seminarios-ESA_Banner-e1711564369445.png
END:VEVENT
BEGIN:VEVENT
DTSTART;TZID=Europe/Lisbon:20240129T143000
DTEND;TZID=Europe/Lisbon:20240129T173000
DTSTAMP:20260424T070824
CREATED:20240126T161800Z
LAST-MODIFIED:20240126T162357Z
UID:9822-1706538600-1706549400@esa.ipb.pt
SUMMARY:Dia do IPB 2024
DESCRIPTION:O Instituto Politécnico de Bragança completa 41 anos de existência no próximo dia 28 de janeiro. A Sessão Solene de Comemoração decorrerá a 29 de janeiro\, segunda feira\, no Auditório Dionísio Gonçalves da Escola Superior Agrária às 14h30 e a Oração de Sapiência deste ano estará a cargo de Manuel Frederico Tojal de Valsassina Heitor. \nPor ocasião das comemorações do Dia do Instituto o IPB vai entregar as Medalhas de Honra Nacional a Helena Barroco pelo seu posionamento humano e de cooperação com o Instituto Politécnico de Bragança\, e a Medalha de Honra Internacional ao Centro Federal de Educação Tencológica Celso Suckow da Fonseca (CEFET/RJ\, Brasil)\, como reconhecimento da cooperação entre as instituições desde agosto de 2011 e pela perspetiva do seu contínuo alargamento e impacto. \nNesta Sessão Solene será também reconhecida a Universidade Tecnológica Federal do Paraná e as suas equipas reitorais\, pelos 10 anos do Programa de Dupla Diplomação\, uma cooperação internacional de impacto único e que ao longo dos últimos 10 anos envolveu a participação massiva de mais de 800 estudantes e a contribuição de mais de 700 docentes de ambas as instituições. \nDo programa constam ainda os momentos de entrega de prémios aos melhores alunos\, Tíítulos de Especialista e as medalhas comemorativas aos funcionários do IPB pelos anos de serviço. \nA sessão vai ser transmitida através do canal de YouTube do IPB\nhttps://www.youtube.com/@InstitutoPolitecnicodeBraganca
URL:https://esa.ipb.pt/eventos/dia-do-ipb-2024/
LOCATION:Escola Superior Agrária de Bragança\, Campus de Santa Apolónia 5300-253\, Bragança\, 5300-253\, Portugal
ATTACH;FMTTYPE=image/jpeg:https://esa.ipb.pt/wp-content/uploads/Dia_IPB_2024-1.jpg
END:VEVENT
BEGIN:VEVENT
DTSTART;TZID=Europe/Lisbon:20240119T110000
DTEND;TZID=Europe/Lisbon:20240119T130000
DTSTAMP:20260424T070824
CREATED:20240118T165103Z
LAST-MODIFIED:20240118T165116Z
UID:9772-1705662000-1705669200@esa.ipb.pt
SUMMARY:Seminários Luso-Brasileiros de Zootecnia: Biotécnicas aplicadas à produção e transferência de embriões bovinos
DESCRIPTION:
URL:https://esa.ipb.pt/eventos/seminarios-luso-brasileiros-de-zootecnia-biotecninas-aplicadas-a-producao-e-transferencia-de-embrioes-bovinos/
LOCATION:Escola Superior Agrária de Bragança\, Campus de Santa Apolónia 5300-253\, Bragança\, 5300-253\, Portugal
CATEGORIES:Seminário
END:VEVENT
BEGIN:VEVENT
DTSTART;TZID=Europe/Lisbon:20240113T110000
DTEND;TZID=Europe/Lisbon:20240113T130000
DTSTAMP:20260424T070824
CREATED:20240111T121616Z
LAST-MODIFIED:20250528T100724Z
UID:9768-1705143600-1705150800@esa.ipb.pt
SUMMARY:Seminários Luso-Brasileiros de Zootecnia: Aspetos práticos da transferência de embriões em equinos
DESCRIPTION:
URL:https://esa.ipb.pt/eventos/seminarios-luso-brasileiros-de-zootecnia-aspetos-praticos-da-transferencia-de-embrioes-em-equinos/
LOCATION:Escola Superior Agrária de Bragança\, Campus de Santa Apolónia 5300-253\, Bragança\, 5300-253\, Portugal
CATEGORIES:Seminário
END:VEVENT
BEGIN:VEVENT
DTSTART;TZID=Europe/Lisbon:20240111T140000
DTEND;TZID=Europe/Lisbon:20240111T190000
DTSTAMP:20260424T070824
CREATED:20240111T120835Z
LAST-MODIFIED:20240111T120835Z
UID:9764-1704981600-1704999600@esa.ipb.pt
SUMMARY:Seminário: CTeSP Cuidados Veterinários
DESCRIPTION:
URL:https://esa.ipb.pt/eventos/seminario-ctesp-cuidados-veterinarios/
LOCATION:Escola Superior Agrária de Bragança\, Campus de Santa Apolónia 5300-253\, Bragança\, 5300-253\, Portugal
CATEGORIES:Seminário
END:VEVENT
BEGIN:VEVENT
DTSTART;TZID=Europe/Lisbon:20240111T090000
DTEND;TZID=Europe/Lisbon:20240111T110000
DTSTAMP:20260424T070824
CREATED:20240111T084311Z
LAST-MODIFIED:20240410T142324Z
UID:9760-1704963600-1704970800@esa.ipb.pt
SUMMARY:Seminários de Enfermagem Veterinária: Problemas Dermatológicos em Cães e Gatos
DESCRIPTION:
URL:https://esa.ipb.pt/eventos/seminarios-de-enfermagem-veterinaria-problemas-dermatologicos-em-caes-e-gatos/
LOCATION:Escola Superior Agrária de Bragança\, Campus de Santa Apolónia 5300-253\, Bragança\, 5300-253\, Portugal
CATEGORIES:Seminário
ATTACH;FMTTYPE=image/png:https://esa.ipb.pt/wp-content/uploads/ev-3.png
END:VEVENT
BEGIN:VEVENT
DTSTART;TZID=Europe/Lisbon:20240110T140000
DTEND;TZID=Europe/Lisbon:20240110T170000
DTSTAMP:20260424T070824
CREATED:20240109T141607Z
LAST-MODIFIED:20240410T142401Z
UID:9757-1704895200-1704906000@esa.ipb.pt
SUMMARY:Seminários de Enfermagem Veterinária: Higiene e Enfermagem Veterinária Preventiva
DESCRIPTION:
URL:https://esa.ipb.pt/eventos/seminarios-de-enfermagem-veterinaria-higiene-e-enfermagem-veterinaria-preventiva/
LOCATION:Escola Superior Agrária de Bragança\, Campus de Santa Apolónia 5300-253\, Bragança\, 5300-253\, Portugal
CATEGORIES:Seminário
ATTACH;FMTTYPE=image/png:https://esa.ipb.pt/wp-content/uploads/ev-3.png
END:VEVENT
BEGIN:VEVENT
DTSTART;TZID=Europe/Lisbon:20231215T110000
DTEND;TZID=Europe/Lisbon:20231215T130000
DTSTAMP:20260424T070824
CREATED:20231211T171508Z
LAST-MODIFIED:20231211T171508Z
UID:9722-1702638000-1702645200@esa.ipb.pt
SUMMARY:Seminários Luso-Brasileiros de Zootecnia: Aspetos morfo\, fisio e biotecnológicos da reprodução de peixes de água doce
DESCRIPTION:
URL:https://esa.ipb.pt/eventos/seminarios-luso-brasileiros-de-zootecnia-aspetos-morfo-fisio-e-biotecnologicos-da-reproducao-de-peixes-de-agua-doce/
LOCATION:Escola Superior Agrária de Bragança\, Campus de Santa Apolónia 5300-253\, Bragança\, 5300-253\, Portugal
CATEGORIES:Seminário
END:VEVENT
BEGIN:VEVENT
DTSTART;TZID=Europe/Lisbon:20231214T160000
DTEND;TZID=Europe/Lisbon:20231214T180000
DTSTAMP:20260424T070824
CREATED:20231214T095647Z
LAST-MODIFIED:20240410T142822Z
UID:9732-1702569600-1702576800@esa.ipb.pt
SUMMARY:Seminários de Enfermagem Veterinária: Diagnóstico dermatológico em pequenos animais
DESCRIPTION:
URL:https://esa.ipb.pt/eventos/seminarios-de-enfermagem-veterinaria-diagnostico-dermatologico-em-pequenos-animais/
LOCATION:Escola Superior Agrária de Bragança\, Campus de Santa Apolónia 5300-253\, Bragança\, 5300-253\, Portugal
CATEGORIES:Seminário
ATTACH;FMTTYPE=image/png:https://esa.ipb.pt/wp-content/uploads/ev-3.png
END:VEVENT
BEGIN:VEVENT
DTSTART;TZID=Europe/Lisbon:20231213T150000
DTEND;TZID=Europe/Lisbon:20231213T170000
DTSTAMP:20260424T070824
CREATED:20231211T171111Z
LAST-MODIFIED:20240410T142533Z
UID:9719-1702479600-1702486800@esa.ipb.pt
SUMMARY:Seminários de Enfermagem Veterinária: Bio Security\, Safety & Terrorism
DESCRIPTION:
URL:https://esa.ipb.pt/eventos/seminarios-de-enfermagem-veterinaria-bio-security-safety-terrorism/
LOCATION:Escola Superior Agrária de Bragança\, Campus de Santa Apolónia 5300-253\, Bragança\, 5300-253\, Portugal
CATEGORIES:Seminário
ATTACH;FMTTYPE=image/png:https://esa.ipb.pt/wp-content/uploads/ev-3.png
END:VEVENT
BEGIN:VEVENT
DTSTART;TZID=Europe/Lisbon:20231213T143000
DTEND;TZID=Europe/Lisbon:20231213T170000
DTSTAMP:20260424T070824
CREATED:20231205T143602Z
LAST-MODIFIED:20231205T143647Z
UID:9707-1702477800-1702486800@esa.ipb.pt
SUMMARY:2º Encontro de Cereais Tradicionais
DESCRIPTION:
URL:https://esa.ipb.pt/eventos/2-encontro-de-cereais-tradicionais/
LOCATION:Escola Superior Agrária de Bragança\, Campus de Santa Apolónia 5300-253\, Bragança\, 5300-253\, Portugal
CATEGORIES:Conferência
END:VEVENT
BEGIN:VEVENT
DTSTART;TZID=Europe/Lisbon:20231212T090000
DTEND;TZID=Europe/Lisbon:20231212T130000
DTSTAMP:20260424T070824
CREATED:20231211T171704Z
LAST-MODIFIED:20231211T171704Z
UID:9725-1702371600-1702386000@esa.ipb.pt
SUMMARY:Seminário: Nutrição do cão e do gato
DESCRIPTION:
URL:https://esa.ipb.pt/eventos/seminario-nutricao-do-cao-e-do-gato/
LOCATION:Escola Superior Agrária de Bragança\, Campus de Santa Apolónia 5300-253\, Bragança\, 5300-253\, Portugal
CATEGORIES:Seminário
END:VEVENT
BEGIN:VEVENT
DTSTART;TZID=Europe/Lisbon:20231207T090000
DTEND;TZID=Europe/Lisbon:20231207T110000
DTSTAMP:20260424T070824
CREATED:20231206T144240Z
LAST-MODIFIED:20240410T142539Z
UID:9713-1701939600-1701946800@esa.ipb.pt
SUMMARY:Seminários de Enfermagem Veterinária: Manifestações cutâneas associadas a doenças sistémicas
DESCRIPTION:
URL:https://esa.ipb.pt/eventos/seminarios-ev-manifestacoes-cutaneas-associadas-a-doencas-sistemicas/
LOCATION:Escola Superior Agrária de Bragança\, Campus de Santa Apolónia 5300-253\, Bragança\, 5300-253\, Portugal
CATEGORIES:Seminário
ATTACH;FMTTYPE=image/png:https://esa.ipb.pt/wp-content/uploads/ev-3.png
END:VEVENT
BEGIN:VEVENT
DTSTART;TZID=Europe/Lisbon:20231205T090000
DTEND;TZID=Europe/Lisbon:20231205T130000
DTSTAMP:20260424T070824
CREATED:20231204T145158Z
LAST-MODIFIED:20231204T145158Z
UID:9703-1701766800-1701781200@esa.ipb.pt
SUMMARY:Seminário de Enfermagem Dentária Veterinária
DESCRIPTION:
URL:https://esa.ipb.pt/eventos/seminario-de-enfermagem-dentaria-veterinaria/
LOCATION:Escola Superior Agrária de Bragança\, Campus de Santa Apolónia 5300-253\, Bragança\, 5300-253\, Portugal
CATEGORIES:Seminário
END:VEVENT
BEGIN:VEVENT
DTSTART;TZID=Europe/Lisbon:20231130T090000
DTEND;TZID=Europe/Lisbon:20231130T110000
DTSTAMP:20260424T070824
CREATED:20231129T105635Z
LAST-MODIFIED:20231129T105635Z
UID:9690-1701334800-1701342000@esa.ipb.pt
SUMMARY:Seminário Práticas Cat Friendly
DESCRIPTION:
URL:https://esa.ipb.pt/eventos/seminario-praticas-cat-friendly/
LOCATION:Escola Superior Agrária de Bragança\, Campus de Santa Apolónia 5300-253\, Bragança\, 5300-253\, Portugal
CATEGORIES:Seminário
END:VEVENT
BEGIN:VEVENT
DTSTART;TZID=Europe/Lisbon:20231124T110000
DTEND;TZID=Europe/Lisbon:20231124T130000
DTSTAMP:20260424T070824
CREATED:20231123T184308Z
LAST-MODIFIED:20231123T184308Z
UID:9682-1700823600-1700830800@esa.ipb.pt
SUMMARY:Seminário: Biotecnologias aplicadas à reprodução de equinos
DESCRIPTION:
URL:https://esa.ipb.pt/eventos/seminario-biotecnologias-aplicadas-a-reproducao-de-equinos/
LOCATION:Escola Superior Agrária de Bragança\, Campus de Santa Apolónia 5300-253\, Bragança\, 5300-253\, Portugal
CATEGORIES:Seminário
END:VEVENT
END:VCALENDAR