BEGIN:VCALENDAR
VERSION:2.0
PRODID:-//ESA-IPB - ECPv6.15.20//NONSGML v1.0//EN
CALSCALE:GREGORIAN
METHOD:PUBLISH
X-WR-CALNAME:ESA-IPB
X-ORIGINAL-URL:https://esa.ipb.pt
X-WR-CALDESC:Eventos para ESA-IPB
REFRESH-INTERVAL;VALUE=DURATION:PT1H
X-Robots-Tag:noindex
X-PUBLISHED-TTL:PT1H
BEGIN:VTIMEZONE
TZID:Europe/Lisbon
BEGIN:DAYLIGHT
TZOFFSETFROM:+0000
TZOFFSETTO:+0100
TZNAME:WEST
DTSTART:20160327T010000
END:DAYLIGHT
BEGIN:STANDARD
TZOFFSETFROM:+0100
TZOFFSETTO:+0000
TZNAME:WET
DTSTART:20161030T010000
END:STANDARD
BEGIN:DAYLIGHT
TZOFFSETFROM:+0000
TZOFFSETTO:+0100
TZNAME:WEST
DTSTART:20170326T010000
END:DAYLIGHT
BEGIN:STANDARD
TZOFFSETFROM:+0100
TZOFFSETTO:+0000
TZNAME:WET
DTSTART:20171029T010000
END:STANDARD
BEGIN:DAYLIGHT
TZOFFSETFROM:+0000
TZOFFSETTO:+0100
TZNAME:WEST
DTSTART:20180325T010000
END:DAYLIGHT
BEGIN:STANDARD
TZOFFSETFROM:+0100
TZOFFSETTO:+0000
TZNAME:WET
DTSTART:20181028T010000
END:STANDARD
BEGIN:DAYLIGHT
TZOFFSETFROM:+0000
TZOFFSETTO:+0100
TZNAME:WEST
DTSTART:20190331T010000
END:DAYLIGHT
BEGIN:STANDARD
TZOFFSETFROM:+0100
TZOFFSETTO:+0000
TZNAME:WET
DTSTART:20191027T010000
END:STANDARD
END:VTIMEZONE
BEGIN:VEVENT
DTSTART;VALUE=DATE:20181008
DTEND;VALUE=DATE:20181023
DTSTAMP:20260421T034551
CREATED:20220106T105836Z
LAST-MODIFIED:20220106T105836Z
UID:8323-1538956800-1540252799@esa.ipb.pt
SUMMARY:Curso Formação para qualificação como Líder de painel
DESCRIPTION:Curso Formação para qualificação como Líder de painel (normas ISO 8586:2014 e 13300-2:2006) \n  \nMais Informações: http://esa.ipb.pt/blogs/noticiasesa/2018/curso-formacao-para-qualificacao-como-lider-de-painel/
URL:https://esa.ipb.pt/eventos/curso-formacao-para-qualificacao-como-lider-de-painel/
END:VEVENT
BEGIN:VEVENT
DTSTART;VALUE=DATE:20181004
DTEND;VALUE=DATE:20181005
DTSTAMP:20260421T034551
CREATED:20220106T105836Z
LAST-MODIFIED:20220106T105836Z
UID:8317-1538611200-1538697599@esa.ipb.pt
SUMMARY:I Seminário Fisioterapia Animal
DESCRIPTION:
URL:https://esa.ipb.pt/eventos/i-seminario-fisioterapia-animal/
CATEGORIES:Seminário
END:VEVENT
BEGIN:VEVENT
DTSTART;VALUE=DATE:20180927
DTEND;VALUE=DATE:20180928
DTSTAMP:20260421T034551
CREATED:20220106T105836Z
LAST-MODIFIED:20220106T105836Z
UID:8320-1538006400-1538092799@esa.ipb.pt
SUMMARY:Simposium Carne e Produtos Cárneos: Panorama de la producción de carne en España
DESCRIPTION:
URL:https://esa.ipb.pt/eventos/simposium-carne-e-produtos-carneos-panorama-de-la-produccion-de-carne-en-espana/
END:VEVENT
BEGIN:VEVENT
DTSTART;VALUE=DATE:20180924
DTEND;VALUE=DATE:20180928
DTSTAMP:20260421T034551
CREATED:20220106T105836Z
LAST-MODIFIED:20220106T105836Z
UID:8314-1537747200-1538092799@esa.ipb.pt
SUMMARY:Semana Zootécnica Nutrição 2018
DESCRIPTION:
URL:https://esa.ipb.pt/eventos/semana-zootecnica-nutricao-2018/
END:VEVENT
BEGIN:VEVENT
DTSTART;VALUE=DATE:20180712
DTEND;VALUE=DATE:20180714
DTSTAMP:20260421T034551
CREATED:20220106T105836Z
LAST-MODIFIED:20220106T105836Z
UID:8312-1531353600-1531526399@esa.ipb.pt
SUMMARY:Workshop em cultura de plantas in vitro do agar à terra
DESCRIPTION:Inscrição gratuita em http://esa.ipb.pt/emervit/
URL:https://esa.ipb.pt/eventos/workshop-em-cultura-de-plantas-in-vitro-do-agar-a-terra/
CATEGORIES:Workshop
END:VEVENT
BEGIN:VEVENT
DTSTART;VALUE=DATE:20180623
DTEND;VALUE=DATE:20180624
DTSTAMP:20260421T034551
CREATED:20220106T105836Z
LAST-MODIFIED:20220106T105836Z
UID:8309-1529712000-1529798399@esa.ipb.pt
SUMMARY:Curso de Iniciação à Prova de Azeites
DESCRIPTION:A participação é aberta a todos os interessados na temática\, em especial\, a produtores\, embaladores e técnicos e agentes da fileira oleícola.\nInscrição em https://goo.gl/forms/6B8eZ7DiQAOczJkt1 ou para o e-mail: paulacabo@ipb.pt
URL:https://esa.ipb.pt/eventos/curso-de-iniciacao-a-prova-de-azeites/
END:VEVENT
BEGIN:VEVENT
DTSTART;VALUE=DATE:20180622
DTEND;VALUE=DATE:20180623
DTSTAMP:20260421T034551
CREATED:20220106T105836Z
LAST-MODIFIED:20220106T105836Z
UID:8306-1529625600-1529711999@esa.ipb.pt
SUMMARY:Workshop Prático de Rotulagem Azeite e Azeitona de Mesa
DESCRIPTION:A participação é aberta a todos os interessados na temática\, em especial\, a produtores\, embaladores e técnicos e agentes da fileira oleícola.\nInscrição gratuita em https://goo.gl/forms/QQ7qNcukzMraVfYG2 ou via e-mail para: paulacabo@ipb.pt
URL:https://esa.ipb.pt/eventos/workshop-pratico-de-rotulagem-azeite-e-azeitona-de-mesa/
CATEGORIES:Workshop
END:VEVENT
BEGIN:VEVENT
DTSTART;VALUE=DATE:20180605
DTEND;VALUE=DATE:20180606
DTSTAMP:20260421T034551
CREATED:20220106T105836Z
LAST-MODIFIED:20220106T105836Z
UID:8301-1528156800-1528243199@esa.ipb.pt
SUMMARY:Faz-te à vida! Workshop: ferramentas para a empregabilidade
DESCRIPTION:Inscrições
URL:https://esa.ipb.pt/eventos/faz-te-a-vida-workshop-ferramentas-para-a-empregabilidade/
CATEGORIES:Workshop
END:VEVENT
BEGIN:VEVENT
DTSTART;VALUE=DATE:20180530
DTEND;VALUE=DATE:20180531
DTSTAMP:20260421T034551
CREATED:20220106T105836Z
LAST-MODIFIED:20220106T105836Z
UID:8304-1527638400-1527724799@esa.ipb.pt
SUMMARY:Workshop Enf Vet: Monitorização anestésica e ventilação
DESCRIPTION:
URL:https://esa.ipb.pt/eventos/workshop-enf-vet-monitorizacao-anestesica-e-ventilacao/
CATEGORIES:Workshop
END:VEVENT
BEGIN:VEVENT
DTSTART;VALUE=DATE:20180529
DTEND;VALUE=DATE:20180530
DTSTAMP:20260421T034551
CREATED:20220106T105836Z
LAST-MODIFIED:20220106T105836Z
UID:8298-1527552000-1527638399@esa.ipb.pt
SUMMARY:Apresentação do livro: Anfíbios e Répteis de Portugal
DESCRIPTION:
URL:https://esa.ipb.pt/eventos/apresentacao-do-livro-anfibios-e-repteis-de-portugal/
END:VEVENT
BEGIN:VEVENT
DTSTART;VALUE=DATE:20180525
DTEND;VALUE=DATE:20180527
DTSTAMP:20260421T034551
CREATED:20220106T105836Z
LAST-MODIFIED:20220106T105836Z
UID:8286-1527206400-1527379199@esa.ipb.pt
SUMMARY:II Jornadas de Reabilitação Fluvial
DESCRIPTION:
URL:https://esa.ipb.pt/eventos/ii-jornadas-de-reabilitacao-fluvial/
CATEGORIES:Jornadas
END:VEVENT
BEGIN:VEVENT
DTSTART;VALUE=DATE:20180523
DTEND;VALUE=DATE:20180524
DTSTAMP:20260421T034551
CREATED:20220106T105836Z
LAST-MODIFIED:20220106T105836Z
UID:8296-1527033600-1527119999@esa.ipb.pt
SUMMARY:Workshop Enf Vet: Anestesia volátil e ventilação mecânica
DESCRIPTION:
URL:https://esa.ipb.pt/eventos/workshop-enf-vet-anestesia-volatil-e-ventilacao-mecanica/
CATEGORIES:Workshop
END:VEVENT
BEGIN:VEVENT
DTSTART;VALUE=DATE:20180518
DTEND;VALUE=DATE:20180520
DTSTAMP:20260421T034551
CREATED:20220106T105836Z
LAST-MODIFIED:20220106T105836Z
UID:8270-1526601600-1526774399@esa.ipb.pt
SUMMARY:Cultura de Células Animais e Aplicações Clínicas
DESCRIPTION:
URL:https://esa.ipb.pt/eventos/cultura-de-celulas-animais-e-aplicacoes-clinicas/
END:VEVENT
BEGIN:VEVENT
DTSTART;VALUE=DATE:20180514
DTEND;VALUE=DATE:20180519
DTSTAMP:20260421T034551
CREATED:20220106T105836Z
LAST-MODIFIED:20220106T105836Z
UID:8288-1526256000-1526687999@esa.ipb.pt
SUMMARY:Seminários 14ª Semana ERASMUS
DESCRIPTION:
URL:https://esa.ipb.pt/eventos/seminarios-14a-semana-erasmus/
END:VEVENT
BEGIN:VEVENT
DTSTART;VALUE=DATE:20180514
DTEND;VALUE=DATE:20180515
DTSTAMP:20260421T034551
CREATED:20220106T105836Z
LAST-MODIFIED:20220106T105836Z
UID:8290-1526256000-1526342399@esa.ipb.pt
SUMMARY:Transfer+Castanha Apresentação Catálogo Tecnológico
DESCRIPTION:
URL:https://esa.ipb.pt/eventos/transfercastanha-apresentacao-catalogo-tecnologico/
CATEGORIES:Seminário
END:VEVENT
BEGIN:VEVENT
DTSTART;VALUE=DATE:20180510
DTEND;VALUE=DATE:20180511
DTSTAMP:20260421T034551
CREATED:20220106T105836Z
LAST-MODIFIED:20220106T105836Z
UID:8283-1525910400-1525996799@esa.ipb.pt
SUMMARY:Biofábricas\, Bioprodutos e Inovação
DESCRIPTION:
URL:https://esa.ipb.pt/eventos/biofabricas-bioprodutos-e-inovacao-2/
CATEGORIES:Workshop
END:VEVENT
BEGIN:VEVENT
DTSTART;VALUE=DATE:20180421
DTEND;VALUE=DATE:20180422
DTSTAMP:20260421T034551
CREATED:20220106T105836Z
LAST-MODIFIED:20220106T105836Z
UID:8278-1524268800-1524355199@esa.ipb.pt
SUMMARY:Workshop de Introdução às Operações Culturais na Vinha
DESCRIPTION:
URL:https://esa.ipb.pt/eventos/workshop-de-introducao-as-operacoes-culturais-na-vinha/
CATEGORIES:Workshop
END:VEVENT
BEGIN:VEVENT
DTSTART;VALUE=DATE:20180420
DTEND;VALUE=DATE:20180421
DTSTAMP:20260421T034551
CREATED:20220106T105836Z
LAST-MODIFIED:20220106T105836Z
UID:8280-1524182400-1524268799@esa.ipb.pt
SUMMARY:Odontologia Veterinária
DESCRIPTION:
URL:https://esa.ipb.pt/eventos/odontologia-veterinaria/
CATEGORIES:Workshop
END:VEVENT
BEGIN:VEVENT
DTSTART;VALUE=DATE:20180419
DTEND;VALUE=DATE:20180424
DTSTAMP:20260421T034551
CREATED:20220106T105836Z
LAST-MODIFIED:20220106T105836Z
UID:8275-1524096000-1524527999@esa.ipb.pt
SUMMARY:Ciclo de Workshops Enfermagem Veterinária
DESCRIPTION:
URL:https://esa.ipb.pt/eventos/ciclo-de-workshops-enfermagem-veterinaria/
CATEGORIES:Workshop
END:VEVENT
BEGIN:VEVENT
DTSTART;VALUE=DATE:20180416
DTEND;VALUE=DATE:20180420
DTSTAMP:20260421T034551
CREATED:20220106T105836Z
LAST-MODIFIED:20220106T105836Z
UID:8267-1523836800-1524182399@esa.ipb.pt
SUMMARY:XIX Semana das Ciências Agrárias
DESCRIPTION:
URL:https://esa.ipb.pt/eventos/xix-semana-das-ciencias-agrarias/
CATEGORIES:Palestra,Workshop
END:VEVENT
BEGIN:VEVENT
DTSTART;VALUE=DATE:20180413
DTEND;VALUE=DATE:20180414
DTSTAMP:20260421T034551
CREATED:20220106T105836Z
LAST-MODIFIED:20220106T105836Z
UID:8273-1523577600-1523663999@esa.ipb.pt
SUMMARY:Preparação de Amostras em Citologia e Histologia Veterinária
DESCRIPTION:
URL:https://esa.ipb.pt/eventos/preparacao-de-amostras-em-citologia-e-histologia-veterinaria/
CATEGORIES:Workshop
END:VEVENT
BEGIN:VEVENT
DTSTART;VALUE=DATE:20180405
DTEND;VALUE=DATE:20180407
DTSTAMP:20260421T034551
CREATED:20220106T105836Z
LAST-MODIFIED:20220106T105836Z
UID:8264-1522886400-1523059199@esa.ipb.pt
SUMMARY:Workshop Dermofarmácia 2018
DESCRIPTION:
URL:https://esa.ipb.pt/eventos/workshop-dermofarmacia-2018/
CATEGORIES:Workshop
END:VEVENT
BEGIN:VEVENT
DTSTART;VALUE=DATE:20180216
DTEND;VALUE=DATE:20180217
DTSTAMP:20260421T034551
CREATED:20220106T105836Z
LAST-MODIFIED:20220106T105836Z
UID:8261-1518739200-1518825599@esa.ipb.pt
SUMMARY:Seminário " O problema da polución difusa e persistente: causas\, efectos e solucións"
DESCRIPTION:
URL:https://esa.ipb.pt/eventos/seminario-o-problema-da-polucion-difusa-e-persistente-causas-efectos-e-solucions/
CATEGORIES:Seminário
END:VEVENT
BEGIN:VEVENT
DTSTART;VALUE=DATE:20180202
DTEND;VALUE=DATE:20180211
DTSTAMP:20260421T034551
CREATED:20220106T105836Z
LAST-MODIFIED:20220106T105836Z
UID:8251-1517529600-1518307199@esa.ipb.pt
SUMMARY:Higiene e segurança no trabalho
DESCRIPTION:
URL:https://esa.ipb.pt/eventos/higiene-e-seguranca-no-trabalho-2018/
END:VEVENT
BEGIN:VEVENT
DTSTART;VALUE=DATE:20180120
DTEND;VALUE=DATE:20180121
DTSTAMP:20260421T034551
CREATED:20220106T105836Z
LAST-MODIFIED:20220106T105836Z
UID:8253-1516406400-1516492799@esa.ipb.pt
SUMMARY:Curso de Aperfeiçoamento de Prova de Azeites
DESCRIPTION:
URL:https://esa.ipb.pt/eventos/curso-de-aperfeicoamento-de-prova-de-azeites-3/
END:VEVENT
BEGIN:VEVENT
DTSTART;VALUE=DATE:20180115
DTEND;VALUE=DATE:20180116
DTSTAMP:20260421T034551
CREATED:20220106T105836Z
LAST-MODIFIED:20220106T105836Z
UID:8255-1515974400-1516060799@esa.ipb.pt
SUMMARY:Formação teórico-prática em enfermagem veterinária de asininos
DESCRIPTION:
URL:https://esa.ipb.pt/eventos/formacao-teorico-pratica-em-enfermagem-veterinaria-de-asininos/
CATEGORIES:Palestra,Workshop
END:VEVENT
BEGIN:VEVENT
DTSTART;VALUE=DATE:20180112
DTEND;VALUE=DATE:20180113
DTSTAMP:20260421T034551
CREATED:20220106T105836Z
LAST-MODIFIED:20220106T105836Z
UID:8249-1515715200-1515801599@esa.ipb.pt
SUMMARY:Transfer+Castanha
DESCRIPTION:
URL:https://esa.ipb.pt/eventos/transfercastanha/
CATEGORIES:Seminário
END:VEVENT
BEGIN:VEVENT
DTSTART;VALUE=DATE:20180108
DTEND;VALUE=DATE:20180109
DTSTAMP:20260421T034551
CREATED:20220106T105836Z
LAST-MODIFIED:20220106T105836Z
UID:8258-1515369600-1515455999@esa.ipb.pt
SUMMARY:THE BURNING ISSUE
DESCRIPTION:
URL:https://esa.ipb.pt/eventos/the-burning-issue/
END:VEVENT
BEGIN:VEVENT
DTSTART;VALUE=DATE:20171215
DTEND;VALUE=DATE:20171216
DTSTAMP:20260421T034551
CREATED:20220106T105836Z
LAST-MODIFIED:20220106T105836Z
UID:8246-1513296000-1513382399@esa.ipb.pt
SUMMARY:Amendoeira produção e sustentabilidade
DESCRIPTION:
URL:https://esa.ipb.pt/eventos/amendoeira-producao-e-sustentabilidade/
CATEGORIES:Seminário
END:VEVENT
BEGIN:VEVENT
DTSTART;VALUE=DATE:20171205
DTEND;VALUE=DATE:20171206
DTSTAMP:20260421T034551
CREATED:20220106T105836Z
LAST-MODIFIED:20220106T105836Z
UID:8237-1512432000-1512518399@esa.ipb.pt
SUMMARY:Leishmaniose canina em Portugal
DESCRIPTION:
URL:https://esa.ipb.pt/eventos/leishmaniose-canina-em-portugal/
CATEGORIES:Seminário
END:VEVENT
END:VCALENDAR