BEGIN:VCALENDAR
VERSION:2.0
PRODID:-//ESA-IPB - ECPv6.15.20//NONSGML v1.0//EN
CALSCALE:GREGORIAN
METHOD:PUBLISH
X-WR-CALNAME:ESA-IPB
X-ORIGINAL-URL:https://esa.ipb.pt
X-WR-CALDESC:Eventos para ESA-IPB
REFRESH-INTERVAL;VALUE=DURATION:PT1H
X-Robots-Tag:noindex
X-PUBLISHED-TTL:PT1H
BEGIN:VTIMEZONE
TZID:Europe/Lisbon
BEGIN:DAYLIGHT
TZOFFSETFROM:+0000
TZOFFSETTO:+0100
TZNAME:WEST
DTSTART:20170326T010000
END:DAYLIGHT
BEGIN:STANDARD
TZOFFSETFROM:+0100
TZOFFSETTO:+0000
TZNAME:WET
DTSTART:20171029T010000
END:STANDARD
BEGIN:DAYLIGHT
TZOFFSETFROM:+0000
TZOFFSETTO:+0100
TZNAME:WEST
DTSTART:20180325T010000
END:DAYLIGHT
BEGIN:STANDARD
TZOFFSETFROM:+0100
TZOFFSETTO:+0000
TZNAME:WET
DTSTART:20181028T010000
END:STANDARD
BEGIN:DAYLIGHT
TZOFFSETFROM:+0000
TZOFFSETTO:+0100
TZNAME:WEST
DTSTART:20190331T010000
END:DAYLIGHT
BEGIN:STANDARD
TZOFFSETFROM:+0100
TZOFFSETTO:+0000
TZNAME:WET
DTSTART:20191027T010000
END:STANDARD
BEGIN:DAYLIGHT
TZOFFSETFROM:+0000
TZOFFSETTO:+0100
TZNAME:WEST
DTSTART:20200329T010000
END:DAYLIGHT
BEGIN:STANDARD
TZOFFSETFROM:+0100
TZOFFSETTO:+0000
TZNAME:WET
DTSTART:20201025T010000
END:STANDARD
END:VTIMEZONE
BEGIN:VEVENT
DTSTART;VALUE=DATE:20191011
DTEND;VALUE=DATE:20191012
DTSTAMP:20260421T052815
CREATED:20220106T105836Z
LAST-MODIFIED:20220106T105836Z
UID:8427-1570752000-1570838399@esa.ipb.pt
SUMMARY:Seminário-Prático: Sanidade e Reprodução em Pequenos Ruminantes
DESCRIPTION:
URL:https://esa.ipb.pt/eventos/seminario-pratico-sanidade-e-reproducao-em-pequenos-ruminantes/
CATEGORIES:Seminário
END:VEVENT
BEGIN:VEVENT
DTSTART;VALUE=DATE:20191002
DTEND;VALUE=DATE:20191003
DTSTAMP:20260421T052815
CREATED:20220106T105836Z
LAST-MODIFIED:20220106T105836Z
UID:8421-1569974400-1570060799@esa.ipb.pt
SUMMARY:Seminário: Desinfeção de Instrumentos
DESCRIPTION:
URL:https://esa.ipb.pt/eventos/seminario-desinfecao-de-instrumentos/
CATEGORIES:Seminário
END:VEVENT
BEGIN:VEVENT
DTSTART;VALUE=DATE:20190917
DTEND;VALUE=DATE:20190921
DTSTAMP:20260421T052815
CREATED:20220106T105836Z
LAST-MODIFIED:20220106T105836Z
UID:8293-1568678400-1569023999@esa.ipb.pt
SUMMARY:11th International Conference of Predictive Modelling in Food - ICPMF11
DESCRIPTION:
URL:https://esa.ipb.pt/eventos/11th-international-conference-of-predictive-modelling-in-food-icpmf11/
CATEGORIES:Conferência,Congresso
END:VEVENT
BEGIN:VEVENT
DTSTART;VALUE=DATE:20190718
DTEND;VALUE=DATE:20190720
DTSTAMP:20260421T052815
CREATED:20220106T105836Z
LAST-MODIFIED:20220106T105836Z
UID:8393-1563408000-1563580799@esa.ipb.pt
SUMMARY:II Jornadas de Lúpulo e Cerveja
DESCRIPTION:
URL:https://esa.ipb.pt/eventos/ii-jornadas-de-lupulo-e-cerveja/
CATEGORIES:Jornadas
END:VEVENT
BEGIN:VEVENT
DTSTART;VALUE=DATE:20190717
DTEND;VALUE=DATE:20190718
DTSTAMP:20260421T052815
CREATED:20220106T105836Z
LAST-MODIFIED:20220106T105836Z
UID:8418-1563321600-1563407999@esa.ipb.pt
SUMMARY:Seminário Prático: Inseminação artificial por laparoscopia em ovinos
DESCRIPTION:
URL:https://esa.ipb.pt/eventos/seminario-pratico-inseminacao-artificial-por-laparoscopia-em-ovinos/
CATEGORIES:Seminário
END:VEVENT
BEGIN:VEVENT
DTSTART;VALUE=DATE:20190703
DTEND;VALUE=DATE:20190704
DTSTAMP:20260421T052815
CREATED:20220106T105836Z
LAST-MODIFIED:20220106T105836Z
UID:8415-1562112000-1562198399@esa.ipb.pt
SUMMARY:Workshop: Cirurgia Minimamente Invasiva
DESCRIPTION:
URL:https://esa.ipb.pt/eventos/workshop-cirurgia-minimamente-invasiva/
CATEGORIES:Workshop
END:VEVENT
BEGIN:VEVENT
DTSTART;VALUE=DATE:20190702
DTEND;VALUE=DATE:20190703
DTSTAMP:20260421T052815
CREATED:20220106T105836Z
LAST-MODIFIED:20220106T105836Z
UID:8413-1562025600-1562111999@esa.ipb.pt
SUMMARY:Seminário-Prático: Princípios de Endoscopia para Enfermeiros Veterinários
DESCRIPTION:
URL:https://esa.ipb.pt/eventos/seminario-pratico-principios-de-endoscopia-para-enfermeiros-veterinarios/
CATEGORIES:Seminário
END:VEVENT
BEGIN:VEVENT
DTSTART;VALUE=DATE:20190701
DTEND;VALUE=DATE:20190702
DTSTAMP:20260421T052815
CREATED:20220106T105836Z
LAST-MODIFIED:20220106T105836Z
UID:8411-1561939200-1562025599@esa.ipb.pt
SUMMARY:VitisHidri - Dia Aberto - Carrazeda de Ansiães
DESCRIPTION:
URL:https://esa.ipb.pt/eventos/vitishidri-dia-aberto-carrazeda-de-ansiaes/
CATEGORIES:Seminário
END:VEVENT
BEGIN:VEVENT
DTSTART;VALUE=DATE:20190625
DTEND;VALUE=DATE:20190626
DTSTAMP:20260421T052815
CREATED:20220106T105836Z
LAST-MODIFIED:20220106T105836Z
UID:8408-1561420800-1561507199@esa.ipb.pt
SUMMARY:VitisHidri - Dia Aberto - Vila Nova Foz Côa
DESCRIPTION:
URL:https://esa.ipb.pt/eventos/vitishidri-dia-aberto-vila-nova-foz-coa/
CATEGORIES:Seminário
END:VEVENT
BEGIN:VEVENT
DTSTART;VALUE=DATE:20190607
DTEND;VALUE=DATE:20190608
DTSTAMP:20260421T052815
CREATED:20220106T105836Z
LAST-MODIFIED:20220106T105836Z
UID:8406-1559865600-1559951999@esa.ipb.pt
SUMMARY:Apoio à cirurgia: Espécies Pecuárias
DESCRIPTION:
URL:https://esa.ipb.pt/eventos/apoio-a-cirurgia-especies-pecuarias/
CATEGORIES:Workshop
END:VEVENT
BEGIN:VEVENT
DTSTART;VALUE=DATE:20190606
DTEND;VALUE=DATE:20190608
DTSTAMP:20260421T052815
CREATED:20220106T105836Z
LAST-MODIFIED:20220106T105836Z
UID:8395-1559779200-1559951999@esa.ipb.pt
SUMMARY:Instrumentos e metodologias para uma comunidade mais participativa
DESCRIPTION:
URL:https://esa.ipb.pt/eventos/instrumentos-e-metodologias-para-uma-comunidade-mais-participativa/
CATEGORIES:Seminário
END:VEVENT
BEGIN:VEVENT
DTSTART;VALUE=DATE:20190606
DTEND;VALUE=DATE:20190607
DTSTAMP:20260421T052815
CREATED:20220106T105836Z
LAST-MODIFIED:20220106T105836Z
UID:8401-1559779200-1559865599@esa.ipb.pt
SUMMARY:Ciência Veterinária Forense
DESCRIPTION:
URL:https://esa.ipb.pt/eventos/ciencia-veterinaria-forense/
END:VEVENT
BEGIN:VEVENT
DTSTART;VALUE=DATE:20190606
DTEND;VALUE=DATE:20190607
DTSTAMP:20260421T052815
CREATED:20220106T105836Z
LAST-MODIFIED:20220106T105836Z
UID:8404-1559779200-1559865599@esa.ipb.pt
SUMMARY:Workshop Ultrassonografia Reprodutiva
DESCRIPTION:
URL:https://esa.ipb.pt/eventos/workshop-ultrassonografia-reprodutiva/
CATEGORIES:Workshop
END:VEVENT
BEGIN:VEVENT
DTSTART;VALUE=DATE:20190605
DTEND;VALUE=DATE:20190606
DTSTAMP:20260421T052815
CREATED:20220106T105836Z
LAST-MODIFIED:20220106T105836Z
UID:8398-1559692800-1559779199@esa.ipb.pt
SUMMARY:workshop Podologia Ovina
DESCRIPTION:
URL:https://esa.ipb.pt/eventos/workshop-podologia-ovina/
CATEGORIES:Workshop
END:VEVENT
BEGIN:VEVENT
DTSTART;VALUE=DATE:20190524
DTEND;VALUE=DATE:20190526
DTSTAMP:20260421T052815
CREATED:20220106T105836Z
LAST-MODIFIED:20220106T105836Z
UID:8375-1558656000-1558828799@esa.ipb.pt
SUMMARY:Cultura de Células Animais e Aplicações Clínicas
DESCRIPTION:
URL:https://esa.ipb.pt/eventos/cultura-de-celulas-animais-e-aplicacoes-clinicas-2/
END:VEVENT
BEGIN:VEVENT
DTSTART;VALUE=DATE:20190517
DTEND;VALUE=DATE:20190518
DTSTAMP:20260421T052815
CREATED:20220106T105836Z
LAST-MODIFIED:20220106T105836Z
UID:8387-1558051200-1558137599@esa.ipb.pt
SUMMARY:Workshop Enfermagem Veterinária: Estética e Podologia Equina
DESCRIPTION:
URL:https://esa.ipb.pt/eventos/workshop-enfermagem-veterinaria-estetica-e-podologia-equina/
CATEGORIES:Workshop
END:VEVENT
BEGIN:VEVENT
DTSTART;VALUE=DATE:20190515
DTEND;VALUE=DATE:20190516
DTSTAMP:20260421T052815
CREATED:20220106T105836Z
LAST-MODIFIED:20220106T105836Z
UID:8384-1557878400-1557964799@esa.ipb.pt
SUMMARY:Workshop Enfermagem Veterinária: Urgências Veterinárias
DESCRIPTION:
URL:https://esa.ipb.pt/eventos/workshop-enfermagem-veterinaria-urgencias-veterinarias/
CATEGORIES:Workshop
END:VEVENT
BEGIN:VEVENT
DTSTART;VALUE=DATE:20190513
DTEND;VALUE=DATE:20190518
DTSTAMP:20260421T052815
CREATED:20220106T105836Z
LAST-MODIFIED:20220106T105836Z
UID:8378-1557705600-1558137599@esa.ipb.pt
SUMMARY:15ª Semana ERASMUS
DESCRIPTION:
URL:https://esa.ipb.pt/eventos/15a-semana-erasmus/
END:VEVENT
BEGIN:VEVENT
DTSTART;VALUE=DATE:20190513
DTEND;VALUE=DATE:20190518
DTSTAMP:20260421T052815
CREATED:20220106T105836Z
LAST-MODIFIED:20220106T105836Z
UID:8381-1557705600-1558137599@esa.ipb.pt
SUMMARY:Métodos biomoleculares no estudo do micovírus CHV1
DESCRIPTION:
URL:https://esa.ipb.pt/eventos/metodos-biomoleculares-no-estudo-do-micovirus-chv1/
END:VEVENT
BEGIN:VEVENT
DTSTART;VALUE=DATE:20190426
DTEND;VALUE=DATE:20190427
DTSTAMP:20260421T052815
CREATED:20220106T105836Z
LAST-MODIFIED:20220106T105836Z
UID:8372-1556236800-1556323199@esa.ipb.pt
SUMMARY:Curso de qualificação de provador
DESCRIPTION:
URL:https://esa.ipb.pt/eventos/curso-de-qualificacao-de-provador/
CATEGORIES:Workshop
END:VEVENT
BEGIN:VEVENT
DTSTART;VALUE=DATE:20190410
DTEND;VALUE=DATE:20190411
DTSTAMP:20260421T052815
CREATED:20220106T105836Z
LAST-MODIFIED:20220106T105836Z
UID:8369-1554854400-1554940799@esa.ipb.pt
SUMMARY:Palestra: Empreendedorismo no Ensino Superior
DESCRIPTION:
URL:https://esa.ipb.pt/eventos/palestra-empreendedorismo-no-ensino-superior/
CATEGORIES:Seminário
END:VEVENT
BEGIN:VEVENT
DTSTART;VALUE=DATE:20190408
DTEND;VALUE=DATE:20190412
DTSTAMP:20260421T052815
CREATED:20220106T105836Z
LAST-MODIFIED:20220106T105836Z
UID:8367-1554681600-1555027199@esa.ipb.pt
SUMMARY:XX Semana das Ciências Agrárias
DESCRIPTION:
URL:https://esa.ipb.pt/eventos/xx-semana-das-ciencias-agrarias/
CATEGORIES:Seminário
END:VEVENT
BEGIN:VEVENT
DTSTART;VALUE=DATE:20190227
DTEND;VALUE=DATE:20190228
DTSTAMP:20260421T052815
CREATED:20220106T105836Z
LAST-MODIFIED:20220106T105836Z
UID:8361-1551225600-1551311999@esa.ipb.pt
SUMMARY:Seminário: Cooperação agro-pecuária com Guiné-Bissau: passado\, presente e futuro
DESCRIPTION:
URL:https://esa.ipb.pt/eventos/seminario-cooperacao-agro-pecuaria-com-guine-bissau-passado-presente-e-futuro/
CATEGORIES:Seminário
END:VEVENT
BEGIN:VEVENT
DTSTART;VALUE=DATE:20190206
DTEND;VALUE=DATE:20190207
DTSTAMP:20260421T052815
CREATED:20220106T105836Z
LAST-MODIFIED:20220106T105836Z
UID:8350-1549411200-1549497599@esa.ipb.pt
SUMMARY:1º Seminário de cromatografia
DESCRIPTION:
URL:https://esa.ipb.pt/eventos/1o-seminario-de-cromatografia/
CATEGORIES:Seminário
END:VEVENT
BEGIN:VEVENT
DTSTART;VALUE=DATE:20190129
DTEND;VALUE=DATE:20190130
DTSTAMP:20260421T052815
CREATED:20220106T105836Z
LAST-MODIFIED:20220106T105836Z
UID:8359-1548720000-1548806399@esa.ipb.pt
SUMMARY:Mitigação das Alterações Climáticas no Olival
DESCRIPTION:
URL:https://esa.ipb.pt/eventos/mitigacao-das-alteracoes-climaticas-no-olival/
CATEGORIES:Seminário
END:VEVENT
BEGIN:VEVENT
DTSTART;VALUE=DATE:20190111
DTEND;VALUE=DATE:20190112
DTSTAMP:20260421T052815
CREATED:20220106T105836Z
LAST-MODIFIED:20220106T105836Z
UID:8356-1547164800-1547251199@esa.ipb.pt
SUMMARY:Seminário - Formação de Paraveterinários
DESCRIPTION:
URL:https://esa.ipb.pt/eventos/seminario-formacao-de-paraveterinarios/
CATEGORIES:Seminário
END:VEVENT
BEGIN:VEVENT
DTSTART;VALUE=DATE:20190109
DTEND;VALUE=DATE:20190110
DTSTAMP:20260421T052815
CREATED:20220106T105836Z
LAST-MODIFIED:20220106T105836Z
UID:8353-1546992000-1547078399@esa.ipb.pt
SUMMARY:Workshop - Treino e Comportamento Canino
DESCRIPTION:
URL:https://esa.ipb.pt/eventos/workshop-treino-e-comportamento-canino/
CATEGORIES:Workshop
END:VEVENT
BEGIN:VEVENT
DTSTART;VALUE=DATE:20181220
DTEND;VALUE=DATE:20181221
DTSTAMP:20260421T052815
CREATED:20220106T105836Z
LAST-MODIFIED:20220106T105836Z
UID:8348-1545264000-1545350399@esa.ipb.pt
SUMMARY:VitisHidri - Dia Aberto
DESCRIPTION:
URL:https://esa.ipb.pt/eventos/vitishidri-dia-aberto-2/
CATEGORIES:Conferência
END:VEVENT
BEGIN:VEVENT
DTSTART;VALUE=DATE:20181207
DTEND;VALUE=DATE:20181208
DTSTAMP:20260421T052815
CREATED:20220106T105836Z
LAST-MODIFIED:20220106T105836Z
UID:8338-1544140800-1544227199@esa.ipb.pt
SUMMARY:Workshop Prático: Destartarização
DESCRIPTION:
URL:https://esa.ipb.pt/eventos/workshop-pratico-destartarizacao/
CATEGORIES:Workshop
END:VEVENT
BEGIN:VEVENT
DTSTART;VALUE=DATE:20181205
DTEND;VALUE=DATE:20181206
DTSTAMP:20260421T052815
CREATED:20220106T105836Z
LAST-MODIFIED:20220106T105836Z
UID:8341-1543968000-1544054399@esa.ipb.pt
SUMMARY:VitisHidri - Dia Aberto
DESCRIPTION:
URL:https://esa.ipb.pt/eventos/vitishidri-dia-aberto/
CATEGORIES:Seminário
END:VEVENT
END:VCALENDAR