BEGIN:VCALENDAR
VERSION:2.0
PRODID:-//ESA-IPB - ECPv6.15.20//NONSGML v1.0//EN
CALSCALE:GREGORIAN
METHOD:PUBLISH
X-WR-CALNAME:ESA-IPB
X-ORIGINAL-URL:https://esa.ipb.pt
X-WR-CALDESC:Eventos para ESA-IPB
REFRESH-INTERVAL;VALUE=DURATION:PT1H
X-Robots-Tag:noindex
X-PUBLISHED-TTL:PT1H
BEGIN:VTIMEZONE
TZID:Europe/Lisbon
BEGIN:DAYLIGHT
TZOFFSETFROM:+0000
TZOFFSETTO:+0100
TZNAME:WEST
DTSTART:20200329T010000
END:DAYLIGHT
BEGIN:STANDARD
TZOFFSETFROM:+0100
TZOFFSETTO:+0000
TZNAME:WET
DTSTART:20201025T010000
END:STANDARD
BEGIN:DAYLIGHT
TZOFFSETFROM:+0000
TZOFFSETTO:+0100
TZNAME:WEST
DTSTART:20210328T010000
END:DAYLIGHT
BEGIN:STANDARD
TZOFFSETFROM:+0100
TZOFFSETTO:+0000
TZNAME:WET
DTSTART:20211031T010000
END:STANDARD
BEGIN:DAYLIGHT
TZOFFSETFROM:+0000
TZOFFSETTO:+0100
TZNAME:WEST
DTSTART:20220327T010000
END:DAYLIGHT
BEGIN:STANDARD
TZOFFSETFROM:+0100
TZOFFSETTO:+0000
TZNAME:WET
DTSTART:20221030T010000
END:STANDARD
BEGIN:DAYLIGHT
TZOFFSETFROM:+0000
TZOFFSETTO:+0100
TZNAME:WEST
DTSTART:20230326T010000
END:DAYLIGHT
BEGIN:STANDARD
TZOFFSETFROM:+0100
TZOFFSETTO:+0000
TZNAME:WET
DTSTART:20231029T010000
END:STANDARD
END:VTIMEZONE
BEGIN:VEVENT
DTSTART;VALUE=DATE:20221011
DTEND;VALUE=DATE:20221012
DTSTAMP:20260420T185756
CREATED:20220106T105836Z
LAST-MODIFIED:20220106T105836Z
UID:6739-1665446400-1665532799@esa.ipb.pt
SUMMARY:Workshop PHARMAPITOX: desenvolvimento de um coletor inovador para uso nas indústrias farmacêutica e cosmética
DESCRIPTION:
URL:https://esa.ipb.pt/eventos/workshop-pharmapitox-desenvolvimento-de-um-coletor-inovador-para-uso-nas-industrias-farmaceutica-e-cosmetica/
CATEGORIES:Workshop
END:VEVENT
BEGIN:VEVENT
DTSTART;VALUE=DATE:20220928
DTEND;VALUE=DATE:20220929
DTSTAMP:20260420T185756
CREATED:20220106T105836Z
LAST-MODIFIED:20220106T105836Z
UID:6741-1664323200-1664409599@esa.ipb.pt
SUMMARY:1º Jornada dos Cereais do Norte
DESCRIPTION:
URL:https://esa.ipb.pt/eventos/1o-jornada-dos-cereais-do-norte/
CATEGORIES:Palestra,Seminário
END:VEVENT
BEGIN:VEVENT
DTSTART;VALUE=DATE:20220923
DTEND;VALUE=DATE:20220924
DTSTAMP:20260420T185756
CREATED:20220106T105836Z
LAST-MODIFIED:20220106T105836Z
UID:6743-1663891200-1663977599@esa.ipb.pt
SUMMARY:Seminários de AgroBioTecnologia: Trichoderma hamatum: biostimulant and bioinsecticidal capacity of na endophyte from kale roots (Brassica oleracea var. acephala)
DESCRIPTION:
URL:https://esa.ipb.pt/eventos/seminarios-de-agrobiotecnologia-trichoderma-hamatum-biostimulant-and-bioinsecticidal-capacity-of-na-endophyte-from-kale-roots-brassica-oleracea-var-acephala/
CATEGORIES:Seminário
END:VEVENT
BEGIN:VEVENT
DTSTART;VALUE=DATE:20220628
DTEND;VALUE=DATE:20220707
DTSTAMP:20260420T185756
CREATED:20220106T105836Z
LAST-MODIFIED:20220106T105836Z
UID:8574-1656374400-1657151999@esa.ipb.pt
SUMMARY:Workshop: Enfermagem veterinária no apoio à cirurgia
DESCRIPTION:
URL:https://esa.ipb.pt/eventos/workshop-enfermagem-veterinaria-no-apoio-a-cirurgia/
CATEGORIES:Workshop
END:VEVENT
BEGIN:VEVENT
DTSTART;VALUE=DATE:20220527
DTEND;VALUE=DATE:20220529
DTSTAMP:20260420T185756
CREATED:20220106T105836Z
LAST-MODIFIED:20220106T105836Z
UID:8572-1653609600-1653782399@esa.ipb.pt
SUMMARY:II workshop: Gestão e Ordenamento de Rios de Aptidão Salmonícola
DESCRIPTION:
URL:https://esa.ipb.pt/eventos/ii-workshop-gestao-e-ordenamento-de-rios-de-aptidao-salmonicola/
CATEGORIES:Workshop
END:VEVENT
BEGIN:VEVENT
DTSTART;VALUE=DATE:20220513
DTEND;VALUE=DATE:20220514
DTSTAMP:20260420T185756
CREATED:20220106T105836Z
LAST-MODIFIED:20220106T105836Z
UID:8566-1652400000-1652486399@esa.ipb.pt
SUMMARY:Workshop: Higiene dentária canina e felina
DESCRIPTION:
URL:https://esa.ipb.pt/eventos/workshop-higiene-dentaria-canina-e-felina/
CATEGORIES:Workshop
END:VEVENT
BEGIN:VEVENT
DTSTART;VALUE=DATE:20220506
DTEND;VALUE=DATE:20220507
DTSTAMP:20260420T185756
CREATED:20220106T105836Z
LAST-MODIFIED:20220106T105836Z
UID:8561-1651795200-1651881599@esa.ipb.pt
SUMMARY:Seminário: Enfermagem de Animais Exóticos
DESCRIPTION:
URL:https://esa.ipb.pt/eventos/seminario-enfermagem-de-animais-exoticos/
CATEGORIES:Seminário
END:VEVENT
BEGIN:VEVENT
DTSTART;VALUE=DATE:20220504
DTEND;VALUE=DATE:20220505
DTSTAMP:20260420T185756
CREATED:20220106T105836Z
LAST-MODIFIED:20220106T105836Z
UID:8563-1651622400-1651708799@esa.ipb.pt
SUMMARY:Seminário: Testes de distribuição de adubos granulados com adubadores centrífugos
DESCRIPTION:
URL:https://esa.ipb.pt/eventos/seminario-testes-de-distribuicao-de-adubos-granulados-com-adubadores-centrifugos/
CATEGORIES:Seminário
END:VEVENT
BEGIN:VEVENT
DTSTART;VALUE=DATE:20220429
DTEND;VALUE=DATE:20220430
DTSTAMP:20260420T185756
CREATED:20220106T105836Z
LAST-MODIFIED:20220106T105836Z
UID:8559-1651190400-1651276799@esa.ipb.pt
SUMMARY:Seminário: Recolha e análise de esfregaços sanguíneos
DESCRIPTION:
URL:https://esa.ipb.pt/eventos/seminario-recolha-e-analise-de-esfregacos-sanguineos/
CATEGORIES:Seminário
END:VEVENT
BEGIN:VEVENT
DTSTART;VALUE=DATE:20220323
DTEND;VALUE=DATE:20220326
DTSTAMP:20260420T185756
CREATED:20220106T105836Z
LAST-MODIFIED:20220106T105836Z
UID:8528-1647993600-1648252799@esa.ipb.pt
SUMMARY:Transcolab Summit: Trends in grain-based foods
DESCRIPTION:
URL:https://esa.ipb.pt/eventos/transcolab-summit-trends-in-grain-based-foods/
CATEGORIES:Congresso
END:VEVENT
BEGIN:VEVENT
DTSTART;VALUE=DATE:20220121
DTEND;VALUE=DATE:20220206
DTSTAMP:20260420T185756
CREATED:20220106T105836Z
LAST-MODIFIED:20220106T105836Z
UID:8557-1642723200-1644105599@esa.ipb.pt
SUMMARY:Curso de Higiene e Segurança no Trabalho
DESCRIPTION:
URL:https://esa.ipb.pt/eventos/curso-de-higiene-e-seguranca-no-trabalho-2022/
END:VEVENT
BEGIN:VEVENT
DTSTART;VALUE=DATE:20220119
DTEND;VALUE=DATE:20220120
DTSTAMP:20260420T185756
CREATED:20220106T105836Z
LAST-MODIFIED:20220106T105836Z
UID:8554-1642550400-1642636799@esa.ipb.pt
SUMMARY:Seminário: Ensino e Treino para Facilitação de Procedimentos Médicos - Bisontes e Raposas
DESCRIPTION:
URL:https://esa.ipb.pt/eventos/seminario-ensino-e-treino-para-facilitacao-de-procedimentos-medicos-bisontes-e-raposas/
CATEGORIES:Seminário
END:VEVENT
BEGIN:VEVENT
DTSTART;VALUE=DATE:20220112
DTEND;VALUE=DATE:20220113
DTSTAMP:20260420T185756
CREATED:20220106T105836Z
LAST-MODIFIED:20220106T105836Z
UID:8551-1641945600-1642031999@esa.ipb.pt
SUMMARY:Seminário: Enriquecimento Ambiental em Equinos
DESCRIPTION:
URL:https://esa.ipb.pt/eventos/seminario-enriquecimento-ambiental-em-equinos/
CATEGORIES:Seminário
END:VEVENT
BEGIN:VEVENT
DTSTART;VALUE=DATE:20220111
DTEND;VALUE=DATE:20220112
DTSTAMP:20260420T185756
CREATED:20220106T105836Z
LAST-MODIFIED:20220106T105836Z
UID:8548-1641859200-1641945599@esa.ipb.pt
SUMMARY:Seminário: Dirofilariose Canina
DESCRIPTION:
URL:https://esa.ipb.pt/eventos/seminario-dirofilariose-canina/
CATEGORIES:Seminário
END:VEVENT
BEGIN:VEVENT
DTSTART;VALUE=DATE:20220105
DTEND;VALUE=DATE:20220106
DTSTAMP:20260420T185756
CREATED:20220106T105836Z
LAST-MODIFIED:20220106T105836Z
UID:8545-1641340800-1641427199@esa.ipb.pt
SUMMARY:Seminário: Odontologia em Enfermagem Veterinária
DESCRIPTION:
URL:https://esa.ipb.pt/eventos/seminario-odontologia-em-enfermagem-veterinaria/
CATEGORIES:Seminário
END:VEVENT
BEGIN:VEVENT
DTSTART;VALUE=DATE:20211218
DTEND;VALUE=DATE:20211220
DTSTAMP:20260420T185756
CREATED:20220106T105836Z
LAST-MODIFIED:20220106T105836Z
UID:8542-1639785600-1639958399@esa.ipb.pt
SUMMARY:Curso Teórico-Prático: Recolha de amostras e análises seminais
DESCRIPTION:
URL:https://esa.ipb.pt/eventos/curso-teorico-pratico-recolha-de-amostras-e-analises-seminais/
CATEGORIES:Palestra,Workshop
END:VEVENT
BEGIN:VEVENT
DTSTART;VALUE=DATE:20211210
DTEND;VALUE=DATE:20211211
DTSTAMP:20260420T185756
CREATED:20220106T105836Z
LAST-MODIFIED:20220106T105836Z
UID:8539-1639094400-1639180799@esa.ipb.pt
SUMMARY:Foto-Seminário: Impacto do Ambiente na Saúde Animal
DESCRIPTION:
URL:https://esa.ipb.pt/eventos/foto-seminario-impacto-do-ambiente-na-saude-animal/
CATEGORIES:Seminário
END:VEVENT
BEGIN:VEVENT
DTSTART;VALUE=DATE:20211206
DTEND;VALUE=DATE:20211207
DTSTAMP:20260420T185756
CREATED:20220106T105836Z
LAST-MODIFIED:20220106T105836Z
UID:8537-1638748800-1638835199@esa.ipb.pt
SUMMARY:Seminário: Controlo e perda de peso em cães e gatos
DESCRIPTION:
URL:https://esa.ipb.pt/eventos/seminario-controlo-e-perda-de-peso-em-caes-e-gatos/
CATEGORIES:Seminário
END:VEVENT
BEGIN:VEVENT
DTSTART;VALUE=DATE:20211126
DTEND;VALUE=DATE:20211127
DTSTAMP:20260420T185756
CREATED:20220106T105836Z
LAST-MODIFIED:20220106T105836Z
UID:8534-1637884800-1637971199@esa.ipb.pt
SUMMARY:Seminário: Lentivírus dos Pequenos Ruminantes
DESCRIPTION:
URL:https://esa.ipb.pt/eventos/seminario-lentivirus-dos-pequenos-ruminantes/
CATEGORIES:Seminário
END:VEVENT
BEGIN:VEVENT
DTSTART;VALUE=DATE:20211125
DTEND;VALUE=DATE:20211126
DTSTAMP:20260420T185756
CREATED:20220106T105836Z
LAST-MODIFIED:20220106T105836Z
UID:8531-1637798400-1637884799@esa.ipb.pt
SUMMARY:Workshop de Ensino Canino
DESCRIPTION:
URL:https://esa.ipb.pt/eventos/workshop-de-ensino-canino/
CATEGORIES:Workshop
END:VEVENT
BEGIN:VEVENT
DTSTART;VALUE=DATE:20210913
DTEND;VALUE=DATE:20210918
DTSTAMP:20260420T185756
CREATED:20220106T105836Z
LAST-MODIFIED:20220106T105836Z
UID:8526-1631491200-1631923199@esa.ipb.pt
SUMMARY:Semana da Economia Circular
DESCRIPTION:
URL:https://esa.ipb.pt/eventos/semana-da-economia-circular/
CATEGORIES:Congresso
END:VEVENT
BEGIN:VEVENT
DTSTART;VALUE=DATE:20210707
DTEND;VALUE=DATE:20210724
DTSTAMP:20260420T185756
CREATED:20220106T105836Z
LAST-MODIFIED:20220106T105836Z
UID:8477-1625616000-1627084799@esa.ipb.pt
SUMMARY:Centenário do nascimento do Engº Camilo de Mendonça
DESCRIPTION:
URL:https://esa.ipb.pt/eventos/centenario-do-nascimento-do-engo-camilo-de-mendonca/
CATEGORIES:Conferência
END:VEVENT
BEGIN:VEVENT
DTSTART;VALUE=DATE:20210618
DTEND;VALUE=DATE:20210619
DTSTAMP:20260420T185756
CREATED:20220106T105836Z
LAST-MODIFIED:20220106T105836Z
UID:8523-1623974400-1624060799@esa.ipb.pt
SUMMARY:Use of SNP-arrays and Next generation sequencing datasets in gene mapping studies
DESCRIPTION:
URL:https://esa.ipb.pt/eventos/use-of-snp-arrays-and-next-generation-sequencing-datasets-in-gene-mapping-studies/
CATEGORIES:Seminário
END:VEVENT
BEGIN:VEVENT
DTSTART;VALUE=DATE:20210607
DTEND;VALUE=DATE:20210608
DTSTAMP:20260420T185756
CREATED:20220106T105836Z
LAST-MODIFIED:20220106T105836Z
UID:8521-1623024000-1623110399@esa.ipb.pt
SUMMARY:Seminário: Doença dentária em cães e gatos - Diagnóstico e Prevenção
DESCRIPTION:
URL:https://esa.ipb.pt/eventos/seminario-doenca-dentaria-em-caes-e-gatos-diagnostico-e-prevencao/
CATEGORIES:Seminário
END:VEVENT
BEGIN:VEVENT
DTSTART;VALUE=DATE:20210604
DTEND;VALUE=DATE:20210605
DTSTAMP:20260420T185756
CREATED:20220106T105836Z
LAST-MODIFIED:20220106T105836Z
UID:8518-1622764800-1622851199@esa.ipb.pt
SUMMARY:O IPB no reforço do sector florestal de Cabo Verde
DESCRIPTION:
URL:https://esa.ipb.pt/eventos/o-ipb-no-reforco-do-sector-florestal-de-cabo-verde/
CATEGORIES:Palestra
END:VEVENT
BEGIN:VEVENT
DTSTART;VALUE=DATE:20210514
DTEND;VALUE=DATE:20210516
DTSTAMP:20260420T185756
CREATED:20220106T105836Z
LAST-MODIFIED:20220106T105836Z
UID:8516-1620950400-1621123199@esa.ipb.pt
SUMMARY:A pastorícia nas estratégias de valorização e gestão integrada dos territórios rurais: desafios e oportunidades
DESCRIPTION:
URL:https://esa.ipb.pt/eventos/a-pastoricia-nas-estrategias-de-valorizacao-e-gestao-integrada-dos-territorios-rurais-desafios-e-oportunidades/
CATEGORIES:Webinar
END:VEVENT
BEGIN:VEVENT
DTSTART;VALUE=DATE:20210511
DTEND;VALUE=DATE:20210513
DTSTAMP:20260420T185756
CREATED:20220106T105836Z
LAST-MODIFIED:20220106T105836Z
UID:8514-1620691200-1620863999@esa.ipb.pt
SUMMARY:XXI Semana das Ciências Agrárias
DESCRIPTION:
URL:https://esa.ipb.pt/eventos/xxi-semana-das-ciencias-agrarias/
CATEGORIES:Congresso,Webinar
END:VEVENT
BEGIN:VEVENT
DTSTART;VALUE=DATE:20210503
DTEND;VALUE=DATE:20210522
DTSTAMP:20260420T185756
CREATED:20220106T105836Z
LAST-MODIFIED:20220106T105836Z
UID:8509-1620000000-1621641599@esa.ipb.pt
SUMMARY:Metodologia de Superfície de Resposta (MSR)
DESCRIPTION:
URL:https://esa.ipb.pt/eventos/metodologia-de-superficie-de-resposta-msr/
CATEGORIES:Workshop
END:VEVENT
BEGIN:VEVENT
DTSTART;VALUE=DATE:20210422
DTEND;VALUE=DATE:20210423
DTSTAMP:20260420T185756
CREATED:20220106T105836Z
LAST-MODIFIED:20220106T105836Z
UID:8506-1619049600-1619135999@esa.ipb.pt
SUMMARY:Futuro da Europa – Plano de Recuperação e Resiliência
DESCRIPTION:
URL:https://esa.ipb.pt/eventos/futuro-da-europa-plano-de-recuperacao-e-resiliencia/
CATEGORIES:Webinar
END:VEVENT
BEGIN:VEVENT
DTSTART;VALUE=DATE:20210407
DTEND;VALUE=DATE:20210408
DTSTAMP:20260420T185756
CREATED:20220106T105836Z
LAST-MODIFIED:20220106T105836Z
UID:8503-1617753600-1617839999@esa.ipb.pt
SUMMARY:Webinar “Combate ao Desperdício Alimentar | Da Investigação à Indústria - Estratégias Integradas para a Valorização do Setor Agroalimentar"
DESCRIPTION:
URL:https://esa.ipb.pt/eventos/webinar-combate-ao-desperdicio-alimentar-da-investigacao-a-industria-estrategias-integradas-para-a-valorizacao-do-setor-agroalimentar/
CATEGORIES:Webinar
END:VEVENT
END:VCALENDAR