BEGIN:VCALENDAR
VERSION:2.0
PRODID:-//ESA-IPB - ECPv6.15.20//NONSGML v1.0//EN
CALSCALE:GREGORIAN
METHOD:PUBLISH
X-WR-CALNAME:ESA-IPB
X-ORIGINAL-URL:https://esa.ipb.pt
X-WR-CALDESC:Eventos para ESA-IPB
REFRESH-INTERVAL;VALUE=DURATION:PT1H
X-Robots-Tag:noindex
X-PUBLISHED-TTL:PT1H
BEGIN:VTIMEZONE
TZID:Europe/Lisbon
BEGIN:DAYLIGHT
TZOFFSETFROM:+0000
TZOFFSETTO:+0100
TZNAME:WEST
DTSTART:20150329T010000
END:DAYLIGHT
BEGIN:STANDARD
TZOFFSETFROM:+0100
TZOFFSETTO:+0000
TZNAME:WET
DTSTART:20151025T010000
END:STANDARD
BEGIN:DAYLIGHT
TZOFFSETFROM:+0000
TZOFFSETTO:+0100
TZNAME:WEST
DTSTART:20160327T010000
END:DAYLIGHT
BEGIN:STANDARD
TZOFFSETFROM:+0100
TZOFFSETTO:+0000
TZNAME:WET
DTSTART:20161030T010000
END:STANDARD
BEGIN:DAYLIGHT
TZOFFSETFROM:+0000
TZOFFSETTO:+0100
TZNAME:WEST
DTSTART:20170326T010000
END:DAYLIGHT
BEGIN:STANDARD
TZOFFSETFROM:+0100
TZOFFSETTO:+0000
TZNAME:WET
DTSTART:20171029T010000
END:STANDARD
BEGIN:DAYLIGHT
TZOFFSETFROM:+0000
TZOFFSETTO:+0100
TZNAME:WEST
DTSTART:20180325T010000
END:DAYLIGHT
BEGIN:STANDARD
TZOFFSETFROM:+0100
TZOFFSETTO:+0000
TZNAME:WET
DTSTART:20181028T010000
END:STANDARD
END:VTIMEZONE
BEGIN:VEVENT
DTSTART;VALUE=DATE:20160603
DTEND;VALUE=DATE:20160604
DTSTAMP:20260424T020356
CREATED:20220106T105836Z
LAST-MODIFIED:20220106T105836Z
UID:8152-1464912000-1464998399@esa.ipb.pt
SUMMARY:O Licenciamento de Indústrias Agroalimentares e Atividades Agrárias
DESCRIPTION:
URL:https://esa.ipb.pt/eventos/o-licenciamento-de-industrias-agroalimentares-e-atividades-agrarias/
CATEGORIES:Seminário
END:VEVENT
BEGIN:VEVENT
DTSTART;VALUE=DATE:20160722
DTEND;VALUE=DATE:20160723
DTSTAMP:20260424T020356
CREATED:20220106T105836Z
LAST-MODIFIED:20220106T105836Z
UID:8158-1469145600-1469231999@esa.ipb.pt
SUMMARY:DNA Barcoding of Portuguese Terrestrial Arthropods using NGS
DESCRIPTION:
URL:https://esa.ipb.pt/eventos/dna-barcoding-of-portuguese-terrestrial-arthropods-using-ngs/
CATEGORIES:Seminário
END:VEVENT
BEGIN:VEVENT
DTSTART;VALUE=DATE:20160723
DTEND;VALUE=DATE:20160725
DTSTAMP:20260424T020356
CREATED:20220106T105836Z
LAST-MODIFIED:20220106T105836Z
UID:8155-1469232000-1469404799@esa.ipb.pt
SUMMARY:Workshop de Anilhagem Científica
DESCRIPTION:Inscrições
URL:https://esa.ipb.pt/eventos/workshop-de-anilhagem-cientifica/
CATEGORIES:Workshop
END:VEVENT
BEGIN:VEVENT
DTSTART;VALUE=DATE:20160914
DTEND;VALUE=DATE:20160918
DTSTAMP:20260424T020356
CREATED:20220106T105836Z
LAST-MODIFIED:20220106T105836Z
UID:8117-1473811200-1474156799@esa.ipb.pt
SUMMARY:XXI Encontro da Sociedade Portuguesa de Eletroquímica & XVIII Encontro Ibérico de Eletroquímica
DESCRIPTION:
URL:https://esa.ipb.pt/eventos/xxi-encontro-da-sociedade-portuguesa-de-eletroquimica-xviii-encontro-iberico-de-eletroquimica/
CATEGORIES:Congresso
END:VEVENT
BEGIN:VEVENT
DTSTART;VALUE=DATE:20161003
DTEND;VALUE=DATE:20161006
DTSTAMP:20260424T020356
CREATED:20220106T105836Z
LAST-MODIFIED:20220106T105836Z
UID:8165-1475452800-1475711999@esa.ipb.pt
SUMMARY:Semana do Animal 2016
DESCRIPTION:
URL:https://esa.ipb.pt/eventos/semana-do-animal-2016/
END:VEVENT
BEGIN:VEVENT
DTSTART;VALUE=DATE:20161003
DTEND;VALUE=DATE:20161008
DTSTAMP:20260424T020356
CREATED:20220106T105836Z
LAST-MODIFIED:20220106T105836Z
UID:8021-1475452800-1475884799@esa.ipb.pt
SUMMARY:Mountains 2016
DESCRIPTION:
URL:https://esa.ipb.pt/eventos/mountains-2016/
CATEGORIES:Congresso
END:VEVENT
BEGIN:VEVENT
DTSTART;VALUE=DATE:20161013
DTEND;VALUE=DATE:20161014
DTSTAMP:20260424T020357
CREATED:20220106T105836Z
LAST-MODIFIED:20220106T105836Z
UID:8170-1476316800-1476403199@esa.ipb.pt
SUMMARY:Seminários de AgroBioTecnologia - Ações de pesquisa\, ensino e extensão em fitopatologia na Universidade Federal de Santa Maria - UFSM
DESCRIPTION:
URL:https://esa.ipb.pt/eventos/seminarios-de-agrobiotecnologia-acoes-de-pesquisa-ensino-e-extensao-em-fitopatologia-na-universidade-federal-de-santa-maria-ufsm/
CATEGORIES:Seminário
END:VEVENT
BEGIN:VEVENT
DTSTART;VALUE=DATE:20161014
DTEND;VALUE=DATE:20161015
DTSTAMP:20260424T020357
CREATED:20220106T105836Z
LAST-MODIFIED:20220106T105836Z
UID:8167-1476403200-1476489599@esa.ipb.pt
SUMMARY:Enfermagem Veterinária - Diferentes Desafios
DESCRIPTION:
URL:https://esa.ipb.pt/eventos/enfermagem-veterinaria-diferentes-desafios/
CATEGORIES:Seminário
END:VEVENT
BEGIN:VEVENT
DTSTART;VALUE=DATE:20161118
DTEND;VALUE=DATE:20161119
DTSTAMP:20260424T020357
CREATED:20220106T105836Z
LAST-MODIFIED:20220106T105836Z
UID:8173-1479427200-1479513599@esa.ipb.pt
SUMMARY:Preparação de Amostras em Citologia Veterinária
DESCRIPTION:
URL:https://esa.ipb.pt/eventos/preparacao-de-amostras-em-citologia-veterinaria/
CATEGORIES:Workshop
END:VEVENT
BEGIN:VEVENT
DTSTART;VALUE=DATE:20161125
DTEND;VALUE=DATE:20161126
DTSTAMP:20260424T020357
CREATED:20220106T105836Z
LAST-MODIFIED:20220106T105836Z
UID:8175-1480032000-1480118399@esa.ipb.pt
SUMMARY:Seminário: "O cão de deteção como método de monitorização e conservação da fauna silvestre"
DESCRIPTION:
URL:https://esa.ipb.pt/eventos/seminario-o-cao-de-detecao-como-metodo-de-monitorizacao-e-conservacao-da-fauna-silvestre/
CATEGORIES:Seminário
END:VEVENT
BEGIN:VEVENT
DTSTART;VALUE=DATE:20161130
DTEND;VALUE=DATE:20161201
DTSTAMP:20260424T020357
CREATED:20220106T105836Z
LAST-MODIFIED:20220106T105836Z
UID:8178-1480464000-1480550399@esa.ipb.pt
SUMMARY:Leguminosas: conferência comemorativa do ano internacional das leguminosas
DESCRIPTION:
URL:https://esa.ipb.pt/eventos/leguminosas-conferencia-comemorativa-do-ano-internacional-das-leguminosas/
END:VEVENT
BEGIN:VEVENT
DTSTART;VALUE=DATE:20161215
DTEND;VALUE=DATE:20161217
DTSTAMP:20260424T020357
CREATED:20220106T105836Z
LAST-MODIFIED:20220106T105836Z
UID:8181-1481760000-1481932799@esa.ipb.pt
SUMMARY:workshop prático Recuperação de Animais Silvestres
DESCRIPTION:
URL:https://esa.ipb.pt/eventos/workshop-pratico-recuperacao-de-animais-silvestres/
CATEGORIES:Workshop
END:VEVENT
BEGIN:VEVENT
DTSTART;VALUE=DATE:20170222
DTEND;VALUE=DATE:20170223
DTSTAMP:20260424T020357
CREATED:20220106T105836Z
LAST-MODIFIED:20220106T105836Z
UID:8185-1487721600-1487807999@esa.ipb.pt
SUMMARY:FlorNext – Simulador de crescimento e de gestão das florestas do Nordeste Transmontano
DESCRIPTION:
URL:https://esa.ipb.pt/eventos/flornext-simulador-de-crescimento-e-de-gestao-das-florestas-do-nordeste-transmontano/
END:VEVENT
BEGIN:VEVENT
DTSTART;VALUE=DATE:20170316
DTEND;VALUE=DATE:20170317
DTSTAMP:20260424T020357
CREATED:20220106T105836Z
LAST-MODIFIED:20220106T105836Z
UID:8191-1489622400-1489708799@esa.ipb.pt
SUMMARY:Job Party
DESCRIPTION:
URL:https://esa.ipb.pt/eventos/job-party/
END:VEVENT
BEGIN:VEVENT
DTSTART;VALUE=DATE:20170329
DTEND;VALUE=DATE:20170330
DTSTAMP:20260424T020357
CREATED:20220106T105836Z
LAST-MODIFIED:20220106T105836Z
UID:8203-1490745600-1490831999@esa.ipb.pt
SUMMARY:O Futuro da Proteção dos Animais de Companhia
DESCRIPTION:
URL:https://esa.ipb.pt/eventos/o-futuro-da-protecao-dos-animais-de-companhia/
END:VEVENT
BEGIN:VEVENT
DTSTART;VALUE=DATE:20170330
DTEND;VALUE=DATE:20170331
DTSTAMP:20260424T020357
CREATED:20220106T105836Z
LAST-MODIFIED:20220106T105836Z
UID:8194-1490832000-1490918399@esa.ipb.pt
SUMMARY:III Encontro MilkPoint Pequenos Ruminantes
DESCRIPTION:
URL:https://esa.ipb.pt/eventos/iii-encontro-milkpoint-pequenos-ruminantes/
END:VEVENT
BEGIN:VEVENT
DTSTART;VALUE=DATE:20170407
DTEND;VALUE=DATE:20170408
DTSTAMP:20260424T020357
CREATED:20220106T105836Z
LAST-MODIFIED:20220106T105836Z
UID:8206-1491523200-1491609599@esa.ipb.pt
SUMMARY:1º Seminário de Enologia
DESCRIPTION:Inscrições
URL:https://esa.ipb.pt/eventos/1o-seminario-de-enologia/
CATEGORIES:Seminário
END:VEVENT
BEGIN:VEVENT
DTSTART;VALUE=DATE:20170421
DTEND;VALUE=DATE:20170422
DTSTAMP:20260424T020357
CREATED:20220106T105836Z
LAST-MODIFIED:20220106T105836Z
UID:8209-1492732800-1492819199@esa.ipb.pt
SUMMARY:Genómica na Ciência Animal
DESCRIPTION:
URL:https://esa.ipb.pt/eventos/genomica-na-ciencia-animal-2/
CATEGORIES:Palestra
END:VEVENT
BEGIN:VEVENT
DTSTART;VALUE=DATE:20170508
DTEND;VALUE=DATE:20170512
DTSTAMP:20260424T020357
CREATED:20220106T105836Z
LAST-MODIFIED:20220106T105836Z
UID:8212-1494201600-1494547199@esa.ipb.pt
SUMMARY:XVIII Semana das Ciências Agrárias
DESCRIPTION:
URL:https://esa.ipb.pt/eventos/xviii-semana-das-ciencias-agrarias/
CATEGORIES:Seminário
END:VEVENT
BEGIN:VEVENT
DTSTART;VALUE=DATE:20170517
DTEND;VALUE=DATE:20170518
DTSTAMP:20260424T020357
CREATED:20220106T105836Z
LAST-MODIFIED:20220106T105836Z
UID:8214-1494979200-1495065599@esa.ipb.pt
SUMMARY:Como conseguir emprego em 30 dias
DESCRIPTION:
URL:https://esa.ipb.pt/eventos/como-conseguir-emprego-em-30-dias/
CATEGORIES:Palestra
END:VEVENT
BEGIN:VEVENT
DTSTART;VALUE=DATE:20170526
DTEND;VALUE=DATE:20170527
DTSTAMP:20260424T020357
CREATED:20220106T105836Z
LAST-MODIFIED:20220106T105836Z
UID:8217-1495756800-1495843199@esa.ipb.pt
SUMMARY:Seminário Oncologia Veterinária
DESCRIPTION:
URL:https://esa.ipb.pt/eventos/seminario-oncologia-veterinaria/
CATEGORIES:Seminário
END:VEVENT
BEGIN:VEVENT
DTSTART;VALUE=DATE:20170602
DTEND;VALUE=DATE:20170604
DTSTAMP:20260424T020357
CREATED:20220106T105836Z
LAST-MODIFIED:20220106T105836Z
UID:8200-1496361600-1496534399@esa.ipb.pt
SUMMARY:Sistemas Agroflorestais: uma Herança com Futuro
DESCRIPTION:
URL:https://esa.ipb.pt/eventos/sistemas-agroflorestais-uma-heranca-com-futuro/
CATEGORIES:Seminário
END:VEVENT
BEGIN:VEVENT
DTSTART;VALUE=DATE:20170604
DTEND;VALUE=DATE:20170610
DTSTAMP:20260424T020357
CREATED:20220106T105836Z
LAST-MODIFIED:20220106T105836Z
UID:8161-1496534400-1497052799@esa.ipb.pt
SUMMARY:58th SEB Annual Meeting
DESCRIPTION:
URL:https://esa.ipb.pt/eventos/58th-seb-annual-meeting/
CATEGORIES:Congresso
END:VEVENT
BEGIN:VEVENT
DTSTART;VALUE=DATE:20170711
DTEND;VALUE=DATE:20170712
DTSTAMP:20260424T020357
CREATED:20220106T105836Z
LAST-MODIFIED:20220106T105836Z
UID:8220-1499731200-1499817599@esa.ipb.pt
SUMMARY:Workshop: Decisão Multi-critério: Teoria e Prática
DESCRIPTION:
URL:https://esa.ipb.pt/eventos/workshop-decisao-multi-criterio-teoria-e-pratica/
CATEGORIES:Workshop
END:VEVENT
BEGIN:VEVENT
DTSTART;VALUE=DATE:20170904
DTEND;VALUE=DATE:20170907
DTSTAMP:20260424T020357
CREATED:20220106T105836Z
LAST-MODIFIED:20220106T105836Z
UID:8183-1504483200-1504742399@esa.ipb.pt
SUMMARY:IX congresso ibérico de AGROENGENHARIA 2017
DESCRIPTION:
URL:https://esa.ipb.pt/eventos/ix-congresso-iberico-de-agroengenharia-2017/
CATEGORIES:Congresso
END:VEVENT
BEGIN:VEVENT
DTSTART;VALUE=DATE:20170919
DTEND;VALUE=DATE:20170921
DTSTAMP:20260424T020357
CREATED:20220106T105836Z
LAST-MODIFIED:20220106T105836Z
UID:8197-1505779200-1505951999@esa.ipb.pt
SUMMARY:PREDMICRO2017
DESCRIPTION:
URL:https://esa.ipb.pt/eventos/predmicro2017/
END:VEVENT
BEGIN:VEVENT
DTSTART;VALUE=DATE:20171021
DTEND;VALUE=DATE:20171023
DTSTAMP:20260424T020357
CREATED:20220106T105836Z
LAST-MODIFIED:20220106T105836Z
UID:8188-1508544000-1508716799@esa.ipb.pt
SUMMARY:V Congresso Internacional de Enfermagem Veterinária
DESCRIPTION:
URL:https://esa.ipb.pt/eventos/v-congresso-internacional-de-enfermagem-veterinaria/
CATEGORIES:Congresso
END:VEVENT
BEGIN:VEVENT
DTSTART;VALUE=DATE:20171027
DTEND;VALUE=DATE:20171028
DTSTAMP:20260424T020357
CREATED:20220106T105836Z
LAST-MODIFIED:20220106T105836Z
UID:8229-1509062400-1509148799@esa.ipb.pt
SUMMARY:El cambio climático: perspectivas y adaptación de la viticultura
DESCRIPTION:
URL:https://esa.ipb.pt/eventos/el-cambio-climatico-perspectivas-y-adaptacion-de-la-viticultura/
CATEGORIES:Seminário
END:VEVENT
BEGIN:VEVENT
DTSTART;VALUE=DATE:20171030
DTEND;VALUE=DATE:20171102
DTSTAMP:20260424T020357
CREATED:20220106T105836Z
LAST-MODIFIED:20220106T105836Z
UID:8226-1509321600-1509580799@esa.ipb.pt
SUMMARY:Training School: Beginners course in ecological network analysis of multi-species interactions
DESCRIPTION:
URL:https://esa.ipb.pt/eventos/training-school-beginners-course-in-ecological-network-analysis-of-multi-species-interactions/
END:VEVENT
BEGIN:VEVENT
DTSTART;VALUE=DATE:20171109
DTEND;VALUE=DATE:20171110
DTSTAMP:20260424T020357
CREATED:20220106T105836Z
LAST-MODIFIED:20220106T105836Z
UID:8231-1510185600-1510271999@esa.ipb.pt
SUMMARY:Seminário Comportamento Felino
DESCRIPTION:
URL:https://esa.ipb.pt/eventos/seminario-comportamento-felino/
CATEGORIES:Seminário
END:VEVENT
END:VCALENDAR