BEGIN:VCALENDAR
VERSION:2.0
PRODID:-//ESA-IPB - ECPv6.15.20//NONSGML v1.0//EN
CALSCALE:GREGORIAN
METHOD:PUBLISH
X-WR-CALNAME:ESA-IPB
X-ORIGINAL-URL:https://esa.ipb.pt
X-WR-CALDESC:Eventos para ESA-IPB
REFRESH-INTERVAL;VALUE=DURATION:PT1H
X-Robots-Tag:noindex
X-PUBLISHED-TTL:PT1H
BEGIN:VTIMEZONE
TZID:Europe/Lisbon
BEGIN:DAYLIGHT
TZOFFSETFROM:+0000
TZOFFSETTO:+0100
TZNAME:WEST
DTSTART:20150329T010000
END:DAYLIGHT
BEGIN:STANDARD
TZOFFSETFROM:+0100
TZOFFSETTO:+0000
TZNAME:WET
DTSTART:20151025T010000
END:STANDARD
BEGIN:DAYLIGHT
TZOFFSETFROM:+0000
TZOFFSETTO:+0100
TZNAME:WEST
DTSTART:20160327T010000
END:DAYLIGHT
BEGIN:STANDARD
TZOFFSETFROM:+0100
TZOFFSETTO:+0000
TZNAME:WET
DTSTART:20161030T010000
END:STANDARD
BEGIN:DAYLIGHT
TZOFFSETFROM:+0000
TZOFFSETTO:+0100
TZNAME:WEST
DTSTART:20170326T010000
END:DAYLIGHT
BEGIN:STANDARD
TZOFFSETFROM:+0100
TZOFFSETTO:+0000
TZNAME:WET
DTSTART:20171029T010000
END:STANDARD
END:VTIMEZONE
BEGIN:VEVENT
DTSTART;VALUE=DATE:20160303
DTEND;VALUE=DATE:20160304
DTSTAMP:20260423T010029
CREATED:20220106T105836Z
LAST-MODIFIED:20220106T105836Z
UID:8090-1456963200-1457049599@esa.ipb.pt
SUMMARY:Vitaminas para o Emprego
DESCRIPTION:
URL:https://esa.ipb.pt/eventos/vitaminas-para-o-emprego/
END:VEVENT
BEGIN:VEVENT
DTSTART;VALUE=DATE:20160304
DTEND;VALUE=DATE:20160305
DTSTAMP:20260423T010029
CREATED:20220106T105836Z
LAST-MODIFIED:20240410T142559Z
UID:8094-1457049600-1457135999@esa.ipb.pt
SUMMARY:Seminários de Enfermagem Veterinária: Nutrição clínica em cães e gatos
DESCRIPTION:
URL:https://esa.ipb.pt/eventos/seminarios-de-enfermagem-veterinaria-nutricao-clinica-em-caes-e-gatos/
CATEGORIES:Seminário
ATTACH;FMTTYPE=image/png:https://esa.ipb.pt/wp-content/uploads/ev-3.png
END:VEVENT
BEGIN:VEVENT
DTSTART;VALUE=DATE:20160317
DTEND;VALUE=DATE:20160318
DTSTAMP:20260423T010029
CREATED:20220106T105836Z
LAST-MODIFIED:20220106T105836Z
UID:8102-1458172800-1458259199@esa.ipb.pt
SUMMARY:Europass CV Júnior
DESCRIPTION:
URL:https://esa.ipb.pt/eventos/europass-cv-junior/
END:VEVENT
BEGIN:VEVENT
DTSTART;VALUE=DATE:20160318
DTEND;VALUE=DATE:20160319
DTSTAMP:20260423T010029
CREATED:20220106T105836Z
LAST-MODIFIED:20220106T105836Z
UID:8097-1458259200-1458345599@esa.ipb.pt
SUMMARY:Preparação de Amostras em Histologia Veterinária
DESCRIPTION:
URL:https://esa.ipb.pt/eventos/preparacao-de-amostras-em-histologia-veterinaria/
CATEGORIES:Workshop
END:VEVENT
BEGIN:VEVENT
DTSTART;VALUE=DATE:20160318
DTEND;VALUE=DATE:20160324
DTSTAMP:20260423T010029
CREATED:20220106T105836Z
LAST-MODIFIED:20220106T105836Z
UID:8087-1458259200-1458777599@esa.ipb.pt
SUMMARY:II Curso Avançado - A tracção animal na gestão agroflorestal sustentável
DESCRIPTION:
URL:https://esa.ipb.pt/eventos/ii-curso-avancado-a-traccao-animal-na-gestao-agroflorestal-sustentavel/
END:VEVENT
BEGIN:VEVENT
DTSTART;VALUE=DATE:20160329
DTEND;VALUE=DATE:20160330
DTSTAMP:20260423T010029
CREATED:20220106T105836Z
LAST-MODIFIED:20220106T105836Z
UID:8100-1459209600-1459295999@esa.ipb.pt
SUMMARY:Enfermagem Veterinária – Presente e Futuro
DESCRIPTION:Enfermagem Veterinária – Presente e Futuro 2016\nInscrições em: http://esa.ipb.pt/enfvet2016/
URL:https://esa.ipb.pt/eventos/enfermagem-veterinaria-presente-e-futuro-2/
CATEGORIES:Congresso
END:VEVENT
BEGIN:VEVENT
DTSTART;VALUE=DATE:20160331
DTEND;VALUE=DATE:20160402
DTSTAMP:20260423T010029
CREATED:20220106T105836Z
LAST-MODIFIED:20220106T105836Z
UID:8108-1459382400-1459555199@esa.ipb.pt
SUMMARY:Workshop Dermofarmácia 2016
DESCRIPTION:
URL:https://esa.ipb.pt/eventos/workshop-dermofarmacia-2016/
CATEGORIES:Workshop
END:VEVENT
BEGIN:VEVENT
DTSTART;VALUE=DATE:20160408
DTEND;VALUE=DATE:20160409
DTSTAMP:20260423T010029
CREATED:20220106T105836Z
LAST-MODIFIED:20220106T105836Z
UID:8119-1460073600-1460159999@esa.ipb.pt
SUMMARY:Seminários de Tecnologia Ambiental - Tecnossistemas de Gestão de Resíduos
DESCRIPTION:
URL:https://esa.ipb.pt/eventos/seminarios-de-tecnologia-ambiental-tecnossistemas-de-gestao-de-residuos/
CATEGORIES:Seminário
END:VEVENT
BEGIN:VEVENT
DTSTART;VALUE=DATE:20160409
DTEND;VALUE=DATE:20160410
DTSTAMP:20260423T010029
CREATED:20220106T105836Z
LAST-MODIFIED:20220106T105836Z
UID:8121-1460160000-1460246399@esa.ipb.pt
SUMMARY:Seminários de Tecnologia Ambiental - Gestão de fileiras e fluxos específicos de resíduos
DESCRIPTION:
URL:https://esa.ipb.pt/eventos/seminarios-de-tecnologia-ambiental-gestao-de-fileiras-e-fluxos-especificos-de-residuos/
CATEGORIES:Seminário
END:VEVENT
BEGIN:VEVENT
DTSTART;VALUE=DATE:20160411
DTEND;VALUE=DATE:20160413
DTSTAMP:20260423T010029
CREATED:20220106T105836Z
LAST-MODIFIED:20220106T105836Z
UID:8105-1460332800-1460505599@esa.ipb.pt
SUMMARY:Traditional baking in Europe: learning from each other
DESCRIPTION:
URL:https://esa.ipb.pt/eventos/traditional-baking-in-europe-learning-from-each-other/
CATEGORIES:Congresso,Workshop
END:VEVENT
BEGIN:VEVENT
DTSTART;VALUE=DATE:20160413
DTEND;VALUE=DATE:20160414
DTSTAMP:20260423T010029
CREATED:20220106T105836Z
LAST-MODIFIED:20220106T105836Z
UID:8130-1460505600-1460591999@esa.ipb.pt
SUMMARY:Importância do Melhoramento de Plantas na Produção de Alimentos
DESCRIPTION:
URL:https://esa.ipb.pt/eventos/importancia-do-melhoramento-de-plantas-na-producao-de-alimentos/
CATEGORIES:Conferência
END:VEVENT
BEGIN:VEVENT
DTSTART;VALUE=DATE:20160415
DTEND;VALUE=DATE:20160416
DTSTAMP:20260423T010029
CREATED:20220106T105836Z
LAST-MODIFIED:20220106T105836Z
UID:8114-1460678400-1460764799@esa.ipb.pt
SUMMARY:Genómica na Ciência Animal
DESCRIPTION:
URL:https://esa.ipb.pt/eventos/genomica-na-ciencia-animal/
CATEGORIES:Palestra
END:VEVENT
BEGIN:VEVENT
DTSTART;VALUE=DATE:20160423
DTEND;VALUE=DATE:20160424
DTSTAMP:20260423T010029
CREATED:20220106T105836Z
LAST-MODIFIED:20220106T105836Z
UID:8136-1461369600-1461455999@esa.ipb.pt
SUMMARY:Valorização energética\, Tratamentos térmicos\, Bioetanol\, Biodiesel
DESCRIPTION:
URL:https://esa.ipb.pt/eventos/valorizacao-energetica-tratamentos-termicos-bioetanol-biodiesel/
CATEGORIES:Seminário
END:VEVENT
BEGIN:VEVENT
DTSTART;VALUE=DATE:20160427
DTEND;VALUE=DATE:20160428
DTSTAMP:20260423T010029
CREATED:20220106T105836Z
LAST-MODIFIED:20220106T105836Z
UID:8133-1461715200-1461801599@esa.ipb.pt
SUMMARY:Medicina Veterinária Preventiva
DESCRIPTION:
URL:https://esa.ipb.pt/eventos/medicina-veterinaria-preventiva/
CATEGORIES:Seminário
END:VEVENT
BEGIN:VEVENT
DTSTART;VALUE=DATE:20160506
DTEND;VALUE=DATE:20160515
DTSTAMP:20260423T010029
CREATED:20220106T105836Z
LAST-MODIFIED:20220106T105836Z
UID:8111-1462492800-1463270399@esa.ipb.pt
SUMMARY:Higiene e segurança no trabalho
DESCRIPTION:Informações e Inscrições em: http://esa.ipb.pt/hst2016/
URL:https://esa.ipb.pt/eventos/higiene-e-seguranca-no-trabalho-2016/
CATEGORIES:Seminário,Workshop
END:VEVENT
BEGIN:VEVENT
DTSTART;VALUE=DATE:20160509
DTEND;VALUE=DATE:20160510
DTSTAMP:20260423T010029
CREATED:20220106T105836Z
LAST-MODIFIED:20220106T105836Z
UID:8127-1462752000-1462838399@esa.ipb.pt
SUMMARY:Seminários 2016 - Ensaios da distribuição de adubos granulados com adubadoras centrifugas & Los secretos de la abonadoras y su regulación
DESCRIPTION:
URL:https://esa.ipb.pt/eventos/seminarios-2016-ensaios-da-distribuicao-de-adubos-granulados-com-adubadoras-centrifugas-los-secretos-de-la-abonadoras-y-su-regulacion/
CATEGORIES:Seminário
END:VEVENT
BEGIN:VEVENT
DTSTART;VALUE=DATE:20160509
DTEND;VALUE=DATE:20160513
DTSTAMP:20260423T010029
CREATED:20220106T105836Z
LAST-MODIFIED:20220106T105836Z
UID:8124-1462752000-1463097599@esa.ipb.pt
SUMMARY:XVII Semana das Ciências Agrárias
DESCRIPTION:
URL:https://esa.ipb.pt/eventos/xvii-semana-das-ciencias-agrarias/
CATEGORIES:Conferência,Congresso,Palestra
END:VEVENT
BEGIN:VEVENT
DTSTART;VALUE=DATE:20160516
DTEND;VALUE=DATE:20160517
DTSTAMP:20260423T010029
CREATED:20220106T105836Z
LAST-MODIFIED:20220106T105836Z
UID:8141-1463356800-1463443199@esa.ipb.pt
SUMMARY:Inseminação artificial em cunicultura
DESCRIPTION:Informações e Inscrições em http://esa.ipb.pt/cunicultura
URL:https://esa.ipb.pt/eventos/inseminacao-artificial-em-cunicultura-2016/
CATEGORIES:Workshop
END:VEVENT
BEGIN:VEVENT
DTSTART;VALUE=DATE:20160516
DTEND;VALUE=DATE:20160522
DTSTAMP:20260423T010029
CREATED:20220106T105836Z
LAST-MODIFIED:20220106T105836Z
UID:8139-1463356800-1463875199@esa.ipb.pt
SUMMARY:Ultrassonografia em Tempo Real
DESCRIPTION:Informações e Inscrições em http://esa.ipb.pt/utr2016
URL:https://esa.ipb.pt/eventos/ultrassonografia-em-tempo-real/
END:VEVENT
BEGIN:VEVENT
DTSTART;VALUE=DATE:20160517
DTEND;VALUE=DATE:20160520
DTSTAMP:20260423T010029
CREATED:20220106T105836Z
LAST-MODIFIED:20220106T105836Z
UID:8144-1463443200-1463702399@esa.ipb.pt
SUMMARY:12ª Semana ERASMUS
DESCRIPTION:
URL:https://esa.ipb.pt/eventos/12a-semana-erasmus/
CATEGORIES:Palestra,Seminário
END:VEVENT
BEGIN:VEVENT
DTSTART;VALUE=DATE:20160520
DTEND;VALUE=DATE:20160521
DTSTAMP:20260423T010029
CREATED:20220106T105836Z
LAST-MODIFIED:20220106T105836Z
UID:8146-1463702400-1463788799@esa.ipb.pt
SUMMARY:O Solo nos Ecossistemas: o papel da Matéria Orgânica
DESCRIPTION:
URL:https://esa.ipb.pt/eventos/o-solo-nos-ecossistemas-o-papel-da-materia-organica/
CATEGORIES:Seminário
END:VEVENT
BEGIN:VEVENT
DTSTART;VALUE=DATE:20160524
DTEND;VALUE=DATE:20160525
DTSTAMP:20260423T010029
CREATED:20220106T105836Z
LAST-MODIFIED:20220106T105836Z
UID:8149-1464048000-1464134399@esa.ipb.pt
SUMMARY:Recolha de animais abandonados. E agora?
DESCRIPTION:
URL:https://esa.ipb.pt/eventos/recolha-de-animais-abandonados-e-agora/
CATEGORIES:Seminário
END:VEVENT
BEGIN:VEVENT
DTSTART;VALUE=DATE:20160525
DTEND;VALUE=DATE:20160528
DTSTAMP:20260423T010029
CREATED:20220106T105836Z
LAST-MODIFIED:20220106T105836Z
UID:8048-1464134400-1464393599@esa.ipb.pt
SUMMARY:Summer Workshop: Meta-Analytical Methods in Food Safety Research
DESCRIPTION:
URL:https://esa.ipb.pt/eventos/summer-workshop-meta-analytical-methods-in-food-safety-research/
CATEGORIES:Workshop
END:VEVENT
BEGIN:VEVENT
DTSTART;VALUE=DATE:20160603
DTEND;VALUE=DATE:20160604
DTSTAMP:20260423T010029
CREATED:20220106T105836Z
LAST-MODIFIED:20220106T105836Z
UID:8152-1464912000-1464998399@esa.ipb.pt
SUMMARY:O Licenciamento de Indústrias Agroalimentares e Atividades Agrárias
DESCRIPTION:
URL:https://esa.ipb.pt/eventos/o-licenciamento-de-industrias-agroalimentares-e-atividades-agrarias/
CATEGORIES:Seminário
END:VEVENT
BEGIN:VEVENT
DTSTART;VALUE=DATE:20160722
DTEND;VALUE=DATE:20160723
DTSTAMP:20260423T010029
CREATED:20220106T105836Z
LAST-MODIFIED:20220106T105836Z
UID:8158-1469145600-1469231999@esa.ipb.pt
SUMMARY:DNA Barcoding of Portuguese Terrestrial Arthropods using NGS
DESCRIPTION:
URL:https://esa.ipb.pt/eventos/dna-barcoding-of-portuguese-terrestrial-arthropods-using-ngs/
CATEGORIES:Seminário
END:VEVENT
BEGIN:VEVENT
DTSTART;VALUE=DATE:20160723
DTEND;VALUE=DATE:20160725
DTSTAMP:20260423T010029
CREATED:20220106T105836Z
LAST-MODIFIED:20220106T105836Z
UID:8155-1469232000-1469404799@esa.ipb.pt
SUMMARY:Workshop de Anilhagem Científica
DESCRIPTION:Inscrições
URL:https://esa.ipb.pt/eventos/workshop-de-anilhagem-cientifica/
CATEGORIES:Workshop
END:VEVENT
BEGIN:VEVENT
DTSTART;VALUE=DATE:20160914
DTEND;VALUE=DATE:20160918
DTSTAMP:20260423T010029
CREATED:20220106T105836Z
LAST-MODIFIED:20220106T105836Z
UID:8117-1473811200-1474156799@esa.ipb.pt
SUMMARY:XXI Encontro da Sociedade Portuguesa de Eletroquímica & XVIII Encontro Ibérico de Eletroquímica
DESCRIPTION:
URL:https://esa.ipb.pt/eventos/xxi-encontro-da-sociedade-portuguesa-de-eletroquimica-xviii-encontro-iberico-de-eletroquimica/
CATEGORIES:Congresso
END:VEVENT
BEGIN:VEVENT
DTSTART;VALUE=DATE:20161003
DTEND;VALUE=DATE:20161006
DTSTAMP:20260423T010029
CREATED:20220106T105836Z
LAST-MODIFIED:20220106T105836Z
UID:8165-1475452800-1475711999@esa.ipb.pt
SUMMARY:Semana do Animal 2016
DESCRIPTION:
URL:https://esa.ipb.pt/eventos/semana-do-animal-2016/
END:VEVENT
BEGIN:VEVENT
DTSTART;VALUE=DATE:20161003
DTEND;VALUE=DATE:20161008
DTSTAMP:20260423T010029
CREATED:20220106T105836Z
LAST-MODIFIED:20220106T105836Z
UID:8021-1475452800-1475884799@esa.ipb.pt
SUMMARY:Mountains 2016
DESCRIPTION:
URL:https://esa.ipb.pt/eventos/mountains-2016/
CATEGORIES:Congresso
END:VEVENT
BEGIN:VEVENT
DTSTART;VALUE=DATE:20161013
DTEND;VALUE=DATE:20161014
DTSTAMP:20260423T010029
CREATED:20220106T105836Z
LAST-MODIFIED:20220106T105836Z
UID:8170-1476316800-1476403199@esa.ipb.pt
SUMMARY:Seminários de AgroBioTecnologia - Ações de pesquisa\, ensino e extensão em fitopatologia na Universidade Federal de Santa Maria - UFSM
DESCRIPTION:
URL:https://esa.ipb.pt/eventos/seminarios-de-agrobiotecnologia-acoes-de-pesquisa-ensino-e-extensao-em-fitopatologia-na-universidade-federal-de-santa-maria-ufsm/
CATEGORIES:Seminário
END:VEVENT
END:VCALENDAR