BEGIN:VCALENDAR
VERSION:2.0
PRODID:-//ESA-IPB - ECPv6.15.20//NONSGML v1.0//EN
CALSCALE:GREGORIAN
METHOD:PUBLISH
X-WR-CALNAME:ESA-IPB
X-ORIGINAL-URL:https://esa.ipb.pt
X-WR-CALDESC:Eventos para ESA-IPB
REFRESH-INTERVAL;VALUE=DURATION:PT1H
X-Robots-Tag:noindex
X-PUBLISHED-TTL:PT1H
BEGIN:VTIMEZONE
TZID:Europe/Lisbon
BEGIN:DAYLIGHT
TZOFFSETFROM:+0000
TZOFFSETTO:+0100
TZNAME:WEST
DTSTART:20080330T010000
END:DAYLIGHT
BEGIN:STANDARD
TZOFFSETFROM:+0100
TZOFFSETTO:+0000
TZNAME:WET
DTSTART:20081026T010000
END:STANDARD
BEGIN:DAYLIGHT
TZOFFSETFROM:+0000
TZOFFSETTO:+0100
TZNAME:WEST
DTSTART:20090329T010000
END:DAYLIGHT
BEGIN:STANDARD
TZOFFSETFROM:+0100
TZOFFSETTO:+0000
TZNAME:WET
DTSTART:20091025T010000
END:STANDARD
BEGIN:DAYLIGHT
TZOFFSETFROM:+0000
TZOFFSETTO:+0100
TZNAME:WEST
DTSTART:20100328T010000
END:DAYLIGHT
BEGIN:STANDARD
TZOFFSETFROM:+0100
TZOFFSETTO:+0000
TZNAME:WET
DTSTART:20101031T010000
END:STANDARD
BEGIN:DAYLIGHT
TZOFFSETFROM:+0000
TZOFFSETTO:+0100
TZNAME:WEST
DTSTART:20110327T010000
END:DAYLIGHT
BEGIN:STANDARD
TZOFFSETFROM:+0100
TZOFFSETTO:+0000
TZNAME:WET
DTSTART:20111030T010000
END:STANDARD
END:VTIMEZONE
BEGIN:VEVENT
DTSTART;VALUE=DATE:20090206
DTEND;VALUE=DATE:20090208
DTSTAMP:20260423T191812
CREATED:20220106T105836Z
LAST-MODIFIED:20220106T105836Z
UID:7221-1233878400-1234051199@esa.ipb.pt
SUMMARY:Workshop - Técnicas analíticas aplicadas a produtos alimentares
DESCRIPTION:SEXTA-FEIRA \n13.30H (1H) “RMN e técnicas relacionadas aplicadas ao controlo dos alimentos” Dr. Gonçalo Graça\, UAveiro\n14.30H (1H) “Métodos de espectroscopia de RMN no controlo da qualidade da cerveja e seu processo de fabrico” Dr. João Aleixo Rodrigues\, UAveiro\nIntervalo para café\n16.00H (1H) “Espectrometria de massa: fundamentos e aplicações em análises de alimentos” Doutora Mª Rosário Domingues\, UAveiro\n17.00H (1H) “Aplicação da espectrometria de massa na caracterização de polissacarídeos – importância para a qualidade dos produtos alimentares” – Doutor Fernando Nunes\, UTAD\n18.00H (20’) “Identificação de compostos antioxidantes em propólis por espectrometria de massa” Drª Soraia Falcão\, IPB \nSÁBADO \n9.30h (3H) “A reologia no comportamento viscoelástico dos Alimentos” Doutora Dora Santos Pedro\, SAPort – Eng. Seg. Alimentar; Escola Sup. de Biotecnologia do Porto\nAlmoço\n14H (3H) “Análise multivariada na extracção de informação de espectros de infravermelho” Doutor António Barros\, UAveiro
URL:https://esa.ipb.pt/eventos/workshop-tecnicas-analiticas-aplicadas-a-produtos-alimentares/
CATEGORIES:Workshop
END:VEVENT
BEGIN:VEVENT
DTSTART;VALUE=DATE:20090228
DTEND;VALUE=DATE:20090302
DTSTAMP:20260423T191812
CREATED:20220106T105836Z
LAST-MODIFIED:20220106T105836Z
UID:7224-1235779200-1235951999@esa.ipb.pt
SUMMARY:Curso de Líquenes como Bioindicadores de Poluição Atmosférica
DESCRIPTION:
URL:https://esa.ipb.pt/eventos/curso-de-liquenes-como-bioindicadores-de-poluicao-atmosferica/
CATEGORIES:Workshop
END:VEVENT
BEGIN:VEVENT
DTSTART;VALUE=DATE:20090304
DTEND;VALUE=DATE:20090305
DTSTAMP:20260423T191812
CREATED:20220106T105836Z
LAST-MODIFIED:20220106T105836Z
UID:7233-1236124800-1236211199@esa.ipb.pt
SUMMARY:Dia aberto do IPB
DESCRIPTION:No próximo dia 4 de Março de 2009 irá decorrer o Dia Aberto do Instituto Politécnico de Bragança – IPB\, com o objectivo de abrir as portas ao público em geral e divulgar a oferta formativa disponível no IPB\, permitindo a todos e aos alunos do Ensino Secundário\, em particular\, um contacto privilegiado com o Ensino Superior. \nAo abrir as suas portas a\, entre outros\, alunos de 10º\, 11º e 12º anos\, CEFs T5 e T6 e Cursos Profissionais\, o IPB oferecerá várias actividades desde demonstrações\, visitas a laboratórios e actividades experimentais nas áreas de: \nArtes\, Comunicação e Multimédia\n1. Workshop de desenho\n2. Fotografar sem máquina\n3. Workshop no Laboratório de Línguas \nTurismo\, Desporto e Lazer\n4. Workshop de Desporto \nRecursos Naturais\n5. Sabes que as plantas também têm pêlos? Vem ver como são e para que servem!\n6. Como se avalia a saúde dos cursos de água\n7. A biologia das joaninhas\n8. Vem descobrir o que é a farmacognosia e a sua importância no mundo dos produtos naturais\n9. Produção de plantas in vitro\n10. Um Cheirinho e Sabor Natural \nTecnologias\n11. Descobre o que torna as bananas doces!\n12. Qualidade do Leite – Vem avaliá-la!\n13. Não deixes que a fruta escureça!\n14. Clonagem de genes\n15. EUREKit – Vamos Jogar?\n16. Construção 3D De Modelos Biomédicos\n17. O Mundo Visto pelo Microscópio\n18. Paineis Fotovoltaicos e Sistema de Medição de Sinais Eléctricos!\n19. A Água e o Vento\n20. O Mistério da Terra…\n21. A nossa Terra numa folha de papel…\n22. BIODIESEL: Um Combustível Alternativo!\n23. Robótica\n24. Simulação da Ligação de uma Central Eléctrica à Rede\n25. O Campo Magnético\n26. Que Água Bebes?\n27. Veículo Guiado Via Internet\n28. Realidade Virtual\n29. Vem conhecer o carro ECO-ESTiG!\n30. A força da Panificação\n31. Tecnologias animais da matéria-prima ao produto final \nSaúde e Protecção Social\n32. Determinação de Grupos Sanguíneos\n33. Gestos que salvam\n34. Simulação de Prestação de Cuidados de Saúde\n35. Nascer Saudável\n36. Cold Cream\n37. Prova sensorial de batata frita \nCidadania Europeia\n38. Queres ir Estudar para outro Estado-Membro da União Europeia? Quais as Oportunidades? Quais os teus Direitos? \nAs actividades irão decorrer nas instalações das Escolas Superior Agrária\, Superior de Educação\, Superior de Tecnologia e Gestão (Campus de Santa Apolónia) e Superior de Saúde (Av. D. Afonso V). \nO acesso a estas actividades obedece a uma inscrição prévia\, que poderá ser efectuada on line em http://diaaberto.ipb.pt/\, até ao dia 27 de Fevereiro de 2009. Com base nas fichas de inscrição a organização irá elaborar um programa para cada grupo de alunos/participantes. \nA recepção dos alunos/participantes será efectuada no Campus de Santa Apolónia\, sendo indicado um guia do IPB que acompanhará cada grupo\, durante o tempo que permanecer no Campus. \nOs almoços na Cantina do IPB serão oferecidos a todos os participantes destas Jornadas\, desde que o mencionem na ficha de inscrição. \nVenham conhecer-nos! http://diaaberto.ipb.pt/
URL:https://esa.ipb.pt/eventos/2009-dia-aberto-do-ipb/
END:VEVENT
BEGIN:VEVENT
DTSTART;VALUE=DATE:20090306
DTEND;VALUE=DATE:20090308
DTSTAMP:20260423T191812
CREATED:20220106T105836Z
LAST-MODIFIED:20220106T105836Z
UID:7228-1236297600-1236470399@esa.ipb.pt
SUMMARY:Workshop - Técnicas analíticas aplicadas a produtos alimentares
DESCRIPTION:O Workshop “Técnicas analíticas aplicadas a produtos alimentares” irá funcionar na Sexta-feira e Sábado (dias 6 e 7 de Março) no Auditório Pequeno da Escola Superior Agrária de Bragança. A inscrição poderá se efectuada na Sexta-feira a partir das 10.30 horas\, junto ao Auditório Pequeno.
URL:https://esa.ipb.pt/eventos/2009-workshop-tecnicas-analiticas-aplicadas-a-produtos-alimentares/
CATEGORIES:Workshop
END:VEVENT
BEGIN:VEVENT
DTSTART;VALUE=DATE:20090306
DTEND;VALUE=DATE:20090313
DTSTAMP:20260423T191812
CREATED:20220106T105836Z
LAST-MODIFIED:20220106T105836Z
UID:7241-1236297600-1236902399@esa.ipb.pt
SUMMARY:Exposição fotográfica "Portugal Europeu - Meio Século de História"
DESCRIPTION:O Centro de Informação EUROPE DIRECT conjuntamente com o Gabinete em Portugal do Parlamento Europeu e a Representação da Comissão Europeia em Portugal\, promoverá uma exposição fotográfica “Portugal Europeu – Meio Século de História” de 6 a 12 de Março de 2009\, junto ao Auditório Dionísio Gonçalves da Escola Superior Agrária. \n  \nEsta é uma exposição de base fotográfica que reúne um conjunto significativo de imagens\, de documentos\, fotografias de época\, citações\, referências e marcos históricos da história diplomática portuguesa contemporânea\, com incidência nas relações entre o nosso país e o processo de integração europeia. \n  \nDivide-se em quatro períodos marcantes da História de Portugal\, com início no pós-segunda Guerra Mundial. O caminho percorrido por Portugal\, dos primórdios da construção europeia até à actual qualidade de membro de pleno direito da União Europeia. A história de Portugal e a sua relação com a União Europeia é contada de modo apelativo e ilustrado\, com recurso a alguns documentos importantes e imagens elucidativas.
URL:https://esa.ipb.pt/eventos/exposicao-fotografica-portugal-europeu-meio-seculo-de-historia/
END:VEVENT
BEGIN:VEVENT
DTSTART;VALUE=DATE:20090310
DTEND;VALUE=DATE:20090311
DTSTAMP:20260423T191812
CREATED:20220106T105836Z
LAST-MODIFIED:20220106T105836Z
UID:7248-1236643200-1236729599@esa.ipb.pt
SUMMARY:Palestras Amazónia
DESCRIPTION:1ª. Palestra: “Uma herança Portuguesa na Amazónia: 500 anos de cultura”\nProfª Maria de Nazaré Paes de Carvalho \n2ª. Palestra: “Amazónia – Educação\, direito e trabalho indígena”\nProfª. Eneida Assis e Profª. Loreana Santiago Fabeni \nPalestras proferidas por Professoras da Universidade de Belém – Pará (Brasil)\, dia 10 de Março\, às 17 horas\, no Auditório Pequeno da Escola Superior Agrária.
URL:https://esa.ipb.pt/eventos/palestras-amazonia/
CATEGORIES:Palestra
END:VEVENT
BEGIN:VEVENT
DTSTART;VALUE=DATE:20090316
DTEND;VALUE=DATE:20090321
DTSTAMP:20260423T191812
CREATED:20220106T105836Z
LAST-MODIFIED:20220106T105836Z
UID:7236-1237161600-1237593599@esa.ipb.pt
SUMMARY:X Semana das Ciências Agrárias
DESCRIPTION:
URL:https://esa.ipb.pt/eventos/x-semana-das-ciencias-agrarias/
ATTACH;FMTTYPE=image/png:https://esa.ipb.pt/wp-content/uploads/CartazSA2009p.png
END:VEVENT
BEGIN:VEVENT
DTSTART;VALUE=DATE:20090328
DTEND;VALUE=DATE:20090330
DTSTAMP:20260423T191812
CREATED:20220106T105836Z
LAST-MODIFIED:20220106T105836Z
UID:7254-1238198400-1238371199@esa.ipb.pt
SUMMARY:II Seminário de Treino e Comportamento Canino
DESCRIPTION:
URL:https://esa.ipb.pt/eventos/ii-seminario-de-treino-e-comportamento-canino/
CATEGORIES:Seminário
END:VEVENT
BEGIN:VEVENT
DTSTART;VALUE=DATE:20090401
DTEND;VALUE=DATE:20090403
DTSTAMP:20260423T191812
CREATED:20220106T105836Z
LAST-MODIFIED:20220106T105836Z
UID:7244-1238544000-1238716799@esa.ipb.pt
SUMMARY:Workshop em Dermofarmácia
DESCRIPTION:
URL:https://esa.ipb.pt/eventos/2009-workshop-em-dermofarmacia/
CATEGORIES:Workshop
END:VEVENT
BEGIN:VEVENT
DTSTART;VALUE=DATE:20090419
DTEND;VALUE=DATE:20090425
DTSTAMP:20260423T191812
CREATED:20220106T105836Z
LAST-MODIFIED:20220106T105836Z
UID:7258-1240099200-1240617599@esa.ipb.pt
SUMMARY:XX Taça das Agrárias
DESCRIPTION:
URL:https://esa.ipb.pt/eventos/xx-taca-das-agrarias/
END:VEVENT
BEGIN:VEVENT
DTSTART;VALUE=DATE:20090422
DTEND;VALUE=DATE:20090424
DTSTAMP:20260423T191812
CREATED:20220106T105836Z
LAST-MODIFIED:20220106T105836Z
UID:7264-1240358400-1240531199@esa.ipb.pt
SUMMARY:Curso de Bioinformática 2009
DESCRIPTION:
URL:https://esa.ipb.pt/eventos/curso-de-bioinformatica-2009/
END:VEVENT
BEGIN:VEVENT
DTSTART;VALUE=DATE:20090505
DTEND;VALUE=DATE:20090508
DTSTAMP:20260423T191812
CREATED:20220106T105836Z
LAST-MODIFIED:20220106T105836Z
UID:7267-1241481600-1241740799@esa.ipb.pt
SUMMARY:Seminários 5ª Edição da Semana Erasmus
DESCRIPTION:5 de Maio\n\n“Explotation and growing peculiarities of oil seed rape (Brassica napus spp. oleifera)”  Apresentado pela Prof Zinta Gaile da Latvia University of Agriculture (Letónia)\, pelas 16:00 horas\, na sala G3-S3/02.\n\n\n“La estacionalidad en la calidad de la leche de ovino”  Apresentado pelo Prof. Pedro Acero da Universidad de Valladolid (Espanha)\, pelas 16:00 horas\, no Auditório Pequeno.\n\n\n“Organic Farming in Poland. The activity of students and lectures of the Agricultural and Forest Technology on the Opole University of Technology” Apresentado pela Prof. Domimika Matuszek da Opole University\, pelas 17:00 horas\, na sala G3-S3/03.\n\n\n“ Biotecnologia e os fungos entomopatogénicos em protecção das culturas” Apresentado pelo Prof. Enrique Quesada da Universidad de Córdoba (Espanha)\, pelas 17:00 horas\, na Sala Cave.\n\n7 de Maio\n\n“Residuos y contaminación de alimentos derivada del manejo animal” Apresentado pela Prof. Begoña Asenjo da Universidad de Valladolid (Espanha)\, pelas 10:00 horas\, na Auditório Pequeno.\n\n\n“Latvia – socio-economic centre of Baltic States” Apresentado pela Prof. Gunta Grinberga da Latvia University of Agriculture (Letónia)\, pelas 10:30 horas\, na Auditório Cave.\n\n\n“Problems with Human Resources and solutions” Apresentado pela Prof. Lasma Licite da Latvia University of Agriculture (Letónia)\, pelas 11:30 horas\, na Auditório Cave.\n\n\n“Toponimia y Paisaje Histórico del Camino de Santiago a su paso por la Provincia de Palencia. Aplicación SIG” Apresentado pelo Prof. Manuel Betegón da Universidad de Valladolid (Espanha)\, pelas 14:30 horas\, na G3-S5/01.\n\n\n“Biological weed control” Apresentado pela Prof. Maija Ausmene da Latvia University of Agriculture (Letónia)\, pelas 16:00 horas\, no Laboratório de Fito 2.\n\n\n “Importancia del contenedor en la calidad de planta forestal” Apresentado pelo Prof. Fermín Garrido da Universidad de Valladolid (Espanha)\, pelas 16:00 horas\, no Auditório Pequeno.
URL:https://esa.ipb.pt/eventos/seminarios-5-edicao-da-semana-erasmus/
END:VEVENT
BEGIN:VEVENT
DTSTART;VALUE=DATE:20090515
DTEND;VALUE=DATE:20090616
DTSTAMP:20260423T191812
CREATED:20220106T105836Z
LAST-MODIFIED:20220106T105836Z
UID:7275-1242345600-1245110399@esa.ipb.pt
SUMMARY:Exposição de fotografia “CORPO NA NATUREZA”
DESCRIPTION:
URL:https://esa.ipb.pt/eventos/exposicao-de-fotografia-corpo-na-natureza/
END:VEVENT
BEGIN:VEVENT
DTSTART;VALUE=DATE:20090516
DTEND;VALUE=DATE:20090518
DTSTAMP:20260423T191812
CREATED:20220106T105836Z
LAST-MODIFIED:20220106T105836Z
UID:7261-1242432000-1242604799@esa.ipb.pt
SUMMARY:Curso: Ecologia da Paisagem - A Paisagem no Turismo Rural e de Natureza
DESCRIPTION:
URL:https://esa.ipb.pt/eventos/curso-ecologia-da-paisagem-a-paisagem-no-turismo-rural-e-de-natureza/
END:VEVENT
BEGIN:VEVENT
DTSTART;VALUE=DATE:20090604
DTEND;VALUE=DATE:20090606
DTSTAMP:20260423T191812
CREATED:20220106T105836Z
LAST-MODIFIED:20220106T105836Z
UID:7280-1244073600-1244246399@esa.ipb.pt
SUMMARY:Ciclo de Conferências
DESCRIPTION:Dia 4 de Junho (quinta-feira)\, 14h30m: \n\n“Experiencias en Agricultura de Conservación”\n\nPor Mariano Nogales \nEscuela Técnica Superior de Ingenierías Agrarias de Palência/Universidad Valladolid \n  \nDia 4 de Junho (quinta-feira)\, 16h00m: \n\n“Testes de Adubadoras en Campo”\n\nPor Prof. Raúl Araújo \nEscuela Técnica Superior de Ingenierías Agrarias de Palência/Universidad Valladolid \n  \nDia 5 de Junho (sexta-feira)\, 14h30m: \n\n“Analisis Cluster-Kmedias”\n\nPor Roberto San Martin \nEscuela Técnica Superior de Ingenierías Agrarias de Palência/Universidad de Valladolid
URL:https://esa.ipb.pt/eventos/2009-ciclo-de-conferencias/
CATEGORIES:Conferência
END:VEVENT
BEGIN:VEVENT
DTSTART;VALUE=DATE:20090605
DTEND;VALUE=DATE:20090606
DTSTAMP:20260423T191812
CREATED:20220106T105836Z
LAST-MODIFIED:20220106T105836Z
UID:7282-1244160000-1244246399@esa.ipb.pt
SUMMARY:Palestra - seminário de Biotecnologia da Produção Vegetal
DESCRIPTION:Na próxima 6ª feira\, dia 5 de Junho\, pelas 14h\, na sala G3-S3-02 da ESA\, no âmbito do mestrado em Produções Biotecnológicas\, haverá um Seminário de Biotecnologia da Produção Vegetal pela Professora Doutora Maria Salomé Pais\, Professora Catedrática da Faculdade de Ciências da Universidade Clássica de Lisboa e especialista em Biotecnologia Vegetal do ICAT
URL:https://esa.ipb.pt/eventos/palestra-seminario-de-biotecnologia-da-producao-vegetal/
CATEGORIES:Palestra
END:VEVENT
BEGIN:VEVENT
DTSTART;VALUE=DATE:20090606
DTEND;VALUE=DATE:20090608
DTSTAMP:20260423T191812
CREATED:20220106T105836Z
LAST-MODIFIED:20220106T105836Z
UID:7269-1244246400-1244419199@esa.ipb.pt
SUMMARY:Introdução à Identificação de Orquídeas Silvestres\, 3ª edição
DESCRIPTION:
URL:https://esa.ipb.pt/eventos/introducao-a-identificacao-de-orquideas-silvestres-3a-edicao/
CATEGORIES:Workshop
END:VEVENT
BEGIN:VEVENT
DTSTART;VALUE=DATE:20090720
DTEND;VALUE=DATE:20090725
DTSTAMP:20260423T191812
CREATED:20220106T105836Z
LAST-MODIFIED:20220106T105836Z
UID:7272-1248048000-1248479999@esa.ipb.pt
SUMMARY:Verão Ciência no IPB 2009 - Ocupação Cientifica de Jovens nas Férias 2009
DESCRIPTION:
URL:https://esa.ipb.pt/eventos/verao-ciencia-no-ipb-2009-ocupacao-cientifica-de-jovens-nas-ferias-2009/
END:VEVENT
BEGIN:VEVENT
DTSTART;VALUE=DATE:20090911
DTEND;VALUE=DATE:20090914
DTSTAMP:20260423T191812
CREATED:20220106T105836Z
LAST-MODIFIED:20220106T105836Z
UID:7287-1252627200-1252886399@esa.ipb.pt
SUMMARY:Curso de Formação Avaliação de peças de caça no acto da caçada
DESCRIPTION:
URL:https://esa.ipb.pt/eventos/curso-de-formacao-avaliacao-de-pecas-de-caca-no-acto-da-cacada/
END:VEVENT
BEGIN:VEVENT
DTSTART;VALUE=DATE:20090923
DTEND;VALUE=DATE:20091029
DTSTAMP:20260423T191812
CREATED:20220106T105836Z
LAST-MODIFIED:20220106T105836Z
UID:7290-1253664000-1256774399@esa.ipb.pt
SUMMARY:Actividades de recepção aos Novos Alunos
DESCRIPTION:23 de Setembro – Inquérito aos caloiros\n30 de Setembro – Passeio pela Cidade e Visita aos Museus (Centro de Arte Contemporânea Graça Morais\, Centro Ciência Viva\, Museu da Máscara e do Traje e Museu Militar).\n7 de Outubro – Caça ao Tesouro no Castelo\n14 de Outubro – Praxe Solidária – Recolha de Alimentos pela Cidade para entrega a instituições de solidariedade social de Bragança.\n21 de Outubro – Passeio/Visita-guiada à Serra de Nogueira\n28 de Outubro – Arraial\n\nAcrescem a estas actividades\, da responsabilidade da AEESAB\, a iniciativa “IPB e CMB levam Novos Alunos ao Teatro” a ter lugar nos dias 1\, 8 e 15 de Outubro (Festival Internacional Douro Jazz) para\, respectivamente\, Novos Alunos e Comissões de Praxe da ESA + ESSa\, ESTIG e ESE\, da responsabilidade do IPB e CMB e a Festa de Recepção/Magusto\, no próximo dia 21 de Outubro\, pelas 15h\, no Auditório ao Ar Livre
URL:https://esa.ipb.pt/eventos/actividades-de-recepcao-aos-novos-alunos/
END:VEVENT
BEGIN:VEVENT
DTSTART;VALUE=DATE:20091008
DTEND;VALUE=DATE:20091010
DTSTAMP:20260423T191812
CREATED:20220106T105836Z
LAST-MODIFIED:20220106T105836Z
UID:7284-1254960000-1255132799@esa.ipb.pt
SUMMARY:Conferência Qualidade do Ambiente Urbano: Novos desafios
DESCRIPTION:
URL:https://esa.ipb.pt/eventos/conferencia-qualidade-do-ambiente-urbano-novos-desafios/
CATEGORIES:Conferência
END:VEVENT
BEGIN:VEVENT
DTSTART;VALUE=DATE:20091111
DTEND;VALUE=DATE:20091112
DTSTAMP:20260423T191812
CREATED:20220106T105836Z
LAST-MODIFIED:20220106T105836Z
UID:7298-1257897600-1257983999@esa.ipb.pt
SUMMARY:II Fórum Internacional de Países Produtores de Castanha
DESCRIPTION:
URL:https://esa.ipb.pt/eventos/ii-forum-internacional-de-paises-produtores-de-castanha/
CATEGORIES:Seminário
END:VEVENT
BEGIN:VEVENT
DTSTART;VALUE=DATE:20091113
DTEND;VALUE=DATE:20091115
DTSTAMP:20260423T191812
CREATED:20220106T105836Z
LAST-MODIFIED:20220106T105836Z
UID:7295-1258070400-1258243199@esa.ipb.pt
SUMMARY:Curso Prático Cultivo de Cogumelos
DESCRIPTION:
URL:https://esa.ipb.pt/eventos/2009-curso-pratico-cultivo-de-cogumelos/
END:VEVENT
BEGIN:VEVENT
DTSTART;VALUE=DATE:20091118
DTEND;VALUE=DATE:20091119
DTSTAMP:20260423T191812
CREATED:20220106T105836Z
LAST-MODIFIED:20220106T105836Z
UID:7302-1258502400-1258588799@esa.ipb.pt
SUMMARY:“A montanha na avaliação portuguesa do Millennium Ecosystem Assessment”
DESCRIPTION:Ciclo de Conferências do CIMO Sustentabilidade da Montanha Portuguesa: Realidades e Desafios\nCentro de Investigação de Montanha\, Escola Superior Agrária\, Instituto Politécnico de Bragança \n“A montanha na avaliação portuguesa do Millennium Ecosystem Assessment”\nCarlos Aguiar & Orlando Rodrigues\, CIMO – ESA/IPB\nAuditório Dionísio Gonçalves\, ESAB\, 16h00
URL:https://esa.ipb.pt/eventos/a-montanha-na-avaliacao-portuguesa-do-millennium-ecosystem-assessment/
CATEGORIES:Conferência
END:VEVENT
BEGIN:VEVENT
DTSTART;VALUE=DATE:20091123
DTEND;VALUE=DATE:20091128
DTSTAMP:20260423T191812
CREATED:20220106T105836Z
LAST-MODIFIED:20220106T105836Z
UID:7292-1258934400-1259366399@esa.ipb.pt
SUMMARY:Semana da Ciência e da Tecnologia 2009
DESCRIPTION:
URL:https://esa.ipb.pt/eventos/semana-da-ciencia-e-da-tecnologia-2009/
END:VEVENT
BEGIN:VEVENT
DTSTART;VALUE=DATE:20091202
DTEND;VALUE=DATE:20091205
DTSTAMP:20260423T191812
CREATED:20220106T105836Z
LAST-MODIFIED:20220106T105836Z
UID:7308-1259712000-1259971199@esa.ipb.pt
SUMMARY:Workshop em Dermofarmácia
DESCRIPTION:
URL:https://esa.ipb.pt/eventos/2009-workshop-em-dermofarmacia-2/
CATEGORIES:Workshop
END:VEVENT
BEGIN:VEVENT
DTSTART;VALUE=DATE:20091205
DTEND;VALUE=DATE:20091206
DTSTAMP:20260423T191812
CREATED:20220106T105836Z
LAST-MODIFIED:20220106T105836Z
UID:7312-1259971200-1260057599@esa.ipb.pt
SUMMARY:Palestras sobre Colecções de Culturas de Microrganismos
DESCRIPTION:No âmbito da Unidade Curricular ‘Produção e Análise Microbiana’ do Mestrado em Produções Biotecnológicas\, vão ser proferidas duas palestras sobre Colecções de Culturas de Microrganismos no dia 5 de Dezembro\, entre as 14h e as 18h\, no Auditório Dionísio Gonçalves.\nAs palestras serão proferidas pelo Professor Doutor Nelson Lima e pela Doutora Isabel Santos\, ambos da Universidade do Minho.\nConvidam-se todos os interessados a estar presentes.
URL:https://esa.ipb.pt/eventos/palestras-sobre-coleccoes-de-culturas-de-microrganismos/
CATEGORIES:Palestra
END:VEVENT
BEGIN:VEVENT
DTSTART;VALUE=DATE:20091216
DTEND;VALUE=DATE:20091217
DTSTAMP:20260423T191812
CREATED:20220106T105836Z
LAST-MODIFIED:20220106T105836Z
UID:7306-1260921600-1261007999@esa.ipb.pt
SUMMARY:“A geografia e o clima das montanhas ibéricas”
DESCRIPTION:Ciclo de Conferências do CIMO Sustentabilidade da Montanha Portuguesa: Realidades e Desafios\nCentro de Investigação de Montanha\, Escola Superior Agrária\, Instituto Politécnico de Bragança \n“A geografia e o clima das montanhas ibéricas”\nDionísio Gonçalves\, CIMO – ESA/IPB\nAuditório Pequeno\, ESAB\, 16h00
URL:https://esa.ipb.pt/eventos/a-geografia-e-o-clima-das-montanhas-ibericas/
CATEGORIES:Conferência
END:VEVENT
BEGIN:VEVENT
DTSTART;VALUE=DATE:20100116
DTEND;VALUE=DATE:20100117
DTSTAMP:20260423T191812
CREATED:20220106T105836Z
LAST-MODIFIED:20220106T105836Z
UID:7317-1263600000-1263686399@esa.ipb.pt
SUMMARY:Palestra sobre Micotoxicologia Alimentar
DESCRIPTION:No âmbito das Unidades Curriculares ‘Produção e Análise Microbiana’ do Mestrado em Produções Biotecnológicas e ‘Controlo Microbiológico’ do Mestrado em Qualidade e Segurança Alimentar\, vai ser proferida uma palestra sobre Micotoxicologia Alimentar no dia 16 de Janeiro\, às 14 horas\, no Auditório Pequeno.\nA palestra será proferida pelo Professor Armando Venâncio\, da Universidade do Minho.\nConvidam-se todos os interessados a estarem presentes.
URL:https://esa.ipb.pt/eventos/palestra-sobre-micotoxicologia-alimentar/
CATEGORIES:Palestra
END:VEVENT
BEGIN:VEVENT
DTSTART;VALUE=DATE:20100123
DTEND;VALUE=DATE:20100124
DTSTAMP:20260423T191812
CREATED:20220106T105836Z
LAST-MODIFIED:20220106T105836Z
UID:7320-1264204800-1264291199@esa.ipb.pt
SUMMARY:Palestras - Mestrado Produções Biotecnológicas
DESCRIPTION:No âmbito da U.C. Produção e Análise Microbiana do Mestrado em Produções Biotecnológicas da ESAB\, vão realizar-se 3 palestras proferidas por investigadores do Departamento de Engenharia Biológica da Universidade do Minho.\nAs palestras e os palestrantes serão: \n\n14h – Identificação e autenticação microbiana por MALDI-TOF MS – Doutor Cledir Rodrigues Santos\n15h15 – Aplicações biotecnológicas de fungos – Doutor Luís João Abrunhosa Pereira\n16h30 – Recuperação Avançada de Petróleo com Microrganismos (MEOR) – Doutor Eduardo José Gudiña Pérez\n\nAs palestras decorrerão no dia 23 de Janeiro (Sábado) na Sala G3-S5/01\, nos horários atrás mencionados.\nConvidam-se todos os interessados a estarem presentes.
URL:https://esa.ipb.pt/eventos/palestras-mestrado-producoes-biotecnologicas/
CATEGORIES:Palestra
END:VEVENT
END:VCALENDAR