BEGIN:VCALENDAR
VERSION:2.0
PRODID:-//ESA-IPB - ECPv6.15.20//NONSGML v1.0//EN
CALSCALE:GREGORIAN
METHOD:PUBLISH
X-WR-CALNAME:ESA-IPB
X-ORIGINAL-URL:https://esa.ipb.pt
X-WR-CALDESC:Eventos para ESA-IPB
REFRESH-INTERVAL;VALUE=DURATION:PT1H
X-Robots-Tag:noindex
X-PUBLISHED-TTL:PT1H
BEGIN:VTIMEZONE
TZID:Europe/Lisbon
BEGIN:DAYLIGHT
TZOFFSETFROM:+0000
TZOFFSETTO:+0100
TZNAME:WEST
DTSTART:20240331T010000
END:DAYLIGHT
BEGIN:STANDARD
TZOFFSETFROM:+0100
TZOFFSETTO:+0000
TZNAME:WET
DTSTART:20241027T010000
END:STANDARD
BEGIN:DAYLIGHT
TZOFFSETFROM:+0000
TZOFFSETTO:+0100
TZNAME:WEST
DTSTART:20250330T010000
END:DAYLIGHT
BEGIN:STANDARD
TZOFFSETFROM:+0100
TZOFFSETTO:+0000
TZNAME:WET
DTSTART:20251026T010000
END:STANDARD
BEGIN:DAYLIGHT
TZOFFSETFROM:+0000
TZOFFSETTO:+0100
TZNAME:WEST
DTSTART:20260329T010000
END:DAYLIGHT
BEGIN:STANDARD
TZOFFSETFROM:+0100
TZOFFSETTO:+0000
TZNAME:WET
DTSTART:20261025T010000
END:STANDARD
END:VTIMEZONE
BEGIN:VEVENT
DTSTART;TZID=Europe/Lisbon:20250924T090000
DTEND;TZID=Europe/Lisbon:20250924T180000
DTSTAMP:20260421T202521
CREATED:20250918T090353Z
LAST-MODIFIED:20250918T090555Z
UID:11811-1758704400-1758736800@esa.ipb.pt
SUMMARY:Ano da Água: Seminário “Sustentabilidade e Tecnologia na Gestão da Água em Regiões de Montanha”
DESCRIPTION:O Laboratório Associado LA – SusTEC\, dedicado à Sustentabilidade e Tecnologia em Regiões de Montanha\, promove no dia 24 de setembro\, no IPB\, o Seminário “Sustentabilidade e Tecnologia na Gestão da Água em Regiões de Montanha”. \nO evento\, que terá lugar no Auditório Alcínio Miguel – Escola Superior de Tecnologia e Gestão (ESTiG)\, integra o programa do Ano da Água e constitui um espaço de reflexão e debate sobre um dos recursos mais críticos para o futuro das sociedades. \nO programa inclui dois painéis de especialistas nacionais e internacionais: \n10h00 – 12h30 | Gestão e Conservação da Água\nJosé Carlos Pimenta Machado (Agência Portuguesa do Ambiente)\nÁngel González Santos (Confederación Hidrográfica del Duero\, Espanha)\nRui Cortes (Universidade de Trás-os-Montes e Alto Douro)\nRodrigo Maia (Universidade do Porto) \n15h00 – 17h30 | Uso Eficiente da Água\nAntónio Carmona Rodrigues (Águas de Portugal)\nCláudia Brandão (Direção-Geral de Agricultura e Desenvolvimento Rural)\nJoaquim Poças Martins (Conselho Nacional da Água)\nCarlos da Câmara (Universidade de Lisboa) \nA participação é gratuita\, mas sujeita a inscrição obrigatória: formulário de inscrição. \nMais informações em: https://sustec.ipb.pt/
URL:https://esa.ipb.pt/eventos/ano-da-agua-seminario-sustentabilidade-e-tecnologia-na-gestao-da-agua-em-regioes-de-montanha/
CATEGORIES:Seminário
ATTACH;FMTTYPE=image/png:https://esa.ipb.pt/wp-content/uploads/destaque.png
END:VEVENT
END:VCALENDAR