BEGIN:VCALENDAR
VERSION:2.0
PRODID:-//ESA-IPB - ECPv6.15.20//NONSGML v1.0//EN
CALSCALE:GREGORIAN
METHOD:PUBLISH
X-WR-CALNAME:ESA-IPB
X-ORIGINAL-URL:https://esa.ipb.pt
X-WR-CALDESC:Eventos para ESA-IPB
REFRESH-INTERVAL;VALUE=DURATION:PT1H
X-Robots-Tag:noindex
X-PUBLISHED-TTL:PT1H
BEGIN:VTIMEZONE
TZID:Europe/Lisbon
BEGIN:DAYLIGHT
TZOFFSETFROM:+0000
TZOFFSETTO:+0100
TZNAME:WEST
DTSTART:20250330T010000
END:DAYLIGHT
BEGIN:STANDARD
TZOFFSETFROM:+0100
TZOFFSETTO:+0000
TZNAME:WET
DTSTART:20251026T010000
END:STANDARD
BEGIN:DAYLIGHT
TZOFFSETFROM:+0000
TZOFFSETTO:+0100
TZNAME:WEST
DTSTART:20260329T010000
END:DAYLIGHT
BEGIN:STANDARD
TZOFFSETFROM:+0100
TZOFFSETTO:+0000
TZNAME:WET
DTSTART:20261025T010000
END:STANDARD
BEGIN:DAYLIGHT
TZOFFSETFROM:+0000
TZOFFSETTO:+0100
TZNAME:WEST
DTSTART:20270328T010000
END:DAYLIGHT
BEGIN:STANDARD
TZOFFSETFROM:+0100
TZOFFSETTO:+0000
TZNAME:WET
DTSTART:20271031T010000
END:STANDARD
END:VTIMEZONE
BEGIN:VEVENT
DTSTART;VALUE=DATE:20260327
DTEND;VALUE=DATE:20260328
DTSTAMP:20260424T183144
CREATED:20260320T160627Z
LAST-MODIFIED:20260320T160627Z
UID:13337-1774569600-1774655999@esa.ipb.pt
SUMMARY:Seminário “Turismo e bem-estar: a Natureza como refúgio”
DESCRIPTION:Seminário “Turismo e bem-estar: a Natureza como refúgio”\, que terá lugar no dia 27 de março de 2026\, pelas 14h00\, na Escola Superior Agrária de Bragança (Sala S2.07). \nA sessão será dinamizada por Maria de Lourdes Vale\, Diretora de Turismo de Portugal em Espanha (Embaixada de Portugal em Madrid). \nO seminário abordará o papel da natureza como espaço de refúgio\, bem-estar e desenvolvimento turístico sustentável\, promovendo a reflexão sobre os desafios e as oportunidades nesse contexto. \nInscrição obrigatória (para emissão de certificado): https://forms.gle/kcVYnKmStt1B8EhM8
URL:https://esa.ipb.pt/eventos/seminario-turismo-e-bem-estar-a-natureza-como-refugio/
LOCATION:Escola Superior Agrária de Bragança\, Campus de Santa Apolónia 5300-253\, Bragança\, 5300-253\, Portugal
CATEGORIES:Seminário
ATTACH;FMTTYPE=image/png:https://esa.ipb.pt/wp-content/uploads/2025/06/SeminariosESA.png
END:VEVENT
BEGIN:VEVENT
DTSTART;TZID=Europe/Lisbon:20260331T140000
DTEND;TZID=Europe/Lisbon:20260331T160000
DTSTAMP:20260424T183144
CREATED:20260320T155454Z
LAST-MODIFIED:20260323T085314Z
UID:13330-1774965600-1774972800@esa.ipb.pt
SUMMARY:Seminário de Enfermagem Veterinária: Ambiente térmico e resposta animal
DESCRIPTION:Seminário de Enfermagem Veterinária \nAmbiente térmico e resposta animal: efeitos e consequências \nLeonardo Piffer de Borba – UTFPR \n31 março 2026 – ESA-IPB
URL:https://esa.ipb.pt/eventos/seminario-de-enfermagem-veterinaria-ambiente-termico-e-resposta-animal/
LOCATION:Escola Superior Agrária de Bragança\, Campus de Santa Apolónia 5300-253\, Bragança\, 5300-253\, Portugal
CATEGORIES:Seminário
ATTACH;FMTTYPE=image/png:https://esa.ipb.pt/wp-content/uploads/ev-4.png
END:VEVENT
END:VCALENDAR