BEGIN:VCALENDAR
VERSION:2.0
PRODID:-//ESA-IPB - ECPv6.15.20//NONSGML v1.0//EN
CALSCALE:GREGORIAN
METHOD:PUBLISH
X-ORIGINAL-URL:https://esa.ipb.pt
X-WR-CALDESC:Eventos para ESA-IPB
REFRESH-INTERVAL;VALUE=DURATION:PT1H
X-Robots-Tag:noindex
X-PUBLISHED-TTL:PT1H
BEGIN:VTIMEZONE
TZID:Europe/Lisbon
BEGIN:DAYLIGHT
TZOFFSETFROM:+0000
TZOFFSETTO:+0100
TZNAME:WEST
DTSTART:20220327T010000
END:DAYLIGHT
BEGIN:STANDARD
TZOFFSETFROM:+0100
TZOFFSETTO:+0000
TZNAME:WET
DTSTART:20221030T010000
END:STANDARD
BEGIN:DAYLIGHT
TZOFFSETFROM:+0000
TZOFFSETTO:+0100
TZNAME:WEST
DTSTART:20230326T010000
END:DAYLIGHT
BEGIN:STANDARD
TZOFFSETFROM:+0100
TZOFFSETTO:+0000
TZNAME:WET
DTSTART:20231029T010000
END:STANDARD
BEGIN:DAYLIGHT
TZOFFSETFROM:+0000
TZOFFSETTO:+0100
TZNAME:WEST
DTSTART:20240331T010000
END:DAYLIGHT
BEGIN:STANDARD
TZOFFSETFROM:+0100
TZOFFSETTO:+0000
TZNAME:WET
DTSTART:20241027T010000
END:STANDARD
END:VTIMEZONE
BEGIN:VEVENT
DTSTART;TZID=Europe/Lisbon:20230628T143000
DTEND;TZID=Europe/Lisbon:20230628T160000
DTSTAMP:20260420T044017
CREATED:20230620T093522Z
LAST-MODIFIED:20230620T095423Z
UID:9283-1687962600-1687968000@esa.ipb.pt
SUMMARY:1º Encontro dos Cereais Tradicionais
DESCRIPTION:Inscrição no Webinar: 1º Encontro dos Cereais Tradicionais\nDia: 28 de junho de 2023\, às 14:30 horas\nLocal do evento: Online (Zoom)\nInscrições: https://avbc.me/4uRj5NFK
URL:https://esa.ipb.pt/eventos/1o-encontro-dos-cereais-tradicionais/
CATEGORIES:Webinar
ATTACH;FMTTYPE=image/jpeg:https://esa.ipb.pt/wp-content/uploads/certra.jpg
END:VEVENT
END:VCALENDAR