BEGIN:VCALENDAR
VERSION:2.0
PRODID:-//ESA-IPB - ECPv6.15.20//NONSGML v1.0//EN
CALSCALE:GREGORIAN
METHOD:PUBLISH
X-WR-CALNAME:ESA-IPB
X-ORIGINAL-URL:https://esa.ipb.pt
X-WR-CALDESC:Eventos para ESA-IPB
REFRESH-INTERVAL;VALUE=DURATION:PT1H
X-Robots-Tag:noindex
X-PUBLISHED-TTL:PT1H
BEGIN:VTIMEZONE
TZID:Europe/Lisbon
BEGIN:DAYLIGHT
TZOFFSETFROM:+0000
TZOFFSETTO:+0100
TZNAME:WEST
DTSTART:20240331T010000
END:DAYLIGHT
BEGIN:STANDARD
TZOFFSETFROM:+0100
TZOFFSETTO:+0000
TZNAME:WET
DTSTART:20241027T010000
END:STANDARD
BEGIN:DAYLIGHT
TZOFFSETFROM:+0000
TZOFFSETTO:+0100
TZNAME:WEST
DTSTART:20250330T010000
END:DAYLIGHT
BEGIN:STANDARD
TZOFFSETFROM:+0100
TZOFFSETTO:+0000
TZNAME:WET
DTSTART:20251026T010000
END:STANDARD
BEGIN:DAYLIGHT
TZOFFSETFROM:+0000
TZOFFSETTO:+0100
TZNAME:WEST
DTSTART:20260329T010000
END:DAYLIGHT
BEGIN:STANDARD
TZOFFSETFROM:+0100
TZOFFSETTO:+0000
TZNAME:WET
DTSTART:20261025T010000
END:STANDARD
END:VTIMEZONE
BEGIN:VEVENT
DTSTART;TZID=Europe/Lisbon:20250528T140000
DTEND;TZID=Europe/Lisbon:20250528T160000
DTSTAMP:20260420T013322
CREATED:20250528T090409Z
LAST-MODIFIED:20250528T091245Z
UID:11137-1748440800-1748448000@esa.ipb.pt
SUMMARY:Coprodutos agroindustriais na alimentação animal
DESCRIPTION:Coprodutos agroindustriais na alimentação animal \nKátia Paulos do Instituto Nacional de Investigação Agrária e Veterinária em Santarém \n28 maio 2025 – 14h – Auditório DG – ESA-IPB
URL:https://esa.ipb.pt/eventos/coprodutos-agroindustriais-na-alimentacao-animal/
LOCATION:Escola Superior Agrária de Bragança\, Campus de Santa Apolónia 5300-253\, Bragança\, 5300-253\, Portugal
CATEGORIES:Seminário
ATTACH;FMTTYPE=image/png:https://esa.ipb.pt/wp-content/uploads/SeminariosESA.png
END:VEVENT
END:VCALENDAR