BEGIN:VCALENDAR
VERSION:2.0
PRODID:-//ESA-IPB - ECPv6.15.20//NONSGML v1.0//EN
CALSCALE:GREGORIAN
METHOD:PUBLISH
X-WR-CALNAME:ESA-IPB
X-ORIGINAL-URL:https://esa.ipb.pt
X-WR-CALDESC:Eventos para ESA-IPB
REFRESH-INTERVAL;VALUE=DURATION:PT1H
X-Robots-Tag:noindex
X-PUBLISHED-TTL:PT1H
BEGIN:VTIMEZONE
TZID:Europe/Lisbon
BEGIN:DAYLIGHT
TZOFFSETFROM:+0000
TZOFFSETTO:+0100
TZNAME:WEST
DTSTART:20220327T010000
END:DAYLIGHT
BEGIN:STANDARD
TZOFFSETFROM:+0100
TZOFFSETTO:+0000
TZNAME:WET
DTSTART:20221030T010000
END:STANDARD
BEGIN:DAYLIGHT
TZOFFSETFROM:+0000
TZOFFSETTO:+0100
TZNAME:WEST
DTSTART:20230326T010000
END:DAYLIGHT
BEGIN:STANDARD
TZOFFSETFROM:+0100
TZOFFSETTO:+0000
TZNAME:WET
DTSTART:20231029T010000
END:STANDARD
BEGIN:DAYLIGHT
TZOFFSETFROM:+0000
TZOFFSETTO:+0100
TZNAME:WEST
DTSTART:20240331T010000
END:DAYLIGHT
BEGIN:STANDARD
TZOFFSETFROM:+0100
TZOFFSETTO:+0000
TZNAME:WET
DTSTART:20241027T010000
END:STANDARD
END:VTIMEZONE
BEGIN:VEVENT
DTSTART;VALUE=DATE:20230602
DTEND;VALUE=DATE:20230604
DTSTAMP:20260424T035314
CREATED:20230503T134346Z
LAST-MODIFIED:20230503T134346Z
UID:9094-1685664000-1685836799@esa.ipb.pt
SUMMARY:Cultura de Células Animais e Aplicações Clínicas
DESCRIPTION:Cultura de Células Animais e Aplicações Clínicas\n2 e 3 de junho 2023 \nInscrições e mais informações em : https://esa.ipb.pt/cch/
URL:https://esa.ipb.pt/eventos/cultura-de-celulas-animais-e-aplicacoes-clinicas-2023/
LOCATION:Brigantia Ecopark\, Bragança\, Portugal
CATEGORIES:Curso,Workshop
ATTACH;FMTTYPE=image/png:https://esa.ipb.pt/wp-content/uploads/ccaac.png
END:VEVENT
BEGIN:VEVENT
DTSTART;TZID=Europe/Lisbon:20230623T100000
DTEND;TZID=Europe/Lisbon:20230623T130000
DTSTAMP:20260424T035314
CREATED:20230623T105916Z
LAST-MODIFIED:20240410T142545Z
UID:9291-1687514400-1687525200@esa.ipb.pt
SUMMARY:Seminários de Enfermagem Veterinária: Anestesia loco-regional em pequenos ruminantes
DESCRIPTION:Seminários de Enfermagem Veterinária\nAnestesia loco-regional em pequenos ruminantes\nProf. Joana Zafalon Ferreira\nInstituto Federal Minas Gerais\nCampus Bambuí – Brasil \n23 junho 2023 10h-13h \nCentro Pedagógico Veterinário ESA-IPB
URL:https://esa.ipb.pt/eventos/seminarios-de-enfermagem-veterinaria-anestesia-loco-regional-em-pequenos-ruminantes/
LOCATION:Escola Superior Agrária de Bragança\, Campus de Santa Apolónia 5300-253\, Bragança\, 5300-253\, Portugal
CATEGORIES:Workshop
ATTACH;FMTTYPE=image/png:https://esa.ipb.pt/wp-content/uploads/ev-3.png
END:VEVENT
BEGIN:VEVENT
DTSTART;TZID=Europe/Lisbon:20230630T100000
DTEND;TZID=Europe/Lisbon:20230630T140000
DTSTAMP:20260424T035314
CREATED:20230620T093243Z
LAST-MODIFIED:20230620T100038Z
UID:9279-1688119200-1688133600@esa.ipb.pt
SUMMARY:Workshop 2023: Produção de Apitoxina
DESCRIPTION:
URL:https://esa.ipb.pt/eventos/workshop-2023-producao-de-apitoxina/
CATEGORIES:Workshop
ATTACH;FMTTYPE=image/jpeg:https://esa.ipb.pt/wp-content/uploads/Captura-de-ecra-2023-06-16-as-17.33.46.jpeg
END:VEVENT
END:VCALENDAR