BEGIN:VCALENDAR
VERSION:2.0
PRODID:-//ESA-IPB - ECPv6.15.20//NONSGML v1.0//EN
CALSCALE:GREGORIAN
METHOD:PUBLISH
X-ORIGINAL-URL:https://esa.ipb.pt
X-WR-CALDESC:Eventos para ESA-IPB
REFRESH-INTERVAL;VALUE=DURATION:PT1H
X-Robots-Tag:noindex
X-PUBLISHED-TTL:PT1H
BEGIN:VTIMEZONE
TZID:Europe/Lisbon
BEGIN:DAYLIGHT
TZOFFSETFROM:+0000
TZOFFSETTO:+0100
TZNAME:WEST
DTSTART:20220327T010000
END:DAYLIGHT
BEGIN:STANDARD
TZOFFSETFROM:+0100
TZOFFSETTO:+0000
TZNAME:WET
DTSTART:20221030T010000
END:STANDARD
BEGIN:DAYLIGHT
TZOFFSETFROM:+0000
TZOFFSETTO:+0100
TZNAME:WEST
DTSTART:20230326T010000
END:DAYLIGHT
BEGIN:STANDARD
TZOFFSETFROM:+0100
TZOFFSETTO:+0000
TZNAME:WET
DTSTART:20231029T010000
END:STANDARD
BEGIN:DAYLIGHT
TZOFFSETFROM:+0000
TZOFFSETTO:+0100
TZNAME:WEST
DTSTART:20240331T010000
END:DAYLIGHT
BEGIN:STANDARD
TZOFFSETFROM:+0100
TZOFFSETTO:+0000
TZNAME:WET
DTSTART:20241027T010000
END:STANDARD
END:VTIMEZONE
BEGIN:VEVENT
DTSTART;TZID=Europe/Lisbon:20230512T160000
DTEND;TZID=Europe/Lisbon:20230512T180000
DTSTAMP:20260424T054603
CREATED:20230512T094115Z
LAST-MODIFIED:20230512T094237Z
UID:9162-1683907200-1683914400@esa.ipb.pt
SUMMARY:Ciclo de Workshops Trace IPB - Comunicação Assertiva
DESCRIPTION:Segundo Workshop do ciclo do projeto Trace IPB\, direcionado para as competências de comunicação. \nDesta vez será abordada a comunicação assertiva\, e para todos aqueles que têm interesse em aprimorar suas habilidades\, esta é uma excelente oportunidade. \nA boa comunicação é uma parte fundamental do sucesso\, por isso\, não percam! \nContamos com a vossa presença amanhã a partir das 16h00 no pequeno auditório da Escola Agrária. \nNão se esqueçam de se inscrever para participarem: https://forms.gle/zmRLFqt2x4DDuBMT6
URL:https://esa.ipb.pt/eventos/ciclo-de-workshops-trace-ipb-comunicacao-assertiva/
LOCATION:Escola Superior Agrária de Bragança\, Campus de Santa Apolónia 5300-253\, Bragança\, 5300-253\, Portugal
CATEGORIES:Workshop
END:VEVENT
BEGIN:VEVENT
DTSTART;TZID=Europe/Lisbon:20230516T140000
DTEND;TZID=Europe/Lisbon:20230516T180000
DTSTAMP:20260424T054603
CREATED:20230511T083159Z
LAST-MODIFIED:20230511T083455Z
UID:9110-1684245600-1684260000@esa.ipb.pt
SUMMARY:A problemática das plantas exóticas invasoras na região de Bragança
DESCRIPTION:A ação de sensibilização/formação será administrada em duas etapas: teórica e prática. Na parte teórica: será ministrado uma palestra sobre o processo de invasão por espécies exóticas\, os possíveis efeitos das espécies exóticas invasoras sobre os ecossistemas e técnicas de controlo. Após a parte teórica será realizada uma atividade prática no campus do Instituto Politécnico de Bragança\, a realizar atividade de controlo da espécie Ailanthus altissima. \n \nNo próximo dia 16 de maio decorrerá na ESA uma atividade sobre “A PROBLEMÁTICA DAS PLANTAS EXÓTICAS INVASORAS NA REGIÃO DE BRAGANÇA” integrada na “Semana sobre Espécies Invasoras 2023”: https://www.speco.pt/pt/iniciativas/semana-sobre-especies-invasoras-2023 \nA atividade terá início às 14h00 na Sala Prof. Doutor Correia Araújo e será conduzida por Dionatan Gerber\, aluno de Doutoramento do CIMO/IPB. \nSerão emitidos certificado de participação. \nInscrições em https://forms.gle/7UNxfqLAi4683QsC7
URL:https://esa.ipb.pt/eventos/a-problematica-das-plantas-exoticas-invasoras-na-regiao-de-braganca/
LOCATION:Escola Superior Agrária de Bragança\, Campus de Santa Apolónia 5300-253\, Bragança\, 5300-253\, Portugal
CATEGORIES:Palestra,Workshop
ATTACH;FMTTYPE=image/png:https://esa.ipb.pt/wp-content/uploads/logo-sei23-1.png
END:VEVENT
BEGIN:VEVENT
DTSTART;TZID=Europe/Lisbon:20230519T160000
DTEND;TZID=Europe/Lisbon:20230519T180000
DTSTAMP:20260424T054603
CREATED:20230519T080039Z
LAST-MODIFIED:20230519T080039Z
UID:9182-1684512000-1684519200@esa.ipb.pt
SUMMARY:Ciclo de Workshops Trace IPB – Gestão de tempo e de stress
DESCRIPTION:A gestão do tempo e do stresse tem se tornado cada vez mais complexa. É muito comum que nos sintamos sobrecarregados e estressados com a quantidade de tarefas e obrigações cotidianas. E é pensando nestes problemas que resolvemos promover um Workshop direcionado para o desenvolvimento de capacidades para uma Melhor gestão do tempo e de stress. \nE já amanhã (19 de maio) às 16h00 no pequeno auditório da Escola Agrária. \nNão se esqueça de se inscrever e aproveitar essa oportunidade. Invista seu tempo na aquisição de competências que fazem a diferença! \nLink para inscrição: https://forms.gle/9Aa7Xp7hcNpzsmc4A
URL:https://esa.ipb.pt/eventos/ciclo-de-workshops-trace-ipb-gestao-de-tempo-e-de-stress/
LOCATION:Escola Superior Agrária de Bragança\, Campus de Santa Apolónia 5300-253\, Bragança\, 5300-253\, Portugal
CATEGORIES:Workshop
END:VEVENT
BEGIN:VEVENT
DTSTART;VALUE=DATE:20230526
DTEND;VALUE=DATE:20230527
DTSTAMP:20260424T054603
CREATED:20230523T114424Z
LAST-MODIFIED:20230523T114424Z
UID:9189-1685059200-1685145599@esa.ipb.pt
SUMMARY:Workshop de Primeiro Socorros em Enfermagem Veterinária
DESCRIPTION:Workshop de Primeiro Socorros em Enfermagem Veterinária\n26 maio 2023\nAuditório C ESA-IPB \nInscrição obrigatória junto do Núcleo de Estudantes de Veterinária
URL:https://esa.ipb.pt/eventos/workshop-de-primeiro-socorros-em-enfermagem-veterinaria/
LOCATION:Escola Superior Agrária de Bragança\, Campus de Santa Apolónia 5300-253\, Bragança\, 5300-253\, Portugal
CATEGORIES:Workshop
END:VEVENT
END:VCALENDAR