BEGIN:VCALENDAR
VERSION:2.0
PRODID:-//ESA-IPB - ECPv6.15.20//NONSGML v1.0//EN
CALSCALE:GREGORIAN
METHOD:PUBLISH
X-ORIGINAL-URL:https://esa.ipb.pt
X-WR-CALDESC:Eventos para ESA-IPB
REFRESH-INTERVAL;VALUE=DURATION:PT1H
X-Robots-Tag:noindex
X-PUBLISHED-TTL:PT1H
BEGIN:VTIMEZONE
TZID:Europe/Lisbon
BEGIN:DAYLIGHT
TZOFFSETFROM:+0000
TZOFFSETTO:+0100
TZNAME:WEST
DTSTART:20200329T010000
END:DAYLIGHT
BEGIN:STANDARD
TZOFFSETFROM:+0100
TZOFFSETTO:+0000
TZNAME:WET
DTSTART:20201025T010000
END:STANDARD
BEGIN:DAYLIGHT
TZOFFSETFROM:+0000
TZOFFSETTO:+0100
TZNAME:WEST
DTSTART:20210328T010000
END:DAYLIGHT
BEGIN:STANDARD
TZOFFSETFROM:+0100
TZOFFSETTO:+0000
TZNAME:WET
DTSTART:20211031T010000
END:STANDARD
BEGIN:DAYLIGHT
TZOFFSETFROM:+0000
TZOFFSETTO:+0100
TZNAME:WEST
DTSTART:20220327T010000
END:DAYLIGHT
BEGIN:STANDARD
TZOFFSETFROM:+0100
TZOFFSETTO:+0000
TZNAME:WET
DTSTART:20221030T010000
END:STANDARD
END:VTIMEZONE
BEGIN:VEVENT
DTSTART;VALUE=DATE:20210407
DTEND;VALUE=DATE:20210408
DTSTAMP:20260424T204645
CREATED:20220106T105836Z
LAST-MODIFIED:20220106T105836Z
UID:8503-1617753600-1617839999@esa.ipb.pt
SUMMARY:Webinar “Combate ao Desperdício Alimentar | Da Investigação à Indústria - Estratégias Integradas para a Valorização do Setor Agroalimentar"
DESCRIPTION:
URL:https://esa.ipb.pt/eventos/webinar-combate-ao-desperdicio-alimentar-da-investigacao-a-industria-estrategias-integradas-para-a-valorizacao-do-setor-agroalimentar/
CATEGORIES:Webinar
END:VEVENT
BEGIN:VEVENT
DTSTART;VALUE=DATE:20210422
DTEND;VALUE=DATE:20210423
DTSTAMP:20260424T204645
CREATED:20220106T105836Z
LAST-MODIFIED:20220106T105836Z
UID:8506-1619049600-1619135999@esa.ipb.pt
SUMMARY:Futuro da Europa – Plano de Recuperação e Resiliência
DESCRIPTION:
URL:https://esa.ipb.pt/eventos/futuro-da-europa-plano-de-recuperacao-e-resiliencia/
CATEGORIES:Webinar
END:VEVENT
END:VCALENDAR